{"text_format":"5","workbook":"xlsx","n_sheets":34,"sheets":["보정치","3월 약식","3월 수입 상세","3월 지출 상세","4월 약식","4월 수입 상세","4월 지출 상세","5월 약식","5월 수입 상세","5월 지출 상세","6월 약식","6월 수입 상세","6월 지출 상세","7월 약식","7월 수입 상세","7월 지출 상세","8월 약식","8월 수입 상세","8월 지출 상세","9월 약식","9월 수입 상세","9월 지출 상세","10월 약식","10월 수입 상세","10월 지출 상세","11월 약식","11월 수입 상세","11월 지출 상세","12월 약식","12월 수입 상세","12월 지출 상세","1월 약식","1월 수입 상세","1월 지출 상세"],"props":{"creator":"user","last_modified_by":"Soon Hwang KWEON"},"not_rendered":{"images":1,"defined_names":44},"read":"whole","date_system":"1900"}

{"sheet":"보정치","index":0,"n_rows":94,"n_cols":5,"rows_kept":94,"hidden":true}
[]
[null,"분류항목",null,null,"당기"]
[null,"1. 예배운영비",null,null,{"$f":"SUM(E4:E7)","v":393900}]
[null,"   1.1 성례예식비",null,null,0]
[null,"   1.2 주보인쇄비",null,null,0]
[null,"   1.3 강사접대비",null,null,137000]
[null,"   1.4 예배준비비",null,null,{"$f":"SUM(E8:E10)","v":256900}]
[null,"      1.4.1 성전 꽃꽂이",null,null,0]
[null,"      1.4.2 봉사자 식사",null,null,256900]
[null,"      1.4.3 절기행사비",null,null,0]
[null,"2. 교육운영비",null,null,{"$f":"SUM(E12:E19)","v":645480}]
[null,"   2.1 주일성서연구운영비",null,null,0]
[null,"   2.2 도서 및 교재",null,null,326100]
[null,"   2.3 전교인수양회 행사비",null,null,0]
[null,"   2.4 교목연수비",null,null,0]
[null,"   2.5 교역자 교육훈련비",null,null,319380]
[null,"   2.6 교사세미나/교역자worshop",null,null,0]
[null,"   2.7 교육부 운영비",null,null,0]
[null,"   2.8 교육운영 예비비",null,null,0]
[null,"3. 선교비",null,null,{"$f":"SUM(E21,E32,E34,E33,E35)","v":0}]
[null,"   3.1 학원선교",null,null,{"$f":"SUM(E22:E31)","v":0}]
[null,"      3.1.1 간식나눔행사(신촌)",null,null,0]
[null,"      3.1.2 간식나눔행사(국제)",null,null,0]
[null,"      3.1.3 교목실 점심나눔 후원",null,null,0]
[null,"      3.1.4 연세기독학생연합회 지원",null,null,0]
[null,"      3.1.5 연세기독학생회찬양팀 후원",null,null,0]
[null,"      3.1.6 YMK 후원",null,null,0]
[null,"      3.1.7 통일한마당",null,null,0]
[null,"      3.1.8 리틀언더우드 후원",null,null,0]
[null,"      3.1.9 멘토멘티프로그램",null,null,0]
[null,"      3.1.10 학원선교 기타",null,null,0]
[null,"   3.2 국외선교",null,null,0]
[null,"   3.3 이웃사랑 실천헌금",null,null,0]
[null,"   3.4 지정헌금",null,null,0]
[null,"   3.5 선교예비금",null,null,0]
[null,"4. 친교행사운영비",null,null,{"$f":"SUM(E37:E44,E46,E47)","v":19890}]
[null,"   4.1 주일공동식사",null,null,0]
[null,"   4.2 야외예배 행사비",null,null,0]
[null,"   4.3 경로행사비",null,null,0]
[null,"   4.4 성탄행사비",null,null,0]
[null,"   4.5 주일다과비",null,null,19890]
[null,"   4.6 경조비",null,null,0]
[null,"   4.7 교우친교비",null,null,0]
[null,"   4.8 홍보출판비",null,null,{"$f":"E45","v":0}]
[null,"      4.8.1 대학교회 회지",null,null,0]
[null,"   4.9 교회봉사자 선물",null,null,0]
[null,"   4.10 친교행사 예비비",null,null,0]
[null,"5. 인건비",null,null,{"$f":"SUM(E49:E64,E67,E68)","v":0}]
[null,"   5.1 외부강사 설교 사례",null,null,0]
[null,"   5.2 외부강사 설교 사례(대학부-국제)",null,null,0]
[null,"   5.3 절기 예배 연주자",null,null,0]
[null,"   5.4 국악 예배 연주자",null,null,0]
[null,"   5.5 봉헌송 사례",null,null,0]
[null,"   5.6 주일성서연구 강사사례",null,null,0]
[null,"   5.8 담임목사",null,null,0]
[null,"   5.9 동역목사",null,null,0]
[null,"   5.10 전임교역자",null,null,0]
[null,"   5.11 성가대지휘자",null,null,0]
[null,"   5.12 오르가니스트",null,null,0]
[null,"   5.13 교육부서 담당교역자",null,null,0]
[null,"   5.14 성인 솔리스트",null,null,0]
[null,"   5.15 통역자",null,null,0]
[null,"   5.16 방송담당",null,null,0]
[null,"   5.17 용원 사례비",null,null,{"$f":"SUM(E65:E66)","v":0}]
[null,"      5.17.1 관리실 여사",null,null,0]
[null,"      5.17.2 관리실 반장",null,null,0]
[null,"   5.18 퇴직위로금",null,null,0]
[null,"   5.19 기타(교역자휴가 및 기타인건비)",null,null,0]
[null,"6. 행정운영비",null,null,{"$f":"SUM(E70:E72,E79:E83)","v":1409566}]
[null,"   6.1 회의 및 교회위원회",null,null,131500]
[null,"   6.2 사무운영비",null,null,377270]
[null,"   6.3 부서운영비",null,null,{"$f":"SUM(E73:E78)","v":204200}]
[null,"      6.3.1 성가대",null,null,204200]
[null,"      6.3.2 유치부",null,null,0]
[null,"      6.3.3 초등부",null,null,0]
[null,"      6.3.4 중고등부",null,null,0]
[null,"      6.3.5 대학부(신촌)",null,null,0]
[null,"      6.3.6 대학부(국제)",null,null,0]
[null,"   6.4 목회활동비",null,null,371700]
[null,"   6.5 용품 및 수리비",null,null,0]
[null,"   6.6 연료비 및 통신비",null,null,324896]
[null,"   6.7 악기구입 및 보수",null,null,0]
[null,"   6.8 행정운영 예비비",null,null,0]
[null,"7. 장학금",null,null,{"$f":"SUM(E85:E89)","v":0}]
[null,"   7.1 교회학교 교사",null,null,0]
[null,"   7.2 신촌 대학청년부",null,null,0]
[null,"   7.3 국제 대학부",null,null,0]
[null,"   7.4 학생 솔리스트",null,null,0]
[null,"   7.5 기숙사지원",null,null,0]
[null,"8. 예비비",null,null,0]
[null,"9. 이웃사랑기금적립",null,null,0]
[null,"지출부총액",null,null,{"$f":"SUM(E85,E69,E48,E36,E20,E11,E3)","v":2468836}]
[null,"차기이월",null,null,-2156900]
[null,"총액",null,null,0]

{"sheet":"3월 약식","index":1,"n_rows":30,"n_cols":11,"rows_kept":30,"merged":[[0,0,0,10],[1,8,1,10],[2,0,2,4],[2,5,2,10],[3,5,3,6],[4,5,4,6],[5,5,5,6],[6,5,6,6],[7,5,7,6],[8,5,8,6],[9,5,9,6],[10,5,10,6],[11,5,11,6],[12,5,12,6],[13,5,13,6],[14,5,14,6],[18,5,18,6],[19,0,19,6],[20,0,20,2],[20,5,20,8],[21,0,21,1],[22,0,22,1],[23,0,23,1],[24,0,24,1],[24,5,24,8],[25,0,25,1],[26,0,26,1]],"headers":{"header":["[첨부1]"],"footer":["","페이지"]}}
["2023년 3월 결산보고서(약식) "]
["회계년도: 2023년도",{"$nulls":7},"(2023-03-30 현재)"]
["수입의 부",{"$nulls":4},"지출의 부"]
["항 목","예산","당월 수입","수입 누계","집행률(%)","항 목",null,"예산","당월 지출","지출 누계","집행률(%)"]
["1. 주일헌금",{"$f":"'3월 수입 상세'!B5","v":{"v":160000000,"d":"160,000,000"}},{"$f":"'3월 수입 상세'!C5","v":{"v":10756000,"d":"10,756,000"}},{"$f":"C5","v":{"v":10756000,"d":"10,756,000"}},{"$f":"D5/B5","v":{"v":0.067225,"d":"6.7%"}},"   1. 예배운영비",null,{"$f":"'3월 지출 상세'!B5","v":{"v":22700000,"d":"22,700,000"}},{"$f":"'3월 지출 상세'!C5","v":{"v":2318650,"d":"2,318,650"}},{"$f":"IF('3월 지출 상세'!$F$4=\"보정\", '3월 지출 상세'!D5+'3월 지출 상세'!F5, '3월 지출 상세'!D5)","v":{"v":2318650,"d":"2,318,650"}},{"$f":"J5/H5","v":{"v":0.1021431718061674,"d":"10.2%"}}]
["2. 십일조",{"$f":"'3월 수입 상세'!B6","v":{"v":105000000,"d":"105,000,000"}},{"$f":"'3월 수입 상세'!C6","v":{"v":9338000,"d":"9,338,000"}},{"$f":"C6","v":{"v":9338000,"d":"9,338,000"}},{"v":0.08893333333333334,"d":"8.9%"},"   2. 교육운영비",null,{"$f":"'3월 지출 상세'!B13","v":{"v":30500000,"d":"30,500,000"}},{"$f":"'3월 지출 상세'!C13","v":{"v":748390,"d":"748,390"}},{"$f":"IF('3월 지출 상세'!$F$4=\"보정\", '3월 지출 상세'!D13+'3월 지출 상세'!F13, '3월 지출 상세'!D13)","v":{"v":748390,"d":"748,390"}},{"v":0.02453737704918033,"d":"2.5%"}]
["3. 월정헌금",{"$f":"'3월 수입 상세'!B7","v":{"v":145000000,"d":"145,000,000"}},{"$f":"'3월 수입 상세'!C7","v":{"v":12775000,"d":"12,775,000"}},{"v":12775000,"d":"12,775,000"},{"v":0.08810344827586207,"d":"8.8%"},"   3. 선교비",null,{"$f":"'3월 지출 상세'!B22","v":{"v":74760000,"d":"74,760,000"}},{"$f":"'3월 지출 상세'!C22","v":{"v":24657000,"d":"24,657,000"}},{"$f":"'3월 지출 상세'!D22","v":{"v":24657000,"d":"24,657,000"}},{"v":0.3298154093097913,"d":"33.0%"}]
["4. 감사헌금",{"$f":"'3월 수입 상세'!B8","v":{"v":35000000,"d":"35,000,000"}},{"$f":"'3월 수입 상세'!C8","v":{"v":1954000,"d":"1,954,000"}},{"v":1954000,"d":"1,954,000"},{"v":0.05582857142857143,"d":"5.6%"},"   4. 친교행사운영비",null,{"$f":"'3월 지출 상세'!B38","v":{"v":27600000,"d":"27,600,000"}},{"$f":"'3월 지출 상세'!C38","v":{"v":616320,"d":"616,320"}},{"$f":"IF('3월 지출 상세'!$F$4=\"보정\", '3월 지출 상세'!D38+'3월 지출 상세'!F38, '3월 지출 상세'!D38)","v":{"v":616320,"d":"616,320"}},{"v":0.022330434782608696,"d":"2.2%"}]
["5. 교육부헌금",{"$f":"'3월 수입 상세'!B9","v":{"v":22000000,"d":"22,000,000"}},{"$f":"'3월 수입 상세'!C9","v":{"v":2715460,"d":"2,715,460"}},{"v":2715460,"d":"2,715,460"},{"v":0.12343,"d":"12.3%"},"   5. 사례비",null,{"$f":"'3월 지출 상세'!B50","v":{"v":234270000,"d":"234,270,000"}},{"$f":"'3월 지출 상세'!C50","v":{"v":19892000,"d":"19,892,000"}},{"$f":"'3월 지출 상세'!D50","v":{"v":19892000,"d":"19,892,000"}},{"v":0.08491057327015837,"d":"8.5%"}]
["6. 절기헌금",{"$f":"'3월 수입 상세'!B15","v":{"v":35000000,"d":"35,000,000"}},{"$f":"'3월 수입 상세'!C15","v":0},0,{"v":0,"d":"0.0%"},"   6. 행정운영비",null,{"$f":"'3월 지출 상세'!B71","v":{"v":90700000,"d":"90,700,000"}},{"$f":"'3월 지출 상세'!C71","v":{"v":6718660,"d":"6,718,660"}},{"$f":"IF('3월 지출 상세'!$F$4=\"보정\", '3월 지출 상세'!D71+'3월 지출 상세'!F71, '3월 지출 상세'!D71)","v":{"v":6718660,"d":"6,718,660"}},{"v":0.07407563395810364,"d":"7.4%"}]
["7. 선교헌금",{"$f":"'3월 수입 상세'!B19","v":{"v":5000000,"d":"5,000,000"}},{"$f":"'3월 수입 상세'!C19","v":{"v":305000,"d":"305,000"}},{"v":305000,"d":"305,000"},{"v":0.061,"d":"6.1%"},"   7. 장학금",null,{"$f":"'3월 지출 상세'!B86","v":{"v":66720000,"d":"66,720,000"}},{"$f":"'3월 지출 상세'!C86","v":{"v":19800000,"d":"19,800,000"}},{"$f":"'3월 지출 상세'!D86","v":{"v":19800000,"d":"19,800,000"}},{"v":0.29676258992805754,"d":"29.7%"}]
["8. 지정헌금",{"$f":"'3월 수입 상세'!B22","v":{"v":20000000,"d":"20,000,000"}},{"$f":"'3월 수입 상세'!C22","v":{"v":5208000,"d":"5,208,000"}},{"v":5208000,"d":"5,208,000"},{"v":0.2604,"d":"26.0%"},"   8. 예비비",null,{"$f":"'3월 지출 상세'!B92","v":{"v":32750000,"d":"32,750,000"}},{"$f":"'3월 지출 상세'!C92","v":0},{"$f":"'3월 지출 상세'!D92","v":0},{"v":0,"d":"0.0%"}]
["9. 특별헌금(이웃사랑실천헌금 등)",{"$f":"'3월 수입 상세'!B23","v":{"v":13000000,"d":"13,000,000"}},{"$f":"'3월 수입 상세'!C23","v":0},0,{"v":0,"d":"0.0%"},"   9. 이웃사랑기금적립",null,{"$f":"'3월 지출 상세'!B93","v":0},{"$f":"'3월 지출 상세'!C93","v":0},{"$f":"'3월 지출 상세'!D93","v":0}]
["헌금 수입 소계",{"$f":"SUM(B5:B13)","v":{"v":540000000,"d":"540,000,000"}},{"$f":"SUM(C5:C13)","v":{"v":43051460,"d":"43,051,460"}},{"$f":"SUM(D5:D13)","v":{"v":43051460,"d":"43,051,460"}},{"v":0.07972492592592592,"d":"8.0%"},"  일반 지출 소계",null,{"$f":"SUM(H5:H13)","v":{"v":580000000,"d":"580,000,000"}},{"$f":"SUM(I5:I13)","v":{"v":74751020,"d":"74,751,020"}},{"$f":"SUM(J5:J13)","v":{"v":74751020,"d":"74,751,020"}},{"$f":"J14/H14","v":{"v":0.12888106896551724,"d":"12.9%"}}]
["전기이월금 전입",{"v":40000000,"d":"40,000,000"},{"v":40000000,"d":"40,000,000"},{"$f":"C15","v":{"v":40000000,"d":"40,000,000"}},{"v":1,"d":"100.0%"},"  차월이월",null,null,{"$f":"C14-I14","v":{"v":-31699560,"d":"-31,699,560"}},{"$f":"D19-J14","v":{"v":30177340,"d":"30,177,340"}}]
["전기이월금 추가전입",null,{"v":21876900,"d":"21,876,900"},{"v":21876900,"d":"21,876,900"}]
["헌금외 기금",null,0,0]
["전월이월금",null,0]
["수입부 총액",{"$f":"SUM(B14:B18)","v":{"v":580000000,"d":"580,000,000 "}},{"$f":"SUM(C14:C18)","v":{"v":104928360,"d":"104,928,360 "}},{"$f":"SUM(D14:D18)","v":{"v":104928360,"d":"104,928,360 "}},{"$f":"D19/B19","v":{"v":0.18091096551724137,"d":"18.1%"}},"  지출부 총액",null,{"$f":"SUM(H14:H18)","v":{"v":580000000,"d":"580,000,000 "}},{"$f":"SUM(I14:I18)","v":{"v":43051460,"d":"43,051,460 "}},{"$f":"SUM(J14:J18)","v":{"v":104928360,"d":"104,928,360 "}},{"$f":"J19/H19","v":{"v":0.18091096551724137,"d":"18.1%"}}]
[]
["기금 및 이월금 현황 (2023.3.1 기준)",{"$nulls":4},"헌금 수입 및 지출 누계 비교"]
["기금명",null,"금액(이자포함)",{"$nulls":3},"2021년 3월","2022년 3월 ","2023년 3월"]
["박명윤이행자선교기금(FAA003023)",null,{"v":53380953,"d":"53,380,953"},null,null,"수입 누계",{"v":55302354,"d":"55,302,354"},{"v":37849171,"d":"37,849,171"},{"$f":"D14","v":{"v":43051460,"d":"43,051,460"}}]
["대학교회건축기금(FBA113041)",null,0,null,null,"지출 누계",{"v":25531010,"d":"25,531,010"},{"v":28305510,"d":"28,305,510"},{"$f":"J14","v":{"v":74751020,"d":"74,751,020"}}]
["국캠대학교회선교기금(FEA173001)",null,{"v":146649,"d":"146,649"}]
["이웃사랑기금(FEA183001)",null,{"v":83791013,"d":"83,791,013"}]
["유초등부발전기금(FAA213008)",null,{"v":18299135,"d":"18,299,135"}]
["기금 총액",null,{"$f":"SUM(C23:C27)","v":{"v":155617750,"d":"155,617,750 "}}]
[]
["*누적 이월금 (2023.3.1 기준 / 기금제외)",null,{"v":451668301,"d":"451,668,301 "}]

{"sheet":"3월 수입 상세","index":2,"n_rows":28,"n_cols":6,"rows_kept":28,"merged":[[0,0,0,5]]}
["3월 수입 상세"]
["회계연도: 2023년도",{"$nulls":4},"(2023-03-30 현재)"]
[]
["분류항목","예산","당월","누계","집행률(%)","비고"]
["1. 주일헌금",{"v":160000000,"d":"160,000,000"},{"v":10756000,"d":"10,756,000"},{"$f":"C5","v":{"v":10756000,"d":"10,756,000"}},{"$f":"D5/B5","v":{"v":0.067225,"d":"6.7%"}}]
["2. 십일조",{"v":105000000,"d":"105,000,000"},{"v":9338000,"d":"9,338,000"},{"$f":"C6","v":{"v":9338000,"d":"9,338,000"}},{"$f":"D6/B6","v":{"v":0.08893333333333334,"d":"8.9%"}}]
["3. 월정헌금",{"v":145000000,"d":"145,000,000"},{"v":12775000,"d":"12,775,000"},{"v":12775000,"d":"12,775,000"},{"v":0.08810344827586207,"d":"8.8%"}]
["4. 감사헌금",{"v":35000000,"d":"35,000,000"},{"v":1954000,"d":"1,954,000"},{"v":1954000,"d":"1,954,000"},{"v":0.05582857142857143,"d":"5.6%"}]
["5. 교육부헌금",{"$f":"SUM(B10:B14)","v":{"v":22000000,"d":"22,000,000"}},{"$f":"SUM(C10:C14)","v":{"v":2715460,"d":"2,715,460"}},{"$f":"SUM(D10:D14)","v":{"v":2715460,"d":"2,715,460"}},{"v":0.12343,"d":"12.3%"}]
["   유치부",{"v":700000,"d":"700,000"},{"v":233049,"d":"233,049"},{"$f":"C10","v":{"v":233049,"d":"233,049"}},{"v":0.33292714285714287,"d":"33.3%"}]
["   초등부",{"v":1000000,"d":"1,000,000"},{"v":147500,"d":"147,500"},{"$f":"C11","v":{"v":147500,"d":"147,500"}},{"v":0.1475,"d":"14.8%"}]
["   중고등부",{"v":300000,"d":"300,000"},{"v":25722,"d":"25,722"},{"v":25722,"d":"25,722"},{"v":0.08574,"d":"8.6%"}]
["   대학부(신촌)",{"v":7000000,"d":"7,000,000"},{"v":1082977,"d":"1,082,977"},{"v":1082977,"d":"1,082,977"},{"v":0.154711,"d":"15.5%"}]
["   대학부(국제)",{"v":13000000,"d":"13,000,000"},{"v":1226212,"d":"1,226,212"},{"v":1226212,"d":"1,226,212"},{"v":0.094324,"d":"9.4%"}]
["6. 절기헌금",{"$f":"SUM(B16:B18)","v":{"v":35000000,"d":"35,000,000"}},{"$f":"SUM(C16:C18)","v":0},{"$f":"SUM(D16:D18)","v":0},{"v":0,"d":"0.0%"}]
["   부활절",{"v":10000000,"d":"10,000,000"},0,{"$f":"C16","v":0},{"v":0,"d":"0.0%"}]
["   추수감사절",{"v":10000000,"d":"10,000,000"},0,{"$f":"C17","v":0},{"v":0,"d":"0.0%"}]
["   성탄절",{"v":15000000,"d":"15,000,000"},0,0,{"v":0,"d":"0.0%"}]
["7. 선교헌금",{"v":5000000,"d":"5,000,000"},{"$f":"SUM(C20:C21)","v":{"v":305000,"d":"305,000"}},{"$f":"SUM(D20:D21)","v":{"v":305000,"d":"305,000"}},{"v":0.061,"d":"6.1%"}]
["   선교헌금",{"v":2500000,"d":"2,500,000"},{"v":305000,"d":"305,000"},{"$f":"C20","v":{"v":305000,"d":"305,000"}},{"v":0.122,"d":"12.2%"}]
["   특별선교헌금",{"v":2500000,"d":"2,500,000"},0,{"$f":"C21","v":0},{"v":0,"d":"0.0%"}]
["8. 지정헌금",{"v":20000000,"d":"20,000,000"},{"v":5208000,"d":"5,208,000"},{"$f":"C22","v":{"v":5208000,"d":"5,208,000"}},{"v":0.2604,"d":"26.0%"},"윤종규지정장학금 3,537,000원\n헌화헌금 700,000원\n사순절 묵상집 211,000원\n튀르키예 560,000원"]
["9. 특별헌금(이웃사랑실천헌금)",{"v":13000000,"d":"13,000,000"},0,{"$f":"C23","v":0},{"v":0,"d":"0.0%"}]
["헌금 수입 소계",{"$f":"SUM(B5,B6,B7,B8,B9,B15,B19,B22,B23)","v":{"v":540000000,"d":"540,000,000"}},{"$f":"SUM(C5,C6,C7,C8,C9,C15,C19,C22,C23)","v":{"v":43051460,"d":"43,051,460"}},{"$f":"SUM(D5,D6,D7,D8,D9,D15,D19,D22,D23)","v":{"v":43051460,"d":"43,051,460"}},{"v":0.07972492592592592,"d":"8.0%"}]
["전기이월금 전입",{"v":40000000,"d":"40,000,000"},{"v":40000000,"d":"40,000,000"},{"$f":"C25","v":{"v":40000000,"d":"40,000,000"}},{"v":1,"d":"100.0%"}]
["헌금외 기금",0,0,{"$f":"C26","v":0}]
["전월이월금",0,0,0]
["수입부 총액",{"$f":"B24+B25","v":{"v":580000000,"d":"580,000,000"}},{"$f":"SUM(C24:C27)","v":{"v":83051460,"d":"83,051,460"}},{"$f":"SUM(D24:D27)","v":{"v":83051460,"d":"83,051,460"}},{"v":0.1431921724137931,"d":"14.3%"}]

{"sheet":"3월 지출 상세","index":3,"n_rows":96,"n_cols":7,"rows_kept":96,"merged":[[0,0,0,6],[1,3,1,4]]}
["3월 지출 상세"]
["회계연도: 2023년도"]
[{"$nulls":6},"(2023-03-30 현재)"]
["분류항목","예산","당월","누계","집행률(%)",null,"비고"]
["1. 예배운영비",{"$f":"SUM(B6:B9)","v":{"v":22700000,"d":"22,700,000"}},{"$f":"SUM(C6:C12)-C9","v":{"v":2318650,"d":"2,318,650"}},{"$f":"SUM(D6:D9)","v":{"v":2318650,"d":"2,318,650"}},{"$f":"D5/B5","v":{"v":0.1021431718061674,"d":"10.2%"}},{"$f":"SUM(F6:F9)","v":0}]
["   1.1 성례예식비",{"v":1200000,"d":"1,200,000"},{"v":300000,"d":"300,000"},{"$f":"C6","v":{"v":300000,"d":"300,000"}},{"$f":"D6/B6","v":{"v":0.25,"d":"25.0%"}},{"$f":"IF($F$4=\"보정\", 보정치!E4)","v":false},"성찬키트 구입"]
["   1.2 주보인쇄비",{"v":4000000,"d":"4,000,000"},{"v":215000,"d":"215,000"},{"$f":"C7","v":{"v":215000,"d":"215,000"}},{"v":0.05375,"d":"5.4%"},{"$f":"IF($F$4=\"보정\", 보정치!E5)","v":false}]
["   1.3 강사접대비",{"v":2500000,"d":"2,500,000"},{"v":222500,"d":"222,500"},{"v":222500,"d":"222,500"},{"v":0.089,"d":"8.9%"},{"$f":"IF($F$4=\"보정\", 보정치!E6)","v":false}]
["   1.4 예배준비비",{"$f":"SUM(B10:B12)","v":{"v":15000000,"d":"15,000,000"}},{"$f":"SUM(C10:C12)","v":{"v":1581150,"d":"1,581,150"}},{"$f":"SUM(D10:D12)","v":{"v":1581150,"d":"1,581,150"}},{"v":0.10541,"d":"10.5%"},{"$f":"IF($F$4=\"보정\", 보정치!E7)","v":false}]
["      1.4.1 성전 꽃꽂이",{"v":10000000,"d":"10,000,000"},{"v":1200000,"d":"1,200,000"},{"$f":"C10","v":{"v":1200000,"d":"1,200,000"}},{"v":0.12,"d":"12.0%"},{"$f":"IF($F$4=\"보정\", 보정치!E8)","v":false},"2, 3월 예배당 꽃장식비"]
["      1.4.2 봉사자 식사",{"v":4000000,"d":"4,000,000"},{"v":381150,"d":"381,150"},{"$f":"C11","v":{"v":381150,"d":"381,150"}},{"v":0.0952875,"d":"9.5%"},{"$f":"IF($F$4=\"보정\", 보정치!E9)","v":false}]
["      1.4.3 절기행사비",{"v":1000000,"d":"1,000,000"},0,{"$f":"C12","v":0},{"v":0,"d":"0.0%"},{"$f":"IF($F$4=\"보정\", 보정치!E10)","v":false}]
["2. 교육운영비",{"$f":"SUM(B14:B21)","v":{"v":30500000,"d":"30,500,000"}},{"$f":"SUM(C14:C21)","v":{"v":748390,"d":"748,390"}},{"$f":"SUM(D14:D21)","v":{"v":748390,"d":"748,390"}},{"v":0.02453737704918033,"d":"2.5%"},{"$f":"IF($F$4=\"보정\", 보정치!E11)","v":false}]
["   2.1 주일성서연구운영비",{"v":1000000,"d":"1,000,000"},0,{"$f":"C14","v":0},{"v":0,"d":"0.0%"},{"$f":"IF($F$4=\"보정\", 보정치!E12)","v":false}]
["   2.2 도서 및 교재",{"v":2000000,"d":"2,000,000"},{"v":326100,"d":"326,100"},{"$f":"C15","v":{"v":326100,"d":"326,100"}},{"v":0.16305,"d":"16.3%"},{"$f":"IF($F$4=\"보정\", 보정치!E13)","v":false}]
["   2.3 전교인수양회 행사비",{"v":14000000,"d":"14,000,000"},0,0,{"v":0,"d":"0.0%"},{"$f":"IF($F$4=\"보정\", 보정치!E14)","v":false}]
["   2.4 교목연수비",0,0,0,null,{"$f":"IF($F$4=\"보정\", 보정치!E15)","v":false}]
["   2.5 교역자 교육훈련비",{"v":3000000,"d":"3,000,000"},{"v":422290,"d":"422,290"},{"v":422290,"d":"422,290"},{"v":0.14076333333333332,"d":"14.1%"},{"$f":"IF($F$4=\"보정\", 보정치!E16)","v":false}]
["   2.6 교사세미나/교역자workshop",{"v":3000000,"d":"3,000,000"},0,0,{"v":0,"d":"0.0%"},{"$f":"IF($F$4=\"보정\", 보정치!E17)","v":false}]
["   2.7 교육부 운영비",{"v":7500000,"d":"7,500,000"},0,0,{"v":0,"d":"0.0%"},{"$f":"IF($F$4=\"보정\", 보정치!E18)","v":false}]
["   2.8 교육운영 예비비",0,0,0,null,{"$f":"IF($F$4=\"보정\", 보정치!E19)","v":false}]
["3. 선교비",{"$f":"SUM(B23,B34,B35,B36,B37)","v":{"v":74760000,"d":"74,760,000"}},{"$f":"SUM(C23,C34,C35,C36,C37)","v":{"v":24657000,"d":"24,657,000"}},{"$f":"SUM(D23,D34,D36,D35,D37)","v":{"v":24657000,"d":"24,657,000"}},{"v":0.3298154093097913,"d":"33.0%"},{"$f":"SUM(F23,F32,F33,F34,F35)","v":0}]
["   3.1 학원선교",{"$f":"SUM(B24:B33)","v":{"v":50960000,"d":"50,960,000"}},{"$f":"SUM(C24:C33)","v":{"v":1000000,"d":"1,000,000"}},{"$f":"SUM(D24:D33)","v":{"v":1000000,"d":"1,000,000"}},{"v":0.019623233908948195,"d":"2.0%"},{"$f":"SUM(F24:F31)","v":0}]
["      3.1.1 간식나눔행사(신촌)",{"v":2000000,"d":"2,000,000"},0,{"$f":"C24","v":0},{"v":0,"d":"0.0%"},{"$f":"IF($F$4=\"보정\", 보정치!E22)","v":false}]
["      3.1.2 간식나눔행사(국제)",{"v":1000000,"d":"1,000,000"},0,{"$f":"C25","v":0},{"v":0,"d":"0.0%"},{"$f":"IF($F$4=\"보정\", 보정치!E23)","v":false}]
["      3.1.3 교목실 점심나눔 후원",{"v":27000000,"d":"27,000,000"},0,0,{"v":0,"d":"0.0%"},{"$f":"IF($F$4=\"보정\", 보정치!E24)","v":false}]
["      3.1.4 연세기독학생연합회 지원",{"v":3600000,"d":"3,600,000"},{"v":300000,"d":"300,000"},{"v":300000,"d":"300,000"},{"v":0.08333333333333333,"d":"8.3%"},{"$f":"IF($F$4=\"보정\", 보정치!E25)","v":false}]
["      3.1.5 연세기독학생회찬양팀 후원",{"v":2400000,"d":"2,400,000"},{"v":200000,"d":"200,000"},{"v":200000,"d":"200,000"},{"v":0.08333333333333333,"d":"8.3%"},{"$f":"IF($F$4=\"보정\", 보정치!E26)","v":false}]
["      3.1.6 YMK 후원",{"v":3600000,"d":"3,600,000"},{"v":300000,"d":"300,000"},{"v":300000,"d":"300,000"},{"v":0.08333333333333333,"d":"8.3%"},{"$f":"IF($F$4=\"보정\", 보정치!E27)","v":false}]
["      3.1.7 통일한마당",{"v":2400000,"d":"2,400,000"},{"v":200000,"d":"200,000"},{"v":200000,"d":"200,000"},{"v":0.08333333333333333,"d":"8.3%"},{"$f":"IF($F$4=\"보정\", 보정치!E28)","v":false}]
["      3.1.8 리틀언더우드 후원",{"v":5000000,"d":"5,000,000"},0,0,{"v":0,"d":"0.0%"},0]
["      3.1.9 멘토멘티프로그램",{"v":3960000,"d":"3,960,000"},0,0,{"v":0,"d":"0.0%"},0]
["      3.1.10 학원선교 기타",0,0,0,null,{"$f":"IF($F$4=\"보정\", 보정치!E31)","v":false}]
["   3.2 국외선교",{"v":4800000,"d":"4,800,000"},{"v":400000,"d":"400,000"},{"v":400000,"d":"400,000"},{"v":0.08333333333333333,"d":"8.3%"},{"$f":"IF($F$4=\"보정\", 보정치!E32)","v":false},"함정희, 노규래 "]
["   3.3 이웃사랑 실천헌금",{"v":9000000,"d":"9,000,000"},0,0,{"v":0,"d":"0.0%"},{"$f":"IF($F$4=\"보정\", 보정치!E33)","v":false}]
["   3.4 지정헌금",{"v":10000000,"d":"10,000,000"},{"v":23257000,"d":"23,257,000"},{"v":23257000,"d":"23,257,000"},{"v":2.3257,"d":"232.6%"},{"$f":"IF($F$4=\"보정\", 보정치!E34)","v":false},"튀르키예 구제후원금 19,720,000원\n윤종규 지정장학금 3,537,000원"]
["   3.5 선교예비금",0,0,0,null,{"$f":"IF($F$4=\"보정\", 보정치!E35)","v":false}]
["4. 친교행사운영비",{"$f":"SUM(B39:B49)-B47","v":{"v":27600000,"d":"27,600,000"}},{"$f":"SUM(C39:C49)-C47","v":{"v":616320,"d":"616,320"}},{"$f":"SUM(D39:D46,D48,D49)","v":{"v":616320,"d":"616,320"}},{"v":0.022330434782608696,"d":"2.2%"},{"$f":"SUM(F39:F49)-F47","v":0}]
["   4.1 주일공동식사",{"v":7000000,"d":"7,000,000"},0,{"$f":"C39","v":0},{"v":0,"d":"0.0%"},{"$f":"IF($F$4=\"보정\", 보정치!E37)","v":false}]
["   4.2 야외예배 행사비",0,0,{"$f":"C40","v":0},null,{"$f":"IF($F$4=\"보정\", 보정치!E38)","v":false}]
["   4.3 경로행사비",{"v":1500000,"d":"1,500,000"},0,0,{"v":0,"d":"0.0%"},{"$f":"IF($F$4=\"보정\", 보정치!E39)","v":false}]
["   4.4 성탄행사비",{"v":2100000,"d":"2,100,000"},0,0,{"v":0,"d":"0.0%"},{"$f":"IF($F$4=\"보정\", 보정치!E40)","v":false}]
["   4.5 주일다과비",{"v":5000000,"d":"5,000,000"},{"v":116320,"d":"116,320"},{"v":116320,"d":"116,320"},{"v":0.023264,"d":"2.3%"},{"$f":"IF($F$4=\"보정\", 보정치!E41)","v":false}]
["   4.6 경조비",{"v":4000000,"d":"4,000,000"},{"v":500000,"d":"500,000"},{"v":500000,"d":"500,000"},{"v":0.125,"d":"12.5%"},{"$f":"IF($F$4=\"보정\", 보정치!E42)","v":false}]
["   4.7 교우친교비",{"v":2000000,"d":"2,000,000"},0,0,{"v":0,"d":"0.0%"},{"$f":"IF($F$4=\"보정\", 보정치!E43)","v":false}]
["   4.8 홍보출판비",{"v":4000000,"d":"4,000,000"},0,{"$f":"D47","v":0},{"v":0,"d":"0.0%"},{"$f":"IF($F$4=\"보정\", 보정치!E44)","v":false}]
["      4.8.1 대학교회 회지",{"v":4000000,"d":"4,000,000"},0,{"$f":"C47","v":0},{"v":0,"d":"0.0%"},{"$f":"IF($F$4=\"보정\", 보정치!E45)","v":false}]
["   4.9 교회봉사자 선물",{"v":2000000,"d":"2,000,000"},0,{"$f":"C48","v":0},{"v":0,"d":"0.0%"},{"$f":"IF($F$4=\"보정\", 보정치!E46)","v":false}]
["   4.10 친교행사 예비비",0,0,{"$f":"C49","v":0},null,{"$f":"IF($F$4=\"보정\", 보정치!E47)","v":false}]
["5. 사례비",{"$f":"SUM(B51:B66,B69,B70)","v":{"v":234270000,"d":"234,270,000"}},{"$f":"SUM(C51:C66,C69,C70)","v":{"v":19892000,"d":"19,892,000"}},{"$f":"SUM(D51:D66,D69,D70)","v":{"v":19892000,"d":"19,892,000"}},{"v":0.08491057327015837,"d":"8.5%"},{"$f":"SUM(F51:F70)","v":0}]
["   5.1 외부강사 설교 사례",{"v":12000000,"d":"12,000,000"},{"v":1500000,"d":"1,500,000"},{"$f":"C51","v":{"v":1500000,"d":"1,500,000"}},{"v":0.125,"d":"12.5%"},{"$f":"IF($F$4=\"보정\", 보정치!E47)","v":false}]
["   5.2 외부강사 설교 사례(대학부-국제)",{"v":2400000,"d":"2,400,000"},0,{"$f":"C52","v":0},{"v":0,"d":"0.0%"},{"$f":"IF($F$4=\"보정\", 보정치!E48)","v":false}]
["   5.3 절기 예배 연주자",{"v":800000,"d":"800,000"},0,0,{"v":0,"d":"0.0%"},{"$f":"IF($F$4=\"보정\", 보정치!E49)","v":false}]
["   5.4 국악 예배 연주자",{"v":1800000,"d":"1,800,000"},0,0,{"v":0,"d":"0.0%"},{"$f":"IF($F$4=\"보정\", 보정치!E50)","v":false}]
["   5.5 봉헌송 사례",{"v":450000,"d":"450,000"},0,0,{"v":0,"d":"0.0%"},{"$f":"IF($F$4=\"보정\", 보정치!E51)","v":false}]
["   5.6 주일성서연구 강사사례",{"v":4000000,"d":"4,000,000"},0,0,{"v":0,"d":"0.0%"},{"$f":"IF($F$4=\"보정\", 보정치!E52)","v":false}]
["   5.8 담임목사 ",{"v":14400000,"d":"14,400,000"},{"v":1200000,"d":"1,200,000"},{"v":1200000,"d":"1,200,000"},{"v":0.08333333333333333,"d":"8.3%"},{"$f":"IF($F$4=\"보정\", 보정치!E53)","v":false}]
["   5.9 동역목사",{"v":12000000,"d":"12,000,000"},{"v":600000,"d":"600,000"},{"v":600000,"d":"600,000"},{"v":0.05,"d":"5.0%"},{"$f":"IF($F$4=\"보정\", 보정치!E54)","v":false}]
["   5.10 전임교역자",{"v":67500000,"d":"67,500,000"},{"v":7500000,"d":"7,500,000"},{"v":7500000,"d":"7,500,000"},{"v":0.1111111111111111,"d":"11.1%"},{"$f":"IF($F$4=\"보정\", 보정치!E55)","v":false}]
["   5.11 성가대지휘자",{"v":12000000,"d":"12,000,000"},{"v":1000000,"d":"1,000,000"},{"v":1000000,"d":"1,000,000"},{"v":0.08333333333333333,"d":"8.3%"},{"$f":"IF($F$4=\"보정\", 보정치!E56)","v":false}]
["   5.12 오르가니스트",{"v":12000000,"d":"12,000,000"},{"v":1000000,"d":"1,000,000"},{"v":1000000,"d":"1,000,000"},{"v":0.08333333333333333,"d":"8.3%"},{"$f":"IF($F$4=\"보정\", 보정치!E57)","v":false}]
["   5.13 교육부서 담당교역자",{"v":38400000,"d":"38,400,000"},{"v":3200000,"d":"3,200,000"},{"v":3200000,"d":"3,200,000"},{"v":0.08333333333333333,"d":"8.3%"},{"$f":"IF($F$4=\"보정\", 보정치!E58)","v":false}]
["   5.14 성인 솔리스트",{"v":23520000,"d":"23,520,000"},{"v":1960000,"d":"1,960,000"},{"v":1960000,"d":"1,960,000"},{"v":0.08333333333333333,"d":"8.3%"},{"$f":"IF($F$4=\"보정\", 보정치!E59)","v":false}]
["   5.15 통역자",{"v":4000000,"d":"4,000,000"},{"v":300000,"d":"300,000"},{"v":300000,"d":"300,000"},{"v":0.075,"d":"7.5%"},{"$f":"IF($F$4=\"보정\", 보정치!E60)","v":false}]
["   5.16 방송담당",{"v":12000000,"d":"12,000,000"},{"v":900000,"d":"900,000"},{"v":900000,"d":"900,000"},{"v":0.075,"d":"7.5%"},{"$f":"IF($F$4=\"보정\", 보정치!E61)","v":false}]
["   5.17 용원 사례비 ",{"$f":"SUM(B67:B68)","v":{"v":11000000,"d":"11,000,000"}},{"$f":"SUM(C67,C68)","v":{"v":732000,"d":"732,000"}},{"$f":"SUM(D67:D68)","v":{"v":732000,"d":"732,000"}},{"v":0.06654545454545455,"d":"6.7%"},{"$f":"IF($F$4=\"보정\", 보정치!E62)","v":false}]
["      5.17.1 관리실 여사",{"v":6000000,"d":"6,000,000"},{"v":408000,"d":"408,000"},{"$f":"C67","v":{"v":408000,"d":"408,000"}},{"v":0.068,"d":"6.8%"},{"$f":"IF($F$4=\"보정\", 보정치!E63)","v":false}]
["      5.17.2 관리실 반장",{"v":5000000,"d":"5,000,000"},{"v":324000,"d":"324,000"},{"$f":"C68","v":{"v":324000,"d":"324,000"}},{"v":0.0648,"d":"6.5%"},{"$f":"IF($F$4=\"보정\", 보정치!E64)","v":false}]
["   5.18 퇴직위로금",{"v":3000000,"d":"3,000,000"},0,{"$f":"C69","v":0},{"v":0,"d":"0.0%"},{"$f":"IF($F$4=\"보정\", 보정치!E65)","v":false}]
["   5.19 기타(교역자휴가 및 기타인건비)",{"v":3000000,"d":"3,000,000"},0,{"$f":"C70","v":0},{"v":0,"d":"0.0%"},{"$f":"IF($F$4=\"보정\", 보정치!E66)","v":false}]
["6. 행정운영비",{"$f":"SUM(B72:B74,B81,B82,B83,B84,B85)","v":{"v":90700000,"d":"90,700,000"}},{"$f":"SUM(C72:C74,C81,C82,C83,C84,C85)","v":{"v":6718660,"d":"6,718,660"}},{"$f":"SUM(D72:D74,D81,D82,D83,D84,D85)","v":{"v":6718660,"d":"6,718,660"}},{"v":0.07407563395810364,"d":"7.4%"},{"$f":"SUM(F72:F74,F81,F82,F83,F84,F85)","v":0}]
["   6.1 회의 및 교회위원회",{"v":6000000,"d":"6,000,000"},{"v":549720,"d":"549,720"},{"$f":"C72","v":{"v":549720,"d":"549,720"}},{"v":0.09162,"d":"9.2%"},{"$f":"IF($F$4=\"보정\", 보정치!E70)","v":false}]
["   6.2 사무운영비",{"v":13000000,"d":"13,000,000"},{"v":1157220,"d":"1,157,220"},{"$f":"C73","v":{"v":1157220,"d":"1,157,220"}},{"$f":"D73/B73","v":{"v":0.08901692307692308,"d":"8.9%"}},{"$f":"IF($F$4=\"보정\", 보정치!E71)","v":false}]
["   6.3 부서운영비",{"$f":"SUM(B75:B80)","v":{"v":52000000,"d":"52,000,000"}},{"$f":"SUM(C75:C80)","v":{"v":4404200,"d":"4,404,200"}},{"$f":"SUM(D75:D80)","v":{"v":4404200,"d":"4,404,200"}},{"v":0.08469615384615385,"d":"8.5%"},{"$f":"IF($F$4=\"보정\", 보정치!E72)","v":false}]
["      6.3.1 성가대",{"v":14300000,"d":"14,300,000"},{"v":1304200,"d":"1,304,200"},{"$f":"C75","v":{"v":1304200,"d":"1,304,200"}},{"v":0.0912027972027972,"d":"9.1%"},{"$f":"IF($F$4=\"보정\", 보정치!E73)","v":false}]
["      6.3.2 유치부",{"v":4500000,"d":"4,500,000"},{"v":400000,"d":"400,000"},{"$f":"C76","v":{"v":400000,"d":"400,000"}},{"v":0.08888888888888889,"d":"8.9%"},{"$f":"IF($F$4=\"보정\", 보정치!E74)","v":false}]
["      6.3.3 초등부",{"v":7100000,"d":"7,100,000"},{"v":600000,"d":"600,000"},{"v":600000,"d":"600,000"},{"v":0.08450704225352113,"d":"8.5%"},{"$f":"IF($F$4=\"보정\", 보정치!E75)","v":false}]
["      6.3.4 중고등부",{"v":5100000,"d":"5,100,000"},{"v":500000,"d":"500,000"},{"v":500000,"d":"500,000"},{"v":0.09803921568627451,"d":"9.8%"},{"$f":"IF($F$4=\"보정\", 보정치!E76)","v":false}]
["      6.3.5 대학부(신촌)",{"v":12000000,"d":"12,000,000"},{"v":700000,"d":"700,000"},{"v":700000,"d":"700,000"},{"v":0.058333333333333334,"d":"5.8%"},{"$f":"IF($F$4=\"보정\", 보정치!E77)","v":false}]
["      6.3.6 대학부(국제)",{"v":9000000,"d":"9,000,000"},{"v":900000,"d":"900,000"},{"v":900000,"d":"900,000"},{"v":0.1,"d":"10.0%"},{"$f":"IF($F$4=\"보정\", 보정치!E78)","v":false}]
["   6.4 목회활동비",{"v":7200000,"d":"7,200,000"},{"v":594560,"d":"594,560"},{"$f":"C81","v":{"v":594560,"d":"594,560"}},{"v":0.08257777777777778,"d":"8.3%"},{"$f":"IF($F$4=\"보정\", 보정치!E79)","v":false}]
["   6.5 용품 및 수리비",{"v":5000000,"d":"5,000,000"},0,0,{"v":0,"d":"0.0%"},{"$f":"IF($F$4=\"보정\", 보정치!E80)","v":false}]
["   6.6 연료비 및 통신비",{"v":4000000,"d":"4,000,000"},{"v":12960,"d":"12,960"},{"v":12960,"d":"12,960"},{"$f":"D83/B83","v":{"v":0.00324,"d":"0.3%"}},{"$f":"IF($F$4=\"보정\", 보정치!E81)","v":false}]
["   6.7 악기구입 및 보수",{"v":3500000,"d":"3,500,000"},0,0,{"$f":"D84/B84","v":{"v":0,"d":"0.0%"}},{"$f":"IF($F$4=\"보정\", 보정치!E82)","v":false}]
["   6.8 행정운영 예비비",0,0,0,null,{"$f":"IF($F$4=\"보정\", 보정치!E83)","v":false}]
["7. 장학금",{"$f":"SUM(B87:B91)","v":{"v":66720000,"d":"66,720,000"}},{"$f":"SUM(C87:C91)","v":{"v":19800000,"d":"19,800,000"}},{"$f":"SUM(D87:D91)","v":{"v":19800000,"d":"19,800,000"}},{"v":0.29676258992805754,"d":"29.7%"},{"$f":"SUM(F87:F91)","v":0}]
["   7.1 교회학교 교사",{"v":21000000,"d":"21,000,000"},{"v":1200000,"d":"1,200,000"},{"$f":"C87","v":{"v":1200000,"d":"1,200,000"}},{"v":0.05714285714285714,"d":"5.7%"},{"$f":"IF($F$4=\"보정\", 보정치!E83)","v":false}]
["   7.2 신촌 대학청년부",{"v":12000000,"d":"12,000,000"},{"v":5400000,"d":"5,400,000"},{"$f":"C88","v":{"v":5400000,"d":"5,400,000"}},{"v":0.45,"d":"45.0%"},{"$f":"IF($F$4=\"보정\", 보정치!E84)","v":false}]
["   7.3 국제 대학부",{"v":9000000,"d":"9,000,000"},{"v":3600000,"d":"3,600,000"},{"v":3600000,"d":"3,600,000"},{"v":0.4,"d":"40.0%"},{"$f":"IF($F$4=\"보정\", 보정치!E85)","v":false}]
["   7.4 학생 솔리스트",{"v":16320000,"d":"16,320,000"},{"v":5400000,"d":"5,400,000"},{"v":5400000,"d":"5,400,000"},{"v":0.33088235294117646,"d":"33.1%"},{"$f":"IF($F$4=\"보정\", 보정치!E86)","v":false}]
["   7.5 기숙사지원",{"v":8400000,"d":"8,400,000"},{"v":4200000,"d":"4,200,000"},{"v":4200000,"d":"4,200,000"},{"v":0.5,"d":"50.0%"},{"$f":"IF($F$4=\"보정\", 보정치!E87)","v":false}]
["8. 예비비",{"v":32750000,"d":"32,750,000"},0,{"$f":"C92","v":0},{"v":0,"d":"0.0%"},{"$f":"IF($F$4=\"보정\", 보정치!E90)","v":false}]
["9. 이웃사랑기금적립",0,0,0,{"v":0,"d":"0.0%"},{"$f":"IF($F$4=\"보정\", 보정치!E91)","v":false}]
["일반 지출 소계",{"$f":"SUM(B5,B13,B22,B38,B50,B71,B86,B92,B93)","v":{"v":580000000,"d":"580,000,000"}},{"$f":"SUM(C5,C13,C22,C38,C50,C71,C86,C92,C93)","v":{"v":74751020,"d":"74,751,020"}},{"$f":"SUM(D5,D13,D22,D38,D50,D71,D86,D92,D93)","v":{"v":74751020,"d":"74,751,020"}},{"v":0.12888106896551724,"d":"12.9%"},{"$f":"SUM(F86,F71,F50,F38,F22,F13,F5)","v":0}]
["차월이월",null,{"$f":"'3월 수입 상세'!C24-'3월 지출 상세'!C94","v":{"v":-31699560,"d":"-31,699,560"}},{"$f":"'3월 수입 상세'!D25+'3월 수입 상세'!D26+'3월 지출 상세'!C95","v":{"v":8300440,"d":"8,300,440"}}]
["지출부 총액",{"$f":"B94+B95","v":{"v":580000000,"d":"580,000,000"}},{"$f":"C94+C95","v":{"v":43051460,"d":"43,051,460"}},{"$f":"D94+D95","v":{"v":83051460,"d":"83,051,460"}},{"v":0.1431921724137931,"d":"14.3%"}]

{"sheet":"4월 약식","index":4,"n_rows":30,"n_cols":11,"rows_kept":30,"merged":[[0,0,0,10],[1,8,1,10],[2,0,2,4],[2,5,2,10],[3,5,3,6],[13,5,13,6],[14,5,14,6],[18,5,18,6],[19,0,19,6],[20,0,20,2],[20,5,20,8],[21,0,21,1],[22,0,22,1],[23,0,23,1],[24,0,24,1],[24,5,24,8],[25,0,25,1],[26,0,26,1]],"headers":{"header":["[첨부1]"],"footer":["","페이지"]}}
["2023년 4월 결산보고서(약식) "]
["회계년도: 2023년도",{"$nulls":7},"(2023-04-30 현재)"]
["수입의 부",{"$nulls":4},"지출의 부"]
["항 목","예산","당월 수입","수입 누계","집행률(%)","항 목",null,"예산","당월 지출","지출 누계","집행률(%)"]
["1. 주일헌금",{"$f":"'4월 수입 상세'!B5","v":{"v":160000000,"d":"160,000,000"}},{"$f":"'4월 수입 상세'!C5","v":{"v":13194634,"d":"13,194,634"}},{"$f":"VLOOKUP(A5, '4월 수입 상세'!$A$4:$F$28, 4, FALSE)","v":{"v":23950634,"d":"23,950,634"}},{"$f":"D5/B5","v":{"v":0.1496914625,"d":"15.0%"}},"1. 예배운영비",null,{"$f":"'4월 지출 상세'!B5","v":{"v":22700000,"d":"22,700,000"}},{"$f":"'4월 지출 상세'!C5","v":{"v":820400,"d":"820,400"}},{"$f":"VLOOKUP(F5, '4월 지출 상세'!$A$4:$G$96, 4, FALSE)","v":{"v":3139050,"d":"3,139,050"}},{"$f":"J5/H5","v":{"v":0.138284140969163,"d":"13.8%"}}]
["2. 십일조",{"$f":"'4월 수입 상세'!B6","v":{"v":105000000,"d":"105,000,000"}},{"$f":"'4월 수입 상세'!C6","v":{"v":10608437,"d":"10,608,437"}},{"$f":"VLOOKUP(A6, '4월 수입 상세'!$A$4:$F$28, 4, FALSE)","v":{"v":19946437,"d":"19,946,437"}},{"v":0.18996606666666666,"d":"19.0%"},"2. 교육운영비",null,{"$f":"'4월 지출 상세'!B13","v":{"v":30500000,"d":"30,500,000"}},{"$f":"'4월 지출 상세'!C13","v":0},{"$f":"VLOOKUP(F6, '4월 지출 상세'!$A$4:$G$96, 4, FALSE)","v":{"v":748390,"d":"748,390"}},{"v":0.02453737704918033,"d":"2.5%"}]
["3. 월정헌금",{"$f":"'4월 수입 상세'!B7","v":{"v":145000000,"d":"145,000,000"}},{"$f":"'4월 수입 상세'!C7","v":{"v":11580000,"d":"11,580,000"}},{"$f":"VLOOKUP(A7, '4월 수입 상세'!$A$4:$F$28, 4, FALSE)","v":{"v":24355000,"d":"24,355,000"}},{"v":0.16796551724137931,"d":"16.8%"},"3. 선교비",null,{"$f":"'4월 지출 상세'!B22","v":{"v":74760000,"d":"74,760,000"}},{"$f":"'4월 지출 상세'!C22","v":{"v":1266000,"d":"1,266,000"}},{"$f":"VLOOKUP(F7, '4월 지출 상세'!$A$4:$G$96, 4, FALSE)","v":{"v":25923000,"d":"25,923,000"}},{"v":0.34674959871589084,"d":"34.7%"}]
["4. 감사헌금",{"$f":"'4월 수입 상세'!B8","v":{"v":35000000,"d":"35,000,000"}},{"$f":"'4월 수입 상세'!C8","v":{"v":2924000,"d":"2,924,000"}},{"$f":"VLOOKUP(A8, '4월 수입 상세'!$A$4:$F$28, 4, FALSE)","v":{"v":4878000,"d":"4,878,000"}},{"v":0.13937142857142856,"d":"13.9%"},"4. 친교행사운영비",null,{"$f":"'4월 지출 상세'!B38","v":{"v":27600000,"d":"27,600,000"}},{"$f":"'4월 지출 상세'!C38","v":{"v":2972460,"d":"2,972,460"}},{"$f":"VLOOKUP(F8, '4월 지출 상세'!$A$4:$G$96, 4, FALSE)","v":{"v":3588780,"d":"3,588,780"}},{"v":0.1300282608695652,"d":"13.0%"}]
["5. 교육부헌금",{"$f":"'4월 수입 상세'!B9","v":{"v":22000000,"d":"22,000,000"}},{"$f":"'4월 수입 상세'!C9","v":{"v":2007000,"d":"2,007,000"}},{"$f":"VLOOKUP(A9, '4월 수입 상세'!$A$4:$F$28, 4, FALSE)","v":{"v":4722460,"d":"4,722,460"}},{"v":0.21465727272727272,"d":"21.5%"},"5. 사례비",null,{"$f":"'4월 지출 상세'!B50","v":{"v":234270000,"d":"234,270,000"}},{"$f":"'4월 지출 상세'!C50","v":{"v":20844000,"d":"20,844,000"}},{"$f":"VLOOKUP(F9, '4월 지출 상세'!$A$4:$G$96, 4, FALSE)","v":{"v":40736000,"d":"40,736,000"}},{"v":0.17388483373884833,"d":"17.4%"}]
["6. 절기헌금",{"$f":"'4월 수입 상세'!B15","v":{"v":35000000,"d":"35,000,000"}},{"$f":"'4월 수입 상세'!C15","v":{"v":14256000,"d":"14,256,000"}},{"$f":"VLOOKUP(A10, '4월 수입 상세'!$A$4:$F$28, 4, FALSE)","v":{"v":14256000,"d":"14,256,000"}},{"v":0.40731428571428574,"d":"40.7%"},"6. 행정운영비",null,{"$f":"'4월 지출 상세'!B71","v":{"v":90700000,"d":"90,700,000"}},{"$f":"'4월 지출 상세'!C71","v":{"v":9813806,"d":"9,813,806"}},{"$f":"VLOOKUP(F10, '4월 지출 상세'!$A$4:$G$96, 4, FALSE)","v":{"v":16532466,"d":"16,532,466"}},{"v":0.18227636163175304,"d":"18.2%"}]
["7. 선교헌금",{"$f":"'4월 수입 상세'!B19","v":{"v":5000000,"d":"5,000,000"}},{"$f":"'4월 수입 상세'!C19","v":{"v":514000,"d":"514,000"}},{"$f":"VLOOKUP(A11, '4월 수입 상세'!$A$4:$F$28, 4, FALSE)","v":{"v":819000,"d":"819,000"}},{"v":0.1638,"d":"16.4%"},"7. 장학금",null,{"$f":"'4월 지출 상세'!B86","v":{"v":66720000,"d":"66,720,000"}},{"$f":"'4월 지출 상세'!C86","v":{"v":1920000,"d":"1,920,000"}},{"$f":"VLOOKUP(F11, '4월 지출 상세'!$A$4:$G$96, 4, FALSE)","v":{"v":21720000,"d":"21,720,000"}},{"v":0.3255395683453237,"d":"32.6%"}]
["8. 지정헌금",{"$f":"'4월 수입 상세'!B22","v":{"v":20000000,"d":"20,000,000"}},{"$f":"'4월 수입 상세'!C22","v":{"v":530000,"d":"530,000"}},{"$f":"VLOOKUP(A12, '4월 수입 상세'!$A$4:$F$28, 4, FALSE)","v":{"v":5738000,"d":"5,738,000"}},{"v":0.2869,"d":"28.7%"},"8. 예비비",null,{"$f":"'4월 지출 상세'!B92","v":{"v":32750000,"d":"32,750,000"}},{"$f":"'4월 지출 상세'!C92","v":{"v":500000,"d":"500,000"}},{"$f":"VLOOKUP(F12, '4월 지출 상세'!$A$4:$G$96, 4, FALSE)","v":{"v":500000,"d":"500,000"}},{"v":0.015267175572519083,"d":"1.5%"}]
["9. 특별헌금(이웃사랑실천헌금 등)",{"$f":"'4월 수입 상세'!B23","v":{"v":13000000,"d":"13,000,000"}},{"$f":"'4월 수입 상세'!C23","v":0},{"$f":"VLOOKUP(A13, '4월 수입 상세'!$A$4:$F$28, 4, FALSE)","v":0},{"v":0,"d":"0.0%"},"9. 이웃사랑기금적립",null,{"$f":"'4월 지출 상세'!B93","v":0},{"$f":"'4월 지출 상세'!C93","v":0},{"$f":"VLOOKUP(F13, '4월 지출 상세'!$A$4:$G$96, 4, FALSE)","v":0}]
["헌금 수입 소계",{"$f":"SUM(B5:B13)","v":{"v":540000000,"d":"540,000,000"}},{"$f":"SUM(C5:C13)","v":{"v":55614071,"d":"55,614,071"}},{"$f":"SUM(D5:D13)","v":{"v":98665531,"d":"98,665,531"}},{"v":0.1827139462962963,"d":"18.3%"},"  일반 지출 소계",null,{"$f":"SUM(H5:H13)","v":{"v":580000000,"d":"580,000,000"}},{"$f":"SUM(I5:I13)","v":{"v":38136666,"d":"38,136,666"}},{"$f":"SUM(J5:J13)","v":{"v":112887686,"d":"112,887,686"}},{"$f":"J14/H14","v":{"v":0.19463394137931034,"d":"19.5%"}}]
["전기이월금 전입",{"v":40000000,"d":"40,000,000"},0,{"$f":"'3월 약식'!D15+'4월 약식'!C15","v":{"v":40000000,"d":"40,000,000"}},{"v":1,"d":"100.0%"},"  차월이월",null,null,{"$f":"C14-I14","v":{"v":17477405,"d":"17,477,405"}},{"$f":"D19-J14","v":{"v":47654745,"d":"47,654,745"}}]
["전기이월금 추가전입",null,0,{"$f":"'3월 약식'!D16","v":{"v":21876900,"d":"21,876,900"}}]
["헌금외 기금",null,0,0]
["전월이월금",null,{"$f":"'3월 약식'!I15","v":{"v":-31699560,"d":"-31,699,560"}}]
["수입부 총액",{"$f":"SUM(B14:B18)","v":{"v":580000000,"d":"580,000,000 "}},{"$f":"SUM(C14:C18)","v":{"v":23914511,"d":"23,914,511 "}},{"$f":"SUM(D14:D18)","v":{"v":160542431,"d":"160,542,431 "}},{"$f":"D19/B19","v":{"v":0.2767972948275862,"d":"27.7%"}},"  지출부 총액",null,{"$f":"SUM(H14:H18)","v":{"v":580000000,"d":"580,000,000 "}},{"$f":"SUM(I14:I18)","v":{"v":55614071,"d":"55,614,071 "}},{"$f":"SUM(J14:J18)","v":{"v":160542431,"d":"160,542,431 "}},{"$f":"J19/H19","v":{"v":0.2767972948275862,"d":"27.7%"}}]
[]
["기금 및 이월금 현황 (2023.3.1 기준)",{"$nulls":4},"헌금 수입 및 지출 누계 비교"]
["기금명",null,"금액(이자포함)",{"$nulls":3},"2021년 4월","2022년 4월 ","2023년 4월"]
["박명윤이행자선교기금(FAA003023)",null,{"v":53380953,"d":"53,380,953"},null,null,"수입 누계",{"v":106817860,"d":"106,817,860"},{"v":87480371,"d":"87,480,371"},{"$f":"D14","v":{"v":98665531,"d":"98,665,531"}}]
["대학교회건축기금(FBA113041)",null,0,null,null,"지출 누계",{"v":88113793,"d":"88,113,793"},{"v":92587348,"d":"92,587,348"},{"$f":"J14","v":{"v":112887686,"d":"112,887,686"}}]
["국캠대학교회선교기금(FEA173001)",null,{"v":146649,"d":"146,649"}]
["이웃사랑기금(FEA183001)",null,{"v":83791013,"d":"83,791,013"}]
["유초등부발전기금(FAA213008)",null,{"v":18299135,"d":"18,299,135"}]
["기금 총액",null,{"$f":"SUM(C23:C27)","v":{"v":155617750,"d":"155,617,750 "}}]
[]
["*누적 이월금 (2023.3.1 기준 / 기금 및 전입금 제외)",null,{"v":453597137,"d":"453,597,137 "}]

{"sheet":"4월 수입 상세","index":5,"n_rows":28,"n_cols":6,"rows_kept":28,"merged":[[0,0,0,5]]}
["4월 수입 상세"]
["회계연도: 2023년도",{"$nulls":4},"(2023-04-30 현재)"]
[]
["분류항목","예산","당월","누계","집행률(%)","비고"]
["1. 주일헌금",{"v":160000000,"d":"160,000,000"},{"v":13194634,"d":"13,194,634"},{"$f":"SUM('3월 수입 상세'!D5+'4월 수입 상세'!C5)","v":{"v":23950634,"d":"23,950,634"}},{"$f":"D5/B5","v":{"v":0.1496914625,"d":"15.0%"}}]
["2. 십일조",{"v":105000000,"d":"105,000,000"},{"v":10608437,"d":"10,608,437"},{"$f":"SUM('3월 수입 상세'!D6+'4월 수입 상세'!C6)","v":{"v":19946437,"d":"19,946,437"}},{"$f":"D6/B6","v":{"v":0.18996606666666666,"d":"19.0%"}}]
["3. 월정헌금",{"v":145000000,"d":"145,000,000"},{"v":11580000,"d":"11,580,000"},{"$f":"SUM('3월 수입 상세'!D7+'4월 수입 상세'!C7)","v":{"v":24355000,"d":"24,355,000"}},{"v":0.16796551724137931,"d":"16.8%"}]
["4. 감사헌금",{"v":35000000,"d":"35,000,000"},{"v":2924000,"d":"2,924,000"},{"$f":"SUM('3월 수입 상세'!D8+'4월 수입 상세'!C8)","v":{"v":4878000,"d":"4,878,000"}},{"v":0.13937142857142856,"d":"13.9%"}]
["5. 교육부헌금",{"$f":"SUM(B10:B14)","v":{"v":22000000,"d":"22,000,000"}},{"$f":"SUM(C10:C14)","v":{"v":2007000,"d":"2,007,000"}},{"$f":"SUM(D10:D14)","v":{"v":4722460,"d":"4,722,460"}},{"v":0.21465727272727272,"d":"21.5%"}]
["   유치부",{"v":700000,"d":"700,000"},{"v":128000,"d":"128,000"},{"$f":"SUM('3월 수입 상세'!D10+'4월 수입 상세'!C10)","v":{"v":361049,"d":"361,049"}},{"v":0.5157842857142857,"d":"51.6%"}]
["   초등부",{"v":1000000,"d":"1,000,000"},{"v":102000,"d":"102,000"},{"$f":"SUM('3월 수입 상세'!D11+'4월 수입 상세'!C11)","v":{"v":249500,"d":"249,500"}},{"v":0.2495,"d":"25.0%"}]
["   중고등부",{"v":300000,"d":"300,000"},{"v":20000,"d":"20,000"},{"$f":"SUM('3월 수입 상세'!D12+'4월 수입 상세'!C12)","v":{"v":45722,"d":"45,722"}},{"v":0.15240666666666666,"d":"15.2%"}]
["   대학부(신촌)",{"v":7000000,"d":"7,000,000"},{"v":1186000,"d":"1,186,000"},{"$f":"SUM('3월 수입 상세'!D13+'4월 수입 상세'!C13)","v":{"v":2268977,"d":"2,268,977"}},{"v":0.3241395714285714,"d":"32.4%"}]
["   대학부(국제)",{"v":13000000,"d":"13,000,000"},{"v":571000,"d":"571,000"},{"$f":"SUM('3월 수입 상세'!D14+'4월 수입 상세'!C14)","v":{"v":1797212,"d":"1,797,212"}},{"v":0.13824707692307692,"d":"13.8%"}]
["6. 절기헌금",{"$f":"SUM(B16:B18)","v":{"v":35000000,"d":"35,000,000"}},{"$f":"SUM(C16:C18)","v":{"v":14256000,"d":"14,256,000"}},{"$f":"SUM('3월 수입 상세'!D15+'4월 수입 상세'!C15)","v":{"v":14256000,"d":"14,256,000"}},{"v":0.40731428571428574,"d":"40.7%"}]
["   부활절",{"v":10000000,"d":"10,000,000"},{"v":14256000,"d":"14,256,000"},{"$f":"SUM('3월 수입 상세'!D16+'4월 수입 상세'!C16)","v":{"v":14256000,"d":"14,256,000"}},{"v":1.4256,"d":"142.6%"}]
["   추수감사절",{"v":10000000,"d":"10,000,000"},0,{"$f":"SUM('3월 수입 상세'!D17+'4월 수입 상세'!C17)","v":0},{"v":0,"d":"0.0%"}]
["   성탄절",{"v":15000000,"d":"15,000,000"},0,{"$f":"SUM('3월 수입 상세'!D18+'4월 수입 상세'!C18)","v":0},{"v":0,"d":"0.0%"}]
["7. 선교헌금",{"v":5000000,"d":"5,000,000"},{"$f":"SUM(C20:C21)","v":{"v":514000,"d":"514,000"}},{"$f":"SUM(D20:D21)","v":{"v":819000,"d":"819,000"}},{"v":0.1638,"d":"16.4%"}]
["   선교헌금",{"v":2500000,"d":"2,500,000"},{"v":514000,"d":"514,000"},{"$f":"SUM('3월 수입 상세'!D20+'4월 수입 상세'!C20)","v":{"v":819000,"d":"819,000"}},{"v":0.3276,"d":"32.8%"}]
["   특별선교헌금",{"v":2500000,"d":"2,500,000"},0,{"$f":"SUM('3월 수입 상세'!D21+'4월 수입 상세'!C21)","v":0},{"v":0,"d":"0.0%"}]
["8. 지정헌금",{"v":20000000,"d":"20,000,000"},{"v":530000,"d":"530,000"},{"$f":"SUM('3월 수입 상세'!D22+'4월 수입 상세'!C22)","v":{"v":5738000,"d":"5,738,000"}},{"v":0.2869,"d":"28.7%"},"헌화헌금 53만 원"]
["9. 특별헌금(이웃사랑실천헌금 등)",{"v":13000000,"d":"13,000,000"},0,{"$f":"SUM('3월 수입 상세'!D23+'4월 수입 상세'!C23)","v":0},{"v":0,"d":"0.0%"}]
["헌금 수입 소계",{"$f":"SUM(B5,B6,B7,B8,B9,B15,B19,B22,B23)","v":{"v":540000000,"d":"540,000,000"}},{"$f":"SUM(C5,C6,C7,C8,C9,C15,C19,C22,C23)","v":{"v":55614071,"d":"55,614,071"}},{"$f":"SUM(D5,D6,D7,D8,D9,D15,D19,D22,D23)","v":{"v":98665531,"d":"98,665,531"}},{"v":0.1827139462962963,"d":"18.3%"}]
["전기이월금 전입",{"v":40000000,"d":"40,000,000"},0,{"v":40000000,"d":"40,000,000"},{"v":1,"d":"100.0%"}]
["헌금외 기금",0,0,{"$f":"C26","v":0}]
["전월이월금",0,{"$f":"'4월 약식'!C18","v":{"v":-31699560,"d":"-31,699,560"}},0]
["수입부 총액",{"$f":"B24+B25","v":{"v":580000000,"d":"580,000,000"}},{"$f":"SUM(C24:C27)","v":{"v":23914511,"d":"23,914,511"}},{"$f":"SUM(D24:D27)","v":{"v":138665531,"d":"138,665,531"}},{"v":0.23907850172413794,"d":"23.9%"}]

{"sheet":"4월 지출 상세","index":6,"n_rows":96,"n_cols":7,"rows_kept":96,"merged":[[0,0,0,6],[1,3,1,4]]}
["4월 지출 상세"]
["회계연도: 2023년도"]
[{"$nulls":6},"(2023-04-30 현재)"]
["분류항목","예산","당월","누계","집행률(%)",null,"비고"]
["1. 예배운영비",{"$f":"SUM(B6:B9)","v":{"v":22700000,"d":"22,700,000"}},{"$f":"SUM(C6:C12)-C9","v":{"v":820400,"d":"820,400"}},{"$f":"SUM(D6:D9)","v":{"v":3139050,"d":"3,139,050"}},{"$f":"D5/B5","v":{"v":0.138284140969163,"d":"13.8%"}},{"$f":"SUM(F6:F9)","v":0}]
["   1.1 성례예식비",{"v":1200000,"d":"1,200,000"},{"v":117000,"d":"117,000"},{"$f":"'3월 지출 상세'!D6+'4월 지출 상세'!C6","v":{"v":417000,"d":"417,000"}},{"$f":"D6/B6","v":{"v":0.3475,"d":"34.8%"}},{"$f":"IF($F$4=\"보정\", 보정치!E4)","v":false},"성찬키트 구입"]
["   1.2 주보인쇄비",{"v":4000000,"d":"4,000,000"},{"v":150000,"d":"150,000"},{"$f":"'3월 지출 상세'!D7+'4월 지출 상세'!C7","v":{"v":365000,"d":"365,000"}},{"v":0.09125,"d":"9.1%"},{"$f":"IF($F$4=\"보정\", 보정치!E5)","v":false}]
["   1.3 강사접대비",{"v":2500000,"d":"2,500,000"},{"v":262500,"d":"262,500"},{"$f":"'3월 지출 상세'!D8+'4월 지출 상세'!C8","v":{"v":485000,"d":"485,000"}},{"v":0.194,"d":"19.4%"},{"$f":"IF($F$4=\"보정\", 보정치!E6)","v":false}]
["   1.4 예배준비비",{"$f":"SUM(B10:B12)","v":{"v":15000000,"d":"15,000,000"}},{"$f":"SUM(C10:C12)","v":{"v":290900,"d":"290,900"}},{"$f":"'3월 지출 상세'!D9+'4월 지출 상세'!C9","v":{"v":1872050,"d":"1,872,050"}},{"v":0.12480333333333334,"d":"12.5%"},{"$f":"IF($F$4=\"보정\", 보정치!E7)","v":false}]
["      1.4.1 성전 꽃꽂이",{"v":10000000,"d":"10,000,000"},0,{"$f":"'3월 지출 상세'!D10+'4월 지출 상세'!C10","v":{"v":1200000,"d":"1,200,000"}},{"v":0.12,"d":"12.0%"},{"$f":"IF($F$4=\"보정\", 보정치!E8)","v":false},"2, 3월 예배당 꽃장식비"]
["      1.4.2 봉사자 식사",{"v":4000000,"d":"4,000,000"},{"v":181100,"d":"181,100"},{"$f":"'3월 지출 상세'!D11+'4월 지출 상세'!C11","v":{"v":562250,"d":"562,250"}},{"v":0.1405625,"d":"14.1%"},{"$f":"IF($F$4=\"보정\", 보정치!E9)","v":false}]
["      1.4.3 절기행사비",{"v":1000000,"d":"1,000,000"},{"v":109800,"d":"109,800"},{"$f":"'3월 지출 상세'!D12+'4월 지출 상세'!C12","v":{"v":109800,"d":"109,800"}},{"v":0.1098,"d":"11.0%"},{"$f":"IF($F$4=\"보정\", 보정치!E10)","v":false}]
["2. 교육운영비",{"$f":"SUM(B14:B21)","v":{"v":30500000,"d":"30,500,000"}},{"$f":"SUM(C14:C21)","v":0},{"$f":"SUM(D14:D21)","v":{"v":748390,"d":"748,390"}},{"v":0.02453737704918033,"d":"2.5%"},{"$f":"IF($F$4=\"보정\", 보정치!E11)","v":false}]
["   2.1 주일성서연구운영비",{"v":1000000,"d":"1,000,000"},0,{"$f":"'3월 지출 상세'!D14+'4월 지출 상세'!C14","v":0},{"v":0,"d":"0.0%"},{"$f":"IF($F$4=\"보정\", 보정치!E12)","v":false}]
["   2.2 도서 및 교재",{"v":2000000,"d":"2,000,000"},0,{"$f":"'3월 지출 상세'!D15+'4월 지출 상세'!C15","v":{"v":326100,"d":"326,100"}},{"v":0.16305,"d":"16.3%"},{"$f":"IF($F$4=\"보정\", 보정치!E13)","v":false}]
["   2.3 전교인수양회 행사비",{"v":14000000,"d":"14,000,000"},0,{"$f":"'3월 지출 상세'!D16+'4월 지출 상세'!C16","v":0},{"v":0,"d":"0.0%"},{"$f":"IF($F$4=\"보정\", 보정치!E14)","v":false}]
["   2.4 교목연수비",0,0,{"$f":"'3월 지출 상세'!D17+'4월 지출 상세'!C17","v":0},null,{"$f":"IF($F$4=\"보정\", 보정치!E15)","v":false}]
["   2.5 교역자 교육훈련비",{"v":3000000,"d":"3,000,000"},0,{"$f":"'3월 지출 상세'!D18+'4월 지출 상세'!C18","v":{"v":422290,"d":"422,290"}},{"v":0.14076333333333332,"d":"14.1%"},{"$f":"IF($F$4=\"보정\", 보정치!E16)","v":false}]
["   2.6 교사세미나/교역자workshop",{"v":3000000,"d":"3,000,000"},0,{"$f":"'3월 지출 상세'!D19+'4월 지출 상세'!C19","v":0},{"v":0,"d":"0.0%"},{"$f":"IF($F$4=\"보정\", 보정치!E17)","v":false}]
["   2.7 교육부 운영비",{"v":7500000,"d":"7,500,000"},0,{"$f":"'3월 지출 상세'!D20+'4월 지출 상세'!C20","v":0},{"v":0,"d":"0.0%"},{"$f":"IF($F$4=\"보정\", 보정치!E18)","v":false}]
["   2.8 교육운영 예비비",0,0,{"$f":"'3월 지출 상세'!D21+'4월 지출 상세'!C21","v":0},null,{"$f":"IF($F$4=\"보정\", 보정치!E19)","v":false}]
["3. 선교비",{"$f":"SUM(B23,B34,B35,B36,B37)","v":{"v":74760000,"d":"74,760,000"}},{"$f":"SUM(C23,C34,C35,C36,C37)","v":{"v":1266000,"d":"1,266,000"}},{"$f":"SUM(D23,D34:D37)","v":{"v":25923000,"d":"25,923,000"}},{"v":0.34674959871589084,"d":"34.7%"},{"$f":"SUM(F23,F32,F33,F34,F35)","v":0}]
["   3.1 학원선교",{"$f":"SUM(B24:B33)","v":{"v":50960000,"d":"50,960,000"}},{"$f":"SUM(C24:C33)","v":{"v":866000,"d":"866,000"}},{"$f":"SUM(D24:D33)","v":{"v":1866000,"d":"1,866,000"}},{"v":0.03661695447409733,"d":"3.7%"},{"$f":"SUM(F24:F31)","v":0}]
["      3.1.1 간식나눔행사(신촌)",{"v":2000000,"d":"2,000,000"},{"v":66000,"d":"66,000"},{"$f":"'3월 지출 상세'!D24+'4월 지출 상세'!C24","v":{"v":66000,"d":"66,000"}},{"v":0.033,"d":"3.3%"},{"$f":"IF($F$4=\"보정\", 보정치!E22)","v":false}]
["      3.1.2 간식나눔행사(국제)",{"v":1000000,"d":"1,000,000"},0,{"$f":"'3월 지출 상세'!D25+'4월 지출 상세'!C25","v":0},{"v":0,"d":"0.0%"},{"$f":"IF($F$4=\"보정\", 보정치!E23)","v":false}]
["      3.1.3 교목실 점심나눔 후원",{"v":27000000,"d":"27,000,000"},0,{"$f":"'3월 지출 상세'!D26+'4월 지출 상세'!C26","v":0},{"v":0,"d":"0.0%"},{"$f":"IF($F$4=\"보정\", 보정치!E24)","v":false}]
["      3.1.4 연세기독학생연합회 지원",{"v":3600000,"d":"3,600,000"},{"v":300000,"d":"300,000"},{"$f":"'3월 지출 상세'!D27+'4월 지출 상세'!C27","v":{"v":600000,"d":"600,000"}},{"v":0.16666666666666666,"d":"16.7%"},{"$f":"IF($F$4=\"보정\", 보정치!E25)","v":false}]
["      3.1.5 연세기독학생회찬양팀 후원",{"v":2400000,"d":"2,400,000"},{"v":200000,"d":"200,000"},{"$f":"'3월 지출 상세'!D28+'4월 지출 상세'!C28","v":{"v":400000,"d":"400,000"}},{"v":0.16666666666666666,"d":"16.7%"},{"$f":"IF($F$4=\"보정\", 보정치!E26)","v":false}]
["      3.1.6 YMK 후원",{"v":3600000,"d":"3,600,000"},{"v":300000,"d":"300,000"},{"$f":"'3월 지출 상세'!D29+'4월 지출 상세'!C29","v":{"v":600000,"d":"600,000"}},{"v":0.16666666666666666,"d":"16.7%"},{"$f":"IF($F$4=\"보정\", 보정치!E27)","v":false}]
["      3.1.7 통일한마당",{"v":2400000,"d":"2,400,000"},0,{"$f":"'3월 지출 상세'!D30+'4월 지출 상세'!C30","v":{"v":200000,"d":"200,000"}},{"v":0.08333333333333333,"d":"8.3%"},{"$f":"IF($F$4=\"보정\", 보정치!E28)","v":false},"지급정보 오류로 미지급"]
["      3.1.8 리틀언더우드 후원",{"v":5000000,"d":"5,000,000"},0,{"$f":"'3월 지출 상세'!D31+'4월 지출 상세'!C31","v":0},{"v":0,"d":"0.0%"},0]
["      3.1.9 멘토멘티프로그램",{"v":3960000,"d":"3,960,000"},0,{"$f":"'3월 지출 상세'!D32+'4월 지출 상세'!C32","v":0},{"v":0,"d":"0.0%"},0]
["      3.1.10 학원선교 기타",0,0,{"$f":"'3월 지출 상세'!D33+'4월 지출 상세'!C33","v":0},null,{"$f":"IF($F$4=\"보정\", 보정치!E31)","v":false}]
["   3.2 국외선교",{"v":4800000,"d":"4,800,000"},{"v":400000,"d":"400,000"},{"$f":"'3월 지출 상세'!D34+'4월 지출 상세'!C34","v":{"v":800000,"d":"800,000"}},{"v":0.16666666666666666,"d":"16.7%"},{"$f":"IF($F$4=\"보정\", 보정치!E32)","v":false},"함정희, 노규래 "]
["   3.3 이웃사랑 실천헌금",{"v":9000000,"d":"9,000,000"},0,{"$f":"'3월 지출 상세'!D35+'4월 지출 상세'!C35","v":0},{"v":0,"d":"0.0%"},{"$f":"IF($F$4=\"보정\", 보정치!E33)","v":false}]
["   3.4 지정헌금",{"v":10000000,"d":"10,000,000"},0,{"$f":"'3월 지출 상세'!D36+'4월 지출 상세'!C36","v":{"v":23257000,"d":"23,257,000"}},{"v":2.3257,"d":"232.6%"},{"$f":"IF($F$4=\"보정\", 보정치!E34)","v":false}]
["   3.5 선교예비금",0,0,{"$f":"'3월 지출 상세'!D37+'4월 지출 상세'!C37","v":0},null,{"$f":"IF($F$4=\"보정\", 보정치!E35)","v":false}]
["4. 친교행사운영비",{"$f":"SUM(B39:B49)-B47","v":{"v":27600000,"d":"27,600,000"}},{"$f":"SUM(C39:C49)-C47","v":{"v":2972460,"d":"2,972,460"}},{"$f":"SUM(D39:D46,D48:D49)","v":{"v":3588780,"d":"3,588,780"}},{"v":0.1300282608695652,"d":"13.0%"},{"$f":"SUM(F39:F49)-F47","v":0}]
["   4.1 주일공동식사",{"v":7000000,"d":"7,000,000"},{"v":2228200,"d":"2,228,200"},{"$f":"'3월 지출 상세'!D39+'4월 지출 상세'!C39","v":{"v":2228200,"d":"2,228,200"}},{"v":0.3183142857142857,"d":"31.8%"},{"$f":"IF($F$4=\"보정\", 보정치!E37)","v":false}]
["   4.2 야외예배 행사비",0,0,{"$f":"'3월 지출 상세'!D40+'4월 지출 상세'!C40","v":0},null,{"$f":"IF($F$4=\"보정\", 보정치!E38)","v":false}]
["   4.3 경로행사비",{"v":1500000,"d":"1,500,000"},0,{"$f":"'3월 지출 상세'!D41+'4월 지출 상세'!C41","v":0},{"v":0,"d":"0.0%"},{"$f":"IF($F$4=\"보정\", 보정치!E39)","v":false}]
["   4.4 성탄행사비",{"v":2100000,"d":"2,100,000"},0,{"$f":"'3월 지출 상세'!D42+'4월 지출 상세'!C42","v":0},{"v":0,"d":"0.0%"},{"$f":"IF($F$4=\"보정\", 보정치!E40)","v":false}]
["   4.5 주일다과비",{"v":5000000,"d":"5,000,000"},{"v":105120,"d":"105,120"},{"$f":"'3월 지출 상세'!D43+'4월 지출 상세'!C43","v":{"v":221440,"d":"221,440"}},{"v":0.044288,"d":"4.4%"},{"$f":"IF($F$4=\"보정\", 보정치!E41)","v":false}]
["   4.6 경조비",{"v":4000000,"d":"4,000,000"},{"v":200000,"d":"200,000"},{"$f":"'3월 지출 상세'!D44+'4월 지출 상세'!C44","v":{"v":700000,"d":"700,000"}},{"v":0.175,"d":"17.5%"},{"$f":"IF($F$4=\"보정\", 보정치!E42)","v":false}]
["   4.7 교우친교비",{"v":2000000,"d":"2,000,000"},{"v":439140,"d":"439,140"},{"$f":"'3월 지출 상세'!D45+'4월 지출 상세'!C45","v":{"v":439140,"d":"439,140"}},{"v":0.21957,"d":"22.0%"},{"$f":"IF($F$4=\"보정\", 보정치!E43)","v":false}]
["   4.8 홍보출판비",{"v":4000000,"d":"4,000,000"},{"$f":"C47","v":0},{"$f":"D47","v":0},{"v":0,"d":"0.0%"},{"$f":"IF($F$4=\"보정\", 보정치!E44)","v":false}]
["      4.8.1 대학교회 회지",{"v":4000000,"d":"4,000,000"},0,{"$f":"'3월 지출 상세'!D47+'4월 지출 상세'!C47","v":0},{"v":0,"d":"0.0%"},{"$f":"IF($F$4=\"보정\", 보정치!E45)","v":false}]
["   4.9 교회봉사자 선물",{"v":2000000,"d":"2,000,000"},0,{"$f":"'3월 지출 상세'!D48+'4월 지출 상세'!C48","v":0},{"v":0,"d":"0.0%"},{"$f":"IF($F$4=\"보정\", 보정치!E46)","v":false}]
["   4.10 친교행사 예비비",0,0,{"$f":"'3월 지출 상세'!D49+'4월 지출 상세'!C49","v":0},null,{"$f":"IF($F$4=\"보정\", 보정치!E47)","v":false}]
["5. 사례비",{"$f":"SUM(B51:B66,B69,B70)","v":{"v":234270000,"d":"234,270,000"}},{"$f":"SUM(C51:C66,C69,C70)","v":{"v":20844000,"d":"20,844,000"}},{"$f":"SUM(D51:D66,D69:D70)","v":{"v":40736000,"d":"40,736,000"}},{"v":0.17388483373884833,"d":"17.4%"},{"$f":"SUM(F51:F70)","v":0}]
["   5.1 외부강사 설교 사례",{"v":12000000,"d":"12,000,000"},{"v":900000,"d":"900,000"},{"$f":"'3월 지출 상세'!D51+'4월 지출 상세'!C51","v":{"v":2400000,"d":"2,400,000"}},{"v":0.2,"d":"20.0%"},{"$f":"IF($F$4=\"보정\", 보정치!E47)","v":false}]
["   5.2 외부강사 설교 사례(대학부-국제)",{"v":2400000,"d":"2,400,000"},0,{"$f":"'3월 지출 상세'!D52+'4월 지출 상세'!C52","v":0},{"v":0,"d":"0.0%"},{"$f":"IF($F$4=\"보정\", 보정치!E48)","v":false}]
["   5.3 절기 예배 연주자",{"v":800000,"d":"800,000"},0,{"$f":"'3월 지출 상세'!D53+'4월 지출 상세'!C53","v":0},{"v":0,"d":"0.0%"},{"$f":"IF($F$4=\"보정\", 보정치!E49)","v":false}]
["   5.4 국악 예배 연주자",{"v":1800000,"d":"1,800,000"},0,{"$f":"'3월 지출 상세'!D54+'4월 지출 상세'!C54","v":0},{"v":0,"d":"0.0%"},{"$f":"IF($F$4=\"보정\", 보정치!E50)","v":false}]
["   5.5 봉헌송 사례",{"v":450000,"d":"450,000"},0,{"$f":"'3월 지출 상세'!D55+'4월 지출 상세'!C55","v":0},{"v":0,"d":"0.0%"},{"$f":"IF($F$4=\"보정\", 보정치!E51)","v":false}]
["   5.6 주일성서연구 강사사례",{"v":4000000,"d":"4,000,000"},{"v":1000000,"d":"1,000,000"},{"$f":"'3월 지출 상세'!D56+'4월 지출 상세'!C56","v":{"v":1000000,"d":"1,000,000"}},{"v":0.25,"d":"25.0%"},{"$f":"IF($F$4=\"보정\", 보정치!E52)","v":false}]
["   5.8 담임목사 ",{"v":14400000,"d":"14,400,000"},{"v":1200000,"d":"1,200,000"},{"$f":"'3월 지출 상세'!D57+'4월 지출 상세'!C57","v":{"v":2400000,"d":"2,400,000"}},{"v":0.16666666666666666,"d":"16.7%"},{"$f":"IF($F$4=\"보정\", 보정치!E53)","v":false}]
["   5.9 동역목사",{"v":12000000,"d":"12,000,000"},{"v":600000,"d":"600,000"},{"$f":"'3월 지출 상세'!D58+'4월 지출 상세'!C58","v":{"v":1200000,"d":"1,200,000"}},{"v":0.1,"d":"10.0%"},{"$f":"IF($F$4=\"보정\", 보정치!E54)","v":false}]
["   5.10 전임교역자",{"v":67500000,"d":"67,500,000"},{"v":7500000,"d":"7,500,000"},{"$f":"'3월 지출 상세'!D59+'4월 지출 상세'!C59","v":{"v":15000000,"d":"15,000,000"}},{"v":0.2222222222222222,"d":"22.2%"},{"$f":"IF($F$4=\"보정\", 보정치!E55)","v":false}]
["   5.11 성가대지휘자",{"v":12000000,"d":"12,000,000"},{"v":1000000,"d":"1,000,000"},{"$f":"'3월 지출 상세'!D60+'4월 지출 상세'!C60","v":{"v":2000000,"d":"2,000,000"}},{"v":0.16666666666666666,"d":"16.7%"},{"$f":"IF($F$4=\"보정\", 보정치!E56)","v":false}]
["   5.12 오르가니스트",{"v":12000000,"d":"12,000,000"},{"v":1000000,"d":"1,000,000"},{"$f":"'3월 지출 상세'!D61+'4월 지출 상세'!C61","v":{"v":2000000,"d":"2,000,000"}},{"v":0.16666666666666666,"d":"16.7%"},{"$f":"IF($F$4=\"보정\", 보정치!E57)","v":false}]
["   5.13 교육부서 담당교역자",{"v":38400000,"d":"38,400,000"},{"v":3200000,"d":"3,200,000"},{"$f":"'3월 지출 상세'!D62+'4월 지출 상세'!C62","v":{"v":6400000,"d":"6,400,000"}},{"v":0.16666666666666666,"d":"16.7%"},{"$f":"IF($F$4=\"보정\", 보정치!E58)","v":false}]
["   5.14 성인 솔리스트",{"v":23520000,"d":"23,520,000"},{"v":1960000,"d":"1,960,000"},{"$f":"'3월 지출 상세'!D63+'4월 지출 상세'!C63","v":{"v":3920000,"d":"3,920,000"}},{"v":0.16666666666666666,"d":"16.7%"},{"$f":"IF($F$4=\"보정\", 보정치!E59)","v":false}]
["   5.15 통역자",{"v":4000000,"d":"4,000,000"},{"v":375000,"d":"375,000"},{"$f":"'3월 지출 상세'!D64+'4월 지출 상세'!C64","v":{"v":675000,"d":"675,000"}},{"v":0.16875,"d":"16.9%"},{"$f":"IF($F$4=\"보정\", 보정치!E60)","v":false}]
["   5.16 방송담당",{"v":12000000,"d":"12,000,000"},{"v":1275000,"d":"1,275,000"},{"$f":"'3월 지출 상세'!D65+'4월 지출 상세'!C65","v":{"v":2175000,"d":"2,175,000"}},{"v":0.18125,"d":"18.1%"},{"$f":"IF($F$4=\"보정\", 보정치!E61)","v":false}]
["   5.17 용원 사례비 ",{"$f":"SUM(B67:B68)","v":{"v":11000000,"d":"11,000,000"}},{"$f":"SUM(C67,C68)","v":{"v":834000,"d":"834,000"}},{"$f":"SUM(D67:D68)","v":{"v":1566000,"d":"1,566,000"}},{"v":0.14236363636363636,"d":"14.2%"},{"$f":"IF($F$4=\"보정\", 보정치!E62)","v":false}]
["      5.17.1 관리실 여사",{"v":6000000,"d":"6,000,000"},{"v":510000,"d":"510,000"},{"$f":"'3월 지출 상세'!D67+'4월 지출 상세'!C67","v":{"v":918000,"d":"918,000"}},{"v":0.153,"d":"15.3%"},{"$f":"IF($F$4=\"보정\", 보정치!E63)","v":false}]
["      5.17.2 관리실 반장",{"v":5000000,"d":"5,000,000"},{"v":324000,"d":"324,000"},{"$f":"'3월 지출 상세'!D68+'4월 지출 상세'!C68","v":{"v":648000,"d":"648,000"}},{"v":0.1296,"d":"13.0%"},{"$f":"IF($F$4=\"보정\", 보정치!E64)","v":false}]
["   5.18 퇴직위로금",{"v":3000000,"d":"3,000,000"},0,{"$f":"'3월 지출 상세'!D69+'4월 지출 상세'!C69","v":0},{"v":0,"d":"0.0%"},{"$f":"IF($F$4=\"보정\", 보정치!E65)","v":false}]
["   5.19 기타(교역자휴가 및 기타인건비)",{"v":3000000,"d":"3,000,000"},0,{"$f":"'3월 지출 상세'!D70+'4월 지출 상세'!C70","v":0},{"v":0,"d":"0.0%"},{"$f":"IF($F$4=\"보정\", 보정치!E66)","v":false}]
["6. 행정운영비",{"$f":"SUM(B72:B74,B81,B82,B83,B84,B85)","v":{"v":90700000,"d":"90,700,000"}},{"$f":"SUM(C72:C74,C81,C82,C83,C84,C85)","v":{"v":9813806,"d":"9,813,806"}},{"$f":"SUM(D72:D74,D81:D85)","v":{"v":16532466,"d":"16,532,466"}},{"v":0.18227636163175304,"d":"18.2%"},{"$f":"SUM(F72:F74,F81,F82,F83,F84,F85)","v":0}]
["   6.1 회의 및 교회위원회",{"v":6000000,"d":"6,000,000"},{"v":697700,"d":"697,700"},{"$f":"'3월 지출 상세'!D72+'4월 지출 상세'!C72","v":{"v":1247420,"d":"1,247,420"}},{"v":0.20790333333333333,"d":"20.8%"},{"$f":"IF($F$4=\"보정\", 보정치!E70)","v":false}]
["   6.2 사무운영비",{"v":13000000,"d":"13,000,000"},{"v":1545856,"d":"1,545,856"},{"$f":"'3월 지출 상세'!D73+'4월 지출 상세'!C73","v":{"v":2703076,"d":"2,703,076"}},{"$f":"D73/B73","v":{"v":0.20792892307692307,"d":"20.8%"}},{"$f":"IF($F$4=\"보정\", 보정치!E71)","v":false}]
["   6.3 부서운영비",{"$f":"SUM(B75:B80)","v":{"v":52000000,"d":"52,000,000"}},{"$f":"SUM(C75:C80)","v":{"v":5584000,"d":"5,584,000"}},{"$f":"SUM(D75:D80)","v":{"v":9988200,"d":"9,988,200"}},{"v":0.19208076923076922,"d":"19.2%"},{"$f":"IF($F$4=\"보정\", 보정치!E72)","v":false}]
["      6.3.1 성가대",{"v":14300000,"d":"14,300,000"},{"v":1884000,"d":"1,884,000"},{"$f":"'3월 지출 상세'!D75+'4월 지출 상세'!C75","v":{"v":3188200,"d":"3,188,200"}},{"v":0.22295104895104895,"d":"22.3%"},{"$f":"IF($F$4=\"보정\", 보정치!E73)","v":false}]
["      6.3.2 유치부",{"v":4500000,"d":"4,500,000"},{"v":400000,"d":"400,000"},{"$f":"'3월 지출 상세'!D76+'4월 지출 상세'!C76","v":{"v":800000,"d":"800,000"}},{"v":0.17777777777777778,"d":"17.8%"},{"$f":"IF($F$4=\"보정\", 보정치!E74)","v":false}]
["      6.3.3 초등부",{"v":7100000,"d":"7,100,000"},{"v":600000,"d":"600,000"},{"$f":"'3월 지출 상세'!D77+'4월 지출 상세'!C77","v":{"v":1200000,"d":"1,200,000"}},{"v":0.16901408450704225,"d":"16.9%"},{"$f":"IF($F$4=\"보정\", 보정치!E75)","v":false}]
["      6.3.4 중고등부",{"v":5100000,"d":"5,100,000"},{"v":500000,"d":"500,000"},{"$f":"'3월 지출 상세'!D78+'4월 지출 상세'!C78","v":{"v":1000000,"d":"1,000,000"}},{"v":0.19607843137254902,"d":"19.6%"},{"$f":"IF($F$4=\"보정\", 보정치!E76)","v":false}]
["      6.3.5 대학부(신촌)",{"v":12000000,"d":"12,000,000"},{"v":1300000,"d":"1,300,000"},{"$f":"'3월 지출 상세'!D79+'4월 지출 상세'!C79","v":{"v":2000000,"d":"2,000,000"}},{"v":0.16666666666666666,"d":"16.7%"},{"$f":"IF($F$4=\"보정\", 보정치!E77)","v":false}]
["      6.3.6 대학부(국제)",{"v":9000000,"d":"9,000,000"},{"v":900000,"d":"900,000"},{"$f":"'3월 지출 상세'!D80+'4월 지출 상세'!C80","v":{"v":1800000,"d":"1,800,000"}},{"v":0.2,"d":"20.0%"},{"$f":"IF($F$4=\"보정\", 보정치!E78)","v":false}]
["   6.4 목회활동비",{"v":7200000,"d":"7,200,000"},{"v":1027200,"d":"1,027,200"},{"$f":"'3월 지출 상세'!D81+'4월 지출 상세'!C81","v":{"v":1621760,"d":"1,621,760"}},{"v":0.22524444444444444,"d":"22.5%"},{"$f":"IF($F$4=\"보정\", 보정치!E79)","v":false}]
["   6.5 용품 및 수리비",{"v":5000000,"d":"5,000,000"},0,{"$f":"'3월 지출 상세'!D82+'4월 지출 상세'!C82","v":0},{"v":0,"d":"0.0%"},{"$f":"IF($F$4=\"보정\", 보정치!E80)","v":false}]
["   6.6 연료비 및 통신비",{"v":4000000,"d":"4,000,000"},{"v":389050,"d":"389,050"},{"$f":"'3월 지출 상세'!D83+'4월 지출 상세'!C83","v":{"v":402010,"d":"402,010"}},{"$f":"D83/B83","v":{"v":0.1005025,"d":"10.1%"}},{"$f":"IF($F$4=\"보정\", 보정치!E81)","v":false}]
["   6.7 악기구입 및 보수",{"v":3500000,"d":"3,500,000"},{"v":570000,"d":"570,000"},{"$f":"'3월 지출 상세'!D84+'4월 지출 상세'!C84","v":{"v":570000,"d":"570,000"}},{"$f":"D84/B84","v":{"v":0.16285714285714287,"d":"16.3%"}},{"$f":"IF($F$4=\"보정\", 보정치!E82)","v":false},"오르간 및 피아노 조율비"]
["   6.8 행정운영 예비비",0,0,{"$f":"'3월 지출 상세'!D85+'4월 지출 상세'!C85","v":0},null,{"$f":"IF($F$4=\"보정\", 보정치!E83)","v":false}]
["7. 장학금",{"$f":"SUM(B87:B91)","v":{"v":66720000,"d":"66,720,000"}},{"$f":"SUM(C87:C91)","v":{"v":1920000,"d":"1,920,000"}},{"$f":"SUM(D87:D91)","v":{"v":21720000,"d":"21,720,000"}},{"v":0.3255395683453237,"d":"32.6%"},{"$f":"SUM(F87:F91)","v":0}]
["   7.1 교회학교 교사",{"v":21000000,"d":"21,000,000"},{"v":1200000,"d":"1,200,000"},{"$f":"'3월 지출 상세'!D87+'4월 지출 상세'!C87","v":{"v":2400000,"d":"2,400,000"}},{"v":0.11428571428571428,"d":"11.4%"},{"$f":"IF($F$4=\"보정\", 보정치!E83)","v":false}]
["   7.2 신촌 대학청년부",{"v":12000000,"d":"12,000,000"},0,{"$f":"'3월 지출 상세'!D88+'4월 지출 상세'!C88","v":{"v":5400000,"d":"5,400,000"}},{"v":0.45,"d":"45.0%"},{"$f":"IF($F$4=\"보정\", 보정치!E84)","v":false}]
["   7.3 국제 대학부",{"v":9000000,"d":"9,000,000"},0,{"$f":"'3월 지출 상세'!D89+'4월 지출 상세'!C89","v":{"v":3600000,"d":"3,600,000"}},{"v":0.4,"d":"40.0%"},{"$f":"IF($F$4=\"보정\", 보정치!E85)","v":false}]
["   7.4 학생 솔리스트",{"v":16320000,"d":"16,320,000"},{"v":720000,"d":"720,000"},{"$f":"'3월 지출 상세'!D90+'4월 지출 상세'!C90","v":{"v":6120000,"d":"6,120,000"}},{"v":0.375,"d":"37.5%"},{"$f":"IF($F$4=\"보정\", 보정치!E86)","v":false},"누락된 장학금 지급"]
["   7.5 기숙사지원",{"v":8400000,"d":"8,400,000"},0,{"$f":"'3월 지출 상세'!D91+'4월 지출 상세'!C91","v":{"v":4200000,"d":"4,200,000"}},{"v":0.5,"d":"50.0%"},{"$f":"IF($F$4=\"보정\", 보정치!E87)","v":false}]
["8. 예비비",{"v":32750000,"d":"32,750,000"},{"v":500000,"d":"500,000"},{"$f":"'3월 지출 상세'!D92+'4월 지출 상세'!C92","v":{"v":500000,"d":"500,000"}},{"v":0.015267175572519083,"d":"1.5%"},{"$f":"IF($F$4=\"보정\", 보정치!E90)","v":false},"국제캠퍼스 교목실 행사 후원"]
["9. 이웃사랑기금적립",0,0,{"$f":"'3월 지출 상세'!D93+'4월 지출 상세'!C93","v":0},{"v":0,"d":"0.0%"},{"$f":"IF($F$4=\"보정\", 보정치!E91)","v":false}]
["일반 지출 소계",{"$f":"SUM(B5,B13,B22,B38,B50,B71,B86,B92,B93)","v":{"v":580000000,"d":"580,000,000"}},{"$f":"SUM(C5,C13,C22,C38,C50,C71,C86,C92,C93)","v":{"v":38136666,"d":"38,136,666"}},{"$f":"SUM(D5,D13,D22,D38,D50,D71,D86,D92,D93)","v":{"v":112887686,"d":"112,887,686"}},{"v":0.19463394137931034,"d":"19.5%"},{"$f":"SUM(F86,F71,F50,F38,F22,F13,F5)","v":0}]
["차월이월",null,{"$f":"'4월 수입 상세'!C24-'4월 지출 상세'!C94","v":{"v":17477405,"d":"17,477,405"}},{"$f":"'4월 수입 상세'!D25+'4월 수입 상세'!D26+'4월 지출 상세'!C95","v":{"v":57477405,"d":"57,477,405"}}]
["지출부 총액",{"$f":"B94+B95","v":{"v":580000000,"d":"580,000,000"}},{"$f":"C94+C95","v":{"v":55614071,"d":"55,614,071"}},{"$f":"D94+D95","v":{"v":170365091,"d":"170,365,091"}},{"v":0.2937329155172414,"d":"29.4%"}]

{"sheet":"5월 약식","index":7,"n_rows":30,"n_cols":11,"rows_kept":30,"merged":[[0,0,0,10],[1,8,1,10],[2,0,2,4],[2,5,2,10],[3,5,3,6],[13,5,13,6],[14,5,14,6],[18,5,18,6],[19,0,19,6],[20,0,20,2],[20,5,20,8],[21,0,21,1],[22,0,22,1],[23,0,23,1],[24,0,24,1],[24,5,24,8],[25,0,25,1],[26,0,26,1]],"headers":{"header":["[첨부1]"],"footer":["","페이지"]}}
["2023년 5월 결산보고서(약식) "]
["회계년도: 2023년도",{"$nulls":7},"(2023-05-31 현재)"]
["수입의 부",{"$nulls":4},"지출의 부"]
["항 목","예산","당월 수입","수입 누계","집행률(%)","항 목",null,"예산","당월 지출","지출 누계","집행률(%)"]
["1. 주일헌금",{"$f":"'5월 수입 상세'!B5","v":{"v":160000000,"d":"160,000,000"}},{"$f":"'5월 수입 상세'!C5","v":{"v":11950000,"d":"11,950,000"}},{"$f":"VLOOKUP(A5, '5월 수입 상세'!$A$4:$F$29, 4, FALSE)","v":{"v":35900634,"d":"35,900,634"}},{"$f":"D5/B5","v":{"v":0.2243789625,"d":"22.4%"}},"1. 예배운영비",null,{"$f":"'5월 지출 상세'!B5","v":{"v":22700000,"d":"22,700,000"}},{"$f":"'5월 지출 상세'!C5","v":{"v":1359900,"d":"1,359,900"}},{"$f":"VLOOKUP(F5, '5월 지출 상세'!$A$4:$G$96, 4, FALSE)","v":{"v":4498950,"d":"4,498,950"}},{"$f":"J5/H5","v":{"v":0.19819162995594714,"d":"19.8%"}}]
["2. 십일조",{"$f":"'5월 수입 상세'!B6","v":{"v":105000000,"d":"105,000,000"}},{"$f":"'5월 수입 상세'!C6","v":{"v":7507000,"d":"7,507,000"}},{"$f":"VLOOKUP(A6, '5월 수입 상세'!$A$4:$F$29, 4, FALSE)","v":{"v":27453437,"d":"27,453,437"}},{"v":0.26146130476190477,"d":"26.1%"},"2. 교육운영비",null,{"$f":"'5월 지출 상세'!B13","v":{"v":30500000,"d":"30,500,000"}},{"$f":"'5월 지출 상세'!C13","v":{"v":61250,"d":"61,250"}},{"$f":"VLOOKUP(F6, '5월 지출 상세'!$A$4:$G$96, 4, FALSE)","v":{"v":809640,"d":"809,640"}},{"v":0.0265455737704918,"d":"2.7%"}]
["3. 월정헌금",{"$f":"'5월 수입 상세'!B7","v":{"v":145000000,"d":"145,000,000"}},{"$f":"'5월 수입 상세'!C7","v":{"v":11670000,"d":"11,670,000"}},{"$f":"VLOOKUP(A7, '5월 수입 상세'!$A$4:$F$29, 4, FALSE)","v":{"v":36025000,"d":"36,025,000"}},{"v":0.24844827586206897,"d":"24.8%"},"3. 선교비",null,{"$f":"'5월 지출 상세'!B22","v":{"v":74760000,"d":"74,760,000"}},{"$f":"'5월 지출 상세'!C22","v":{"v":1311200,"d":"1,311,200"}},{"$f":"VLOOKUP(F7, '5월 지출 상세'!$A$4:$G$96, 4, FALSE)","v":{"v":27234200,"d":"27,234,200"}},{"v":0.3642883895131086,"d":"36.4%"}]
["4. 감사헌금",{"$f":"'5월 수입 상세'!B8","v":{"v":35000000,"d":"35,000,000"}},{"$f":"'5월 수입 상세'!C8","v":{"v":3803000,"d":"3,803,000"}},{"$f":"VLOOKUP(A8, '5월 수입 상세'!$A$4:$F$29, 4, FALSE)","v":{"v":8681000,"d":"8,681,000"}},{"v":0.24802857142857143,"d":"24.8%"},"4. 친교행사운영비",null,{"$f":"'5월 지출 상세'!B38","v":{"v":27600000,"d":"27,600,000"}},{"$f":"'5월 지출 상세'!C38","v":{"v":786200,"d":"786,200"}},{"$f":"VLOOKUP(F8, '5월 지출 상세'!$A$4:$G$96, 4, FALSE)","v":{"v":4374980,"d":"4,374,980"}},{"v":0.15851376811594203,"d":"15.9%"}]
["5. 교육부헌금",{"$f":"'5월 수입 상세'!B9","v":{"v":22000000,"d":"22,000,000"}},{"$f":"'5월 수입 상세'!C9","v":{"v":1291500,"d":"1,291,500"}},{"$f":"VLOOKUP(A9, '5월 수입 상세'!$A$4:$F$29, 4, FALSE)","v":{"v":6013960,"d":"6,013,960"}},{"v":0.2733618181818182,"d":"27.3%"},"5. 사례비",null,{"$f":"'5월 지출 상세'!B50","v":{"v":234270000,"d":"234,270,000"}},{"$f":"'5월 지출 상세'!C50","v":{"v":37068000,"d":"37,068,000"}},{"$f":"VLOOKUP(F9, '5월 지출 상세'!$A$4:$G$96, 4, FALSE)","v":{"v":77804000,"d":"77,804,000"}},{"v":0.3321125197421778,"d":"33.2%"}]
["6. 절기헌금",{"$f":"'5월 수입 상세'!B15","v":{"v":35000000,"d":"35,000,000"}},{"$f":"'5월 수입 상세'!C15","v":0},{"$f":"VLOOKUP(A10, '5월 수입 상세'!$A$4:$F$29, 4, FALSE)","v":{"v":14256000,"d":"14,256,000"}},{"v":0.40731428571428574,"d":"40.7%"},"6. 행정운영비",null,{"$f":"'5월 지출 상세'!B71","v":{"v":90700000,"d":"90,700,000"}},{"$f":"'5월 지출 상세'!C71","v":{"v":5845730,"d":"5,845,730"}},{"$f":"VLOOKUP(F10, '5월 지출 상세'!$A$4:$G$96, 4, FALSE)","v":{"v":22378196,"d":"22,378,196"}},{"v":0.24672762954796032,"d":"24.7%"}]
["7. 선교헌금",{"$f":"'5월 수입 상세'!B19","v":{"v":5000000,"d":"5,000,000"}},{"$f":"'5월 수입 상세'!C19","v":{"v":100000,"d":"100,000"}},{"$f":"VLOOKUP(A11, '5월 수입 상세'!$A$4:$F$29, 4, FALSE)","v":{"v":919000,"d":"919,000"}},{"v":0.1838,"d":"18.4%"},"7. 장학금",null,{"$f":"'5월 지출 상세'!B86","v":{"v":66720000,"d":"66,720,000"}},{"$f":"'5월 지출 상세'!C86","v":{"v":1360000,"d":"1,360,000"}},{"$f":"VLOOKUP(F11, '5월 지출 상세'!$A$4:$G$96, 4, FALSE)","v":{"v":23080000,"d":"23,080,000"}},{"v":0.3459232613908873,"d":"34.6%"}]
["8. 지정헌금",{"$f":"'5월 수입 상세'!B22","v":{"v":20000000,"d":"20,000,000"}},{"$f":"'5월 수입 상세'!C22","v":{"v":760000,"d":"760,000"}},{"$f":"VLOOKUP(A12, '5월 수입 상세'!$A$4:$F$29, 4, FALSE)","v":{"v":6498000,"d":"6,498,000"}},{"v":0.3249,"d":"32.5%"},"8. 예비비",null,{"$f":"'5월 지출 상세'!B92","v":{"v":32750000,"d":"32,750,000"}},{"$f":"'5월 지출 상세'!C92","v":{"v":7035670,"d":"7,035,670"}},{"$f":"VLOOKUP(F12, '5월 지출 상세'!$A$4:$G$96, 4, FALSE)","v":{"v":7535670,"d":"7,535,670"}},{"v":0.23009679389312976,"d":"23.0%"}]
["9. 특별헌금(이웃사랑실천헌금 등)",{"$f":"'5월 수입 상세'!B23","v":{"v":13000000,"d":"13,000,000"}},{"$f":"'5월 수입 상세'!C23","v":{"v":100000,"d":"100,000"}},{"$f":"VLOOKUP(A13, '5월 수입 상세'!$A$4:$F$29, 4, FALSE)","v":{"v":100000,"d":"100,000"}},{"v":0.007692307692307693,"d":"0.8%"},"9. 이웃사랑기금적립",null,{"$f":"'5월 지출 상세'!B93","v":0},{"$f":"'5월 지출 상세'!C93","v":0},{"$f":"VLOOKUP(F13, '5월 지출 상세'!$A$4:$G$96, 4, FALSE)","v":0}]
["헌금 수입 소계",{"$f":"SUM(B5:B13)","v":{"v":540000000,"d":"540,000,000"}},{"$f":"SUM(C5:C13)","v":{"v":37181500,"d":"37,181,500"}},{"$f":"SUM(D5:D13)","v":{"v":135847031,"d":"135,847,031"}},{"v":0.2515685759259259,"d":"25.2%"},"  일반 지출 소계",null,{"$f":"SUM(H5:H13)","v":{"v":580000000,"d":"580,000,000"}},{"$f":"SUM(I5:I13)","v":{"v":54827950,"d":"54,827,950"}},{"$f":"SUM(J5:J13)","v":{"v":167715636,"d":"167,715,636"}},{"$f":"J14/H14","v":{"v":0.2891648896551724,"d":"28.9%"}}]
["전기이월금 전입",{"v":40000000,"d":"40,000,000"},0,{"$f":"'3월 약식'!D15+'5월 약식'!C15","v":{"v":40000000,"d":"40,000,000"}},{"v":1,"d":"100.0%"},"  차월이월",null,null,{"$f":"C14-I14","v":{"v":-17646450,"d":"-17,646,450"}},{"$f":"D19-J14","v":{"v":30008295,"d":"30,008,295"}}]
["전기이월금 추가전입",null,0,{"$f":"'3월 약식'!D16","v":{"v":21876900,"d":"21,876,900"}}]
["헌금외 기금",null,0,0]
["전월이월금",null,{"$f":"'4월 약식'!I15","v":{"v":17477405,"d":"17,477,405"}}]
["수입부 총액",{"$f":"SUM(B14:B18)","v":{"v":580000000,"d":"580,000,000 "}},{"$f":"SUM(C14:C18)","v":{"v":54658905,"d":"54,658,905 "}},{"$f":"SUM(D14:D18)","v":{"v":197723931,"d":"197,723,931 "}},{"$f":"D19/B19","v":{"v":0.34090332931034484,"d":"34.1%"}},"  지출부 총액",null,{"$f":"SUM(H14:H18)","v":{"v":580000000,"d":"580,000,000 "}},{"$f":"SUM(I14:I18)","v":{"v":37181500,"d":"37,181,500 "}},{"$f":"SUM(J14:J18)","v":{"v":197723931,"d":"197,723,931 "}},{"$f":"J19/H19","v":{"v":0.34090332931034484,"d":"34.1%"}}]
["*지정헌금 내역(성가대_20만 원, 헌화 56만 원)"]
["기금 및 이월금 현황 (2023.3.1 기준)",{"$nulls":4},"헌금 수입 및 지출 누계 비교"]
["기금명",null,"금액(이자포함)",{"$nulls":3},"2021년 5월","2022년 5월 ","2023년 5월"]
["박명윤이행자선교기금(FAA003023)",null,{"v":53380953,"d":"53,380,953"},null,null,"수입 누계",{"v":168164055,"d":"168,164,055"},{"v":134058854,"d":"134,058,854"},{"$f":"D14","v":{"v":135847031,"d":"135,847,031"}}]
["대학교회건축기금(FBA113041)",null,0,null,null,"지출 누계",{"v":114702022,"d":"114,702,022"},{"v":122683803,"d":"122,683,803"},{"$f":"J14","v":{"v":167715636,"d":"167,715,636"}}]
["국캠대학교회선교기금(FEA173001)",null,{"v":146649,"d":"146,649"}]
["이웃사랑기금(FEA183001)",null,{"v":83791013,"d":"83,791,013"}]
["유초등부발전기금(FAA213008)",null,{"v":18299135,"d":"18,299,135"}]
["기금 총액",null,{"$f":"SUM(C23:C27)","v":{"v":155617750,"d":"155,617,750 "}}]
[]
["*누적 이월금 (2023.3.1 기준 / 기금 및 전입금 제외)",null,{"v":453597137,"d":"453,597,137 "}]

{"sheet":"5월 수입 상세","index":8,"n_rows":29,"n_cols":6,"rows_kept":29,"merged":[[0,0,0,5]]}
["5월 수입 상세"]
["회계연도: 2023년도",{"$nulls":4},"(2023-05-31 현재)"]
[]
["분류항목","예산","당월","누계","집행률(%)","비고"]
["1. 주일헌금",{"v":160000000,"d":"160,000,000"},{"v":11950000,"d":"11,950,000"},{"$f":"SUM('4월 수입 상세'!D5+'5월 수입 상세'!C5)","v":{"v":35900634,"d":"35,900,634"}},{"$f":"D5/B5","v":{"v":0.2243789625,"d":"22.4%"}}]
["2. 십일조",{"v":105000000,"d":"105,000,000"},{"v":7507000,"d":"7,507,000"},{"$f":"SUM('4월 수입 상세'!D6+'5월 수입 상세'!C6)","v":{"v":27453437,"d":"27,453,437"}},{"$f":"D6/B6","v":{"v":0.26146130476190477,"d":"26.1%"}}]
["3. 월정헌금",{"v":145000000,"d":"145,000,000"},{"v":11670000,"d":"11,670,000"},{"$f":"SUM('4월 수입 상세'!D7+'5월 수입 상세'!C7)","v":{"v":36025000,"d":"36,025,000"}},{"v":0.24844827586206897,"d":"24.8%"}]
["4. 감사헌금",{"v":35000000,"d":"35,000,000"},{"v":3803000,"d":"3,803,000"},{"$f":"SUM('4월 수입 상세'!D8+'5월 수입 상세'!C8)","v":{"v":8681000,"d":"8,681,000"}},{"v":0.24802857142857143,"d":"24.8%"}]
["5. 교육부헌금",{"$f":"SUM(B10:B14)","v":{"v":22000000,"d":"22,000,000"}},{"$f":"SUM(C10:C14)","v":{"v":1291500,"d":"1,291,500"}},{"$f":"SUM(D10:D14)","v":{"v":6013960,"d":"6,013,960"}},{"v":0.2733618181818182,"d":"27.3%"}]
["   유치부",{"v":700000,"d":"700,000"},{"v":120000,"d":"120,000"},{"$f":"SUM('4월 수입 상세'!D10+'5월 수입 상세'!C10)","v":{"v":481049,"d":"481,049"}},{"v":0.6872128571428572,"d":"68.7%"}]
["   초등부",{"v":1000000,"d":"1,000,000"},{"v":106000,"d":"106,000"},{"$f":"SUM('4월 수입 상세'!D11+'5월 수입 상세'!C11)","v":{"v":355500,"d":"355,500"}},{"v":0.3555,"d":"35.6%"}]
["   중고등부",{"v":300000,"d":"300,000"},{"v":17000,"d":"17,000"},{"$f":"SUM('4월 수입 상세'!D12+'5월 수입 상세'!C12)","v":{"v":62722,"d":"62,722"}},{"v":0.20907333333333333,"d":"20.9%"}]
["   대학부(신촌)",{"v":7000000,"d":"7,000,000"},{"v":670500,"d":"670,500"},{"$f":"SUM('4월 수입 상세'!D13+'5월 수입 상세'!C13)","v":{"v":2939477,"d":"2,939,477"}},{"v":0.4199252857142857,"d":"42.0%"}]
["   대학부(국제)",{"v":13000000,"d":"13,000,000"},{"v":378000,"d":"378,000"},{"$f":"SUM('4월 수입 상세'!D14+'5월 수입 상세'!C14)","v":{"v":2175212,"d":"2,175,212"}},{"v":0.167324,"d":"16.7%"}]
["6. 절기헌금",{"$f":"SUM(B16:B18)","v":{"v":35000000,"d":"35,000,000"}},0,{"$f":"SUM('4월 수입 상세'!D15+'5월 수입 상세'!C15)","v":{"v":14256000,"d":"14,256,000"}},{"v":0.40731428571428574,"d":"40.7%"}]
["   부활절",{"v":10000000,"d":"10,000,000"},0,{"$f":"SUM('4월 수입 상세'!D16+'5월 수입 상세'!C16)","v":{"v":14256000,"d":"14,256,000"}},{"v":1.4256,"d":"142.6%"}]
["   추수감사절",{"v":10000000,"d":"10,000,000"},0,{"$f":"SUM('4월 수입 상세'!D17+'5월 수입 상세'!C17)","v":0},{"v":0,"d":"0.0%"}]
["   성탄절",{"v":15000000,"d":"15,000,000"},0,{"$f":"SUM('4월 수입 상세'!D18+'5월 수입 상세'!C18)","v":0},{"v":0,"d":"0.0%"}]
["7. 선교헌금",{"v":5000000,"d":"5,000,000"},{"$f":"SUM(C20:C21)","v":{"v":100000,"d":"100,000"}},{"$f":"SUM(D20:D21)","v":{"v":919000,"d":"919,000"}},{"v":0.1838,"d":"18.4%"}]
["   선교헌금",{"v":2500000,"d":"2,500,000"},{"v":100000,"d":"100,000"},{"$f":"SUM('4월 수입 상세'!D20+'5월 수입 상세'!C20)","v":{"v":919000,"d":"919,000"}},{"v":0.3676,"d":"36.8%"}]
["   특별선교헌금",{"v":2500000,"d":"2,500,000"},0,{"$f":"SUM('4월 수입 상세'!D21+'5월 수입 상세'!C21)","v":0},{"v":0,"d":"0.0%"}]
["8. 지정헌금",{"v":20000000,"d":"20,000,000"},{"v":760000,"d":"760,000"},{"$f":"SUM('4월 수입 상세'!D22+'5월 수입 상세'!C22)","v":{"v":6498000,"d":"6,498,000"}},{"v":0.3249,"d":"32.5%"},"성가대 지정헌금 20만 원\n헌화헌금 56만 원"]
["9. 특별헌금(이웃사랑실천헌금 등)",{"v":13000000,"d":"13,000,000"},{"v":100000,"d":"100,000"},{"$f":"SUM('4월 수입 상세'!D23+'5월 수입 상세'!C23)","v":{"v":100000,"d":"100,000"}},{"v":0.007692307692307693,"d":"0.8%"}]
["헌금 수입 소계",{"$f":"SUM(B5,B6,B7,B8,B9,B15,B19,B22,B23)","v":{"v":540000000,"d":"540,000,000"}},{"$f":"SUM(C5,C6,C7,C8,C9,C15,C19,C22,C23)","v":{"v":37181500,"d":"37,181,500"}},{"$f":"SUM(D5,D6,D7,D8,D9,D15,D19,D22,D23)","v":{"v":135847031,"d":"135,847,031"}},{"v":0.2515685759259259,"d":"25.2%"}]
["전기이월금 전입",{"v":40000000,"d":"40,000,000"},0,{"v":40000000,"d":"40,000,000"},{"v":1,"d":"100.0%"}]
["전기이월금 추가전입",null,0,{"$f":"'5월 약식'!D16","v":{"v":21876900,"d":"21,876,900"}}]
["헌금외 기금",null,0,{"$f":"C27","v":0}]
["전월이월금",null,{"$f":"'5월 약식'!C18","v":{"v":17477405,"d":"17,477,405"}}]
["수입부 총액",{"$f":"B24+B25","v":{"v":580000000,"d":"580,000,000"}},{"$f":"SUM(C24:C28)","v":{"v":54658905,"d":"54,658,905"}},{"$f":"SUM(D24:D28)","v":{"v":197723931,"d":"197,723,931"}},{"v":0.34090332931034484,"d":"34.1%"}]

{"sheet":"5월 지출 상세","index":9,"n_rows":96,"n_cols":7,"rows_kept":96,"merged":[[0,0,0,6],[1,3,1,4]]}
["5월 지출 상세"]
["회계연도: 2023년도"]
[{"$nulls":6},"(2023-05-31 현재)"]
["분류항목","예산","당월","누계","집행률(%)",null,"비고"]
["1. 예배운영비",{"$f":"SUM(B6:B9)","v":{"v":22700000,"d":"22,700,000"}},{"$f":"SUM(C6:C12)-C9","v":{"v":1359900,"d":"1,359,900"}},{"$f":"SUM(D6:D9)","v":{"v":4498950,"d":"4,498,950"}},{"$f":"D5/B5","v":{"v":0.19819162995594714,"d":"19.8%"}},{"$f":"SUM(F6:F9)","v":0}]
["   1.1 성례예식비",{"v":1200000,"d":"1,200,000"},0,{"$f":"'4월 지출 상세'!D6+'5월 지출 상세'!C6","v":{"v":417000,"d":"417,000"}},{"$f":"D6/B6","v":{"v":0.3475,"d":"34.8%"}},{"$f":"IF($F$4=\"보정\", 보정치!E4)","v":false}]
["   1.2 주보인쇄비",{"v":4000000,"d":"4,000,000"},{"v":160000,"d":"160,000"},{"$f":"'4월 지출 상세'!D7+'5월 지출 상세'!C7","v":{"v":525000,"d":"525,000"}},{"v":0.13125,"d":"13.1%"},{"$f":"IF($F$4=\"보정\", 보정치!E5)","v":false}]
["   1.3 강사접대비",{"v":2500000,"d":"2,500,000"},{"v":40500,"d":"40,500"},{"$f":"'4월 지출 상세'!D8+'5월 지출 상세'!C8","v":{"v":525500,"d":"525,500"}},{"v":0.2102,"d":"21.0%"},{"$f":"IF($F$4=\"보정\", 보정치!E6)","v":false}]
["   1.4 예배준비비",{"$f":"SUM(B10:B12)","v":{"v":15000000,"d":"15,000,000"}},{"$f":"SUM(C10:C12)","v":{"v":1159400,"d":"1,159,400"}},{"$f":"'4월 지출 상세'!D9+'5월 지출 상세'!C9","v":{"v":3031450,"d":"3,031,450"}},{"v":0.20209666666666667,"d":"20.2%"},{"$f":"IF($F$4=\"보정\", 보정치!E7)","v":false}]
["      1.4.1 성전 꽃꽂이",{"v":10000000,"d":"10,000,000"},{"v":1000000,"d":"1,000,000"},{"$f":"'4월 지출 상세'!D10+'5월 지출 상세'!C10","v":{"v":2200000,"d":"2,200,000"}},{"v":0.22,"d":"22.0%"},{"$f":"IF($F$4=\"보정\", 보정치!E8)","v":false}]
["      1.4.2 봉사자 식사",{"v":4000000,"d":"4,000,000"},{"v":159400,"d":"159,400"},{"$f":"'4월 지출 상세'!D11+'5월 지출 상세'!C11","v":{"v":721650,"d":"721,650"}},{"v":0.1804125,"d":"18.0%"},{"$f":"IF($F$4=\"보정\", 보정치!E9)","v":false}]
["      1.4.3 절기행사비",{"v":1000000,"d":"1,000,000"},0,{"$f":"'4월 지출 상세'!D12+'5월 지출 상세'!C12","v":{"v":109800,"d":"109,800"}},{"v":0.1098,"d":"11.0%"},{"$f":"IF($F$4=\"보정\", 보정치!E10)","v":false}]
["2. 교육운영비",{"$f":"SUM(B14:B21)","v":{"v":30500000,"d":"30,500,000"}},{"$f":"SUM(C14:C21)","v":{"v":61250,"d":"61,250"}},{"$f":"'4월 지출 상세'!D13+'5월 지출 상세'!C13","v":{"v":809640,"d":"809,640"}},{"v":0.0265455737704918,"d":"2.7%"},{"$f":"IF($F$4=\"보정\", 보정치!E11)","v":false}]
["   2.1 주일성서연구운영비",{"v":1000000,"d":"1,000,000"},0,{"$f":"'4월 지출 상세'!D14+'5월 지출 상세'!C14","v":0},{"v":0,"d":"0.0%"},{"$f":"IF($F$4=\"보정\", 보정치!E12)","v":false}]
["   2.2 도서 및 교재",{"v":2000000,"d":"2,000,000"},0,{"$f":"'4월 지출 상세'!D15+'5월 지출 상세'!C15","v":{"v":326100,"d":"326,100"}},{"v":0.16305,"d":"16.3%"},{"$f":"IF($F$4=\"보정\", 보정치!E13)","v":false}]
["   2.3 전교인수양회 행사비",{"v":14000000,"d":"14,000,000"},0,{"$f":"'4월 지출 상세'!D16+'5월 지출 상세'!C16","v":0},{"v":0,"d":"0.0%"},{"$f":"IF($F$4=\"보정\", 보정치!E14)","v":false}]
["   2.4 교목연수비",0,0,{"$f":"'4월 지출 상세'!D17+'5월 지출 상세'!C17","v":0},null,{"$f":"IF($F$4=\"보정\", 보정치!E15)","v":false}]
["   2.5 교역자 교육훈련비",{"v":3000000,"d":"3,000,000"},{"v":61250,"d":"61,250"},{"$f":"'4월 지출 상세'!D18+'5월 지출 상세'!C18","v":{"v":483540,"d":"483,540"}},{"v":0.16118,"d":"16.1%"},{"$f":"IF($F$4=\"보정\", 보정치!E16)","v":false}]
["   2.6 교사세미나/교역자workshop",{"v":3000000,"d":"3,000,000"},0,{"$f":"'4월 지출 상세'!D19+'5월 지출 상세'!C19","v":0},{"v":0,"d":"0.0%"},{"$f":"IF($F$4=\"보정\", 보정치!E17)","v":false}]
["   2.7 교육부 운영비",{"v":7500000,"d":"7,500,000"},0,{"$f":"'4월 지출 상세'!D20+'5월 지출 상세'!C20","v":0},{"v":0,"d":"0.0%"},{"$f":"IF($F$4=\"보정\", 보정치!E18)","v":false}]
["   2.8 교육운영 예비비",0,0,{"$f":"'4월 지출 상세'!D21+'5월 지출 상세'!C21","v":0},null,{"$f":"IF($F$4=\"보정\", 보정치!E19)","v":false}]
["3. 선교비",{"$f":"SUM(B23,B34,B35,B36,B37)","v":{"v":74760000,"d":"74,760,000"}},{"$f":"SUM(C23,C34,C35,C36,C37)","v":{"v":1311200,"d":"1,311,200"}},{"$f":"'4월 지출 상세'!D22+'5월 지출 상세'!C22","v":{"v":27234200,"d":"27,234,200"}},{"v":0.3642883895131086,"d":"36.4%"},{"$f":"SUM(F23,F32,F33,F34,F35)","v":0}]
["   3.1 학원선교",{"$f":"SUM(B24:B33)","v":{"v":50960000,"d":"50,960,000"}},{"$f":"SUM(C24:C33)","v":{"v":911200,"d":"911,200"}},{"$f":"'4월 지출 상세'!D23+'5월 지출 상세'!C23","v":{"v":2777200,"d":"2,777,200"}},{"v":0.05449764521193093,"d":"5.4%"},{"$f":"SUM(F24:F31)","v":0}]
["      3.1.1 간식나눔행사(신촌)",{"v":2000000,"d":"2,000,000"},{"v":111200,"d":"111,200"},{"$f":"'4월 지출 상세'!D24+'5월 지출 상세'!C24","v":{"v":177200,"d":"177,200"}},{"v":0.0886,"d":"8.9%"},{"$f":"IF($F$4=\"보정\", 보정치!E22)","v":false}]
["      3.1.2 간식나눔행사(국제)",{"v":1000000,"d":"1,000,000"},0,{"$f":"'4월 지출 상세'!D25+'5월 지출 상세'!C25","v":0},{"v":0,"d":"0.0%"},{"$f":"IF($F$4=\"보정\", 보정치!E23)","v":false}]
["      3.1.3 교목실 점심나눔 후원",{"v":27000000,"d":"27,000,000"},0,{"$f":"'4월 지출 상세'!D26+'5월 지출 상세'!C26","v":0},{"v":0,"d":"0.0%"},{"$f":"IF($F$4=\"보정\", 보정치!E24)","v":false}]
["      3.1.4 연세기독학생연합회 지원",{"v":3600000,"d":"3,600,000"},{"v":300000,"d":"300,000"},{"$f":"'4월 지출 상세'!D27+'5월 지출 상세'!C27","v":{"v":900000,"d":"900,000"}},{"v":0.25,"d":"25.0%"},{"$f":"IF($F$4=\"보정\", 보정치!E25)","v":false}]
["      3.1.5 연세기독학생회찬양팀 후원",{"v":2400000,"d":"2,400,000"},{"v":200000,"d":"200,000"},{"$f":"'4월 지출 상세'!D28+'5월 지출 상세'!C28","v":{"v":600000,"d":"600,000"}},{"v":0.25,"d":"25.0%"},{"$f":"IF($F$4=\"보정\", 보정치!E26)","v":false}]
["      3.1.6 YMK 후원",{"v":3600000,"d":"3,600,000"},{"v":300000,"d":"300,000"},{"$f":"'4월 지출 상세'!D29+'5월 지출 상세'!C29","v":{"v":900000,"d":"900,000"}},{"v":0.25,"d":"25.0%"},{"$f":"IF($F$4=\"보정\", 보정치!E27)","v":false}]
["      3.1.7 통일한마당",{"v":2400000,"d":"2,400,000"},0,{"$f":"'4월 지출 상세'!D30+'5월 지출 상세'!C30","v":{"v":200000,"d":"200,000"}},{"v":0.08333333333333333,"d":"8.3%"},{"$f":"IF($F$4=\"보정\", 보정치!E28)","v":false},"지급정보 오류로 미지급"]
["      3.1.8 리틀언더우드 후원",{"v":5000000,"d":"5,000,000"},0,{"$f":"'4월 지출 상세'!D31+'5월 지출 상세'!C31","v":0},{"v":0,"d":"0.0%"},0]
["      3.1.9 멘토멘티프로그램",{"v":3960000,"d":"3,960,000"},0,{"$f":"'4월 지출 상세'!D32+'5월 지출 상세'!C32","v":0},{"v":0,"d":"0.0%"},0]
["      3.1.10 학원선교 기타",0,0,{"$f":"'4월 지출 상세'!D33+'5월 지출 상세'!C33","v":0},null,{"$f":"IF($F$4=\"보정\", 보정치!E31)","v":false}]
["   3.2 국외선교",{"v":4800000,"d":"4,800,000"},{"v":400000,"d":"400,000"},{"$f":"'4월 지출 상세'!D34+'5월 지출 상세'!C34","v":{"v":1200000,"d":"1,200,000"}},{"v":0.25,"d":"25.0%"},{"$f":"IF($F$4=\"보정\", 보정치!E32)","v":false},"함정희, 노규래 "]
["   3.3 이웃사랑 실천헌금",{"v":9000000,"d":"9,000,000"},0,{"$f":"'4월 지출 상세'!D35+'5월 지출 상세'!C35","v":0},{"v":0,"d":"0.0%"},{"$f":"IF($F$4=\"보정\", 보정치!E33)","v":false}]
["   3.4 지정헌금",{"v":10000000,"d":"10,000,000"},0,{"$f":"'4월 지출 상세'!D36+'5월 지출 상세'!C36","v":{"v":23257000,"d":"23,257,000"}},{"v":2.3257,"d":"232.6%"},{"$f":"IF($F$4=\"보정\", 보정치!E34)","v":false}]
["   3.5 선교예비금",0,0,{"$f":"'4월 지출 상세'!D37+'5월 지출 상세'!C37","v":0},null,{"$f":"IF($F$4=\"보정\", 보정치!E35)","v":false}]
["4. 친교행사운영비",{"$f":"SUM(B39:B49)-B47","v":{"v":27600000,"d":"27,600,000"}},{"$f":"SUM(C39:C49)-C47","v":{"v":786200,"d":"786,200"}},{"$f":"'4월 지출 상세'!D38+'5월 지출 상세'!C38","v":{"v":4374980,"d":"4,374,980"}},{"v":0.15851376811594203,"d":"15.9%"},{"$f":"SUM(F39:F49)-F47","v":0}]
["   4.1 주일공동식사",{"v":7000000,"d":"7,000,000"},0,{"$f":"'4월 지출 상세'!D39+'5월 지출 상세'!C39","v":{"v":2228200,"d":"2,228,200"}},{"v":0.3183142857142857,"d":"31.8%"},{"$f":"IF($F$4=\"보정\", 보정치!E37)","v":false}]
["   4.2 야외예배 행사비",0,0,{"$f":"'4월 지출 상세'!D40+'5월 지출 상세'!C40","v":0},null,{"$f":"IF($F$4=\"보정\", 보정치!E38)","v":false}]
["   4.3 경로행사비",{"v":1500000,"d":"1,500,000"},{"v":316000,"d":"316,000"},{"$f":"'4월 지출 상세'!D41+'5월 지출 상세'!C41","v":{"v":316000,"d":"316,000"}},{"v":0.21066666666666667,"d":"21.1%"},{"$f":"IF($F$4=\"보정\", 보정치!E39)","v":false}]
["   4.4 성탄행사비",{"v":2100000,"d":"2,100,000"},0,{"$f":"'4월 지출 상세'!D42+'5월 지출 상세'!C42","v":0},{"v":0,"d":"0.0%"},{"$f":"IF($F$4=\"보정\", 보정치!E40)","v":false}]
["   4.5 주일다과비",{"v":5000000,"d":"5,000,000"},{"v":68200,"d":"68,200"},{"$f":"'4월 지출 상세'!D43+'5월 지출 상세'!C43","v":{"v":289640,"d":"289,640"}},{"v":0.057928,"d":"5.8%"},{"$f":"IF($F$4=\"보정\", 보정치!E41)","v":false}]
["   4.6 경조비",{"v":4000000,"d":"4,000,000"},{"v":402000,"d":"402,000"},{"$f":"'4월 지출 상세'!D44+'5월 지출 상세'!C44","v":{"v":1102000,"d":"1,102,000"}},{"v":0.2755,"d":"27.6%"},{"$f":"IF($F$4=\"보정\", 보정치!E42)","v":false}]
["   4.7 교우친교비",{"v":2000000,"d":"2,000,000"},0,{"$f":"'4월 지출 상세'!D45+'5월 지출 상세'!C45","v":{"v":439140,"d":"439,140"}},{"v":0.21957,"d":"22.0%"},{"$f":"IF($F$4=\"보정\", 보정치!E43)","v":false}]
["   4.8 홍보출판비",{"v":4000000,"d":"4,000,000"},{"$f":"C47","v":0},{"$f":"'4월 지출 상세'!D46+'5월 지출 상세'!C46","v":0},{"v":0,"d":"0.0%"},{"$f":"IF($F$4=\"보정\", 보정치!E44)","v":false}]
["      4.8.1 대학교회 회지",{"v":4000000,"d":"4,000,000"},0,{"$f":"'4월 지출 상세'!D47+'5월 지출 상세'!C47","v":0},{"v":0,"d":"0.0%"},{"$f":"IF($F$4=\"보정\", 보정치!E45)","v":false}]
["   4.9 교회봉사자 선물",{"v":2000000,"d":"2,000,000"},0,{"$f":"'4월 지출 상세'!D48+'5월 지출 상세'!C48","v":0},{"v":0,"d":"0.0%"},{"$f":"IF($F$4=\"보정\", 보정치!E46)","v":false}]
["   4.10 친교행사 예비비",0,0,{"$f":"'4월 지출 상세'!D49+'5월 지출 상세'!C49","v":0},null,{"$f":"IF($F$4=\"보정\", 보정치!E47)","v":false}]
["5. 사례비",{"$f":"SUM(B51:B66,B69,B70)","v":{"v":234270000,"d":"234,270,000"}},{"$f":"SUM(C51:C66,C69,C70)","v":{"v":37068000,"d":"37,068,000"}},{"$f":"'4월 지출 상세'!D50+'5월 지출 상세'!C50","v":{"v":77804000,"d":"77,804,000"}},{"v":0.3321125197421778,"d":"33.2%"},{"$f":"SUM(F51:F70)","v":0}]
["   5.1 외부강사 설교 사례",{"v":12000000,"d":"12,000,000"},{"v":1300000,"d":"1,300,000"},{"$f":"'4월 지출 상세'!D51+'5월 지출 상세'!C51","v":{"v":3700000,"d":"3,700,000"}},{"v":0.30833333333333335,"d":"30.8%"},{"$f":"IF($F$4=\"보정\", 보정치!E47)","v":false}]
["   5.2 외부강사 설교 사례(대학부-국제)",{"v":2400000,"d":"2,400,000"},0,{"$f":"'4월 지출 상세'!D52+'5월 지출 상세'!C52","v":0},{"v":0,"d":"0.0%"},{"$f":"IF($F$4=\"보정\", 보정치!E48)","v":false}]
["   5.3 절기 예배 연주자",{"v":800000,"d":"800,000"},0,{"$f":"'4월 지출 상세'!D53+'5월 지출 상세'!C53","v":0},{"v":0,"d":"0.0%"},{"$f":"IF($F$4=\"보정\", 보정치!E49)","v":false}]
["   5.4 국악 예배 연주자",{"v":1800000,"d":"1,800,000"},0,{"$f":"'4월 지출 상세'!D54+'5월 지출 상세'!C54","v":0},{"v":0,"d":"0.0%"},{"$f":"IF($F$4=\"보정\", 보정치!E50)","v":false}]
["   5.5 봉헌송 사례",{"v":450000,"d":"450,000"},0,{"$f":"'4월 지출 상세'!D55+'5월 지출 상세'!C55","v":0},{"v":0,"d":"0.0%"},{"$f":"IF($F$4=\"보정\", 보정치!E51)","v":false}]
["   5.6 주일성서연구 강사사례",{"v":4000000,"d":"4,000,000"},{"v":1000000,"d":"1,000,000"},{"$f":"'4월 지출 상세'!D56+'5월 지출 상세'!C56","v":{"v":2000000,"d":"2,000,000"}},{"v":0.5,"d":"50.0%"},{"$f":"IF($F$4=\"보정\", 보정치!E52)","v":false}]
["   5.8 담임목사 ",{"v":14400000,"d":"14,400,000"},{"v":2400000,"d":"2,400,000"},{"$f":"'4월 지출 상세'!D57+'5월 지출 상세'!C57","v":{"v":4800000,"d":"4,800,000"}},{"v":0.3333333333333333,"d":"33.3%"},{"$f":"IF($F$4=\"보정\", 보정치!E53)","v":false}]
["   5.9 동역목사",{"v":12000000,"d":"12,000,000"},{"v":200000,"d":"200,000"},{"$f":"'4월 지출 상세'!D58+'5월 지출 상세'!C58","v":{"v":1400000,"d":"1,400,000"}},{"v":0.11666666666666667,"d":"11.7%"},{"$f":"IF($F$4=\"보정\", 보정치!E54)","v":false}]
["   5.10 전임교역자",{"v":67500000,"d":"67,500,000"},{"v":15000000,"d":"15,000,000"},{"$f":"'4월 지출 상세'!D59+'5월 지출 상세'!C59","v":{"v":30000000,"d":"30,000,000"}},{"v":0.4444444444444444,"d":"44.4%"},{"$f":"IF($F$4=\"보정\", 보정치!E55)","v":false}]
["   5.11 성가대지휘자",{"v":12000000,"d":"12,000,000"},{"v":2000000,"d":"2,000,000"},{"$f":"'4월 지출 상세'!D60+'5월 지출 상세'!C60","v":{"v":4000000,"d":"4,000,000"}},{"v":0.3333333333333333,"d":"33.3%"},{"$f":"IF($F$4=\"보정\", 보정치!E56)","v":false}]
["   5.12 오르가니스트",{"v":12000000,"d":"12,000,000"},{"v":2000000,"d":"2,000,000"},{"$f":"'4월 지출 상세'!D61+'5월 지출 상세'!C61","v":{"v":4000000,"d":"4,000,000"}},{"v":0.3333333333333333,"d":"33.3%"},{"$f":"IF($F$4=\"보정\", 보정치!E57)","v":false}]
["   5.13 교육부서 담당교역자",{"v":38400000,"d":"38,400,000"},{"v":6400000,"d":"6,400,000"},{"$f":"'4월 지출 상세'!D62+'5월 지출 상세'!C62","v":{"v":12800000,"d":"12,800,000"}},{"v":0.3333333333333333,"d":"33.3%"},{"$f":"IF($F$4=\"보정\", 보정치!E58)","v":false}]
["   5.14 성인 솔리스트",{"v":23520000,"d":"23,520,000"},{"v":3240000,"d":"3,240,000"},{"$f":"'4월 지출 상세'!D63+'5월 지출 상세'!C63","v":{"v":7160000,"d":"7,160,000"}},{"v":0.304421768707483,"d":"30.4%"},{"$f":"IF($F$4=\"보정\", 보정치!E59)","v":false}]
["   5.15 통역자",{"v":4000000,"d":"4,000,000"},{"v":600000,"d":"600,000"},{"$f":"'4월 지출 상세'!D64+'5월 지출 상세'!C64","v":{"v":1275000,"d":"1,275,000"}},{"v":0.31875,"d":"31.9%"},{"$f":"IF($F$4=\"보정\", 보정치!E60)","v":false}]
["   5.16 방송담당",{"v":12000000,"d":"12,000,000"},{"v":1200000,"d":"1,200,000"},{"$f":"'4월 지출 상세'!D65+'5월 지출 상세'!C65","v":{"v":3375000,"d":"3,375,000"}},{"v":0.28125,"d":"28.1%"},{"$f":"IF($F$4=\"보정\", 보정치!E61)","v":false}]
["   5.17 용원 사례비 ",{"$f":"SUM(B67:B68)","v":{"v":11000000,"d":"11,000,000"}},{"$f":"SUM(C67,C68)","v":{"v":1728000,"d":"1,728,000"}},{"$f":"'4월 지출 상세'!D66+'5월 지출 상세'!C66","v":{"v":3294000,"d":"3,294,000"}},{"v":0.2994545454545455,"d":"29.9%"},{"$f":"IF($F$4=\"보정\", 보정치!E62)","v":false}]
["      5.17.1 관리실 여사",{"v":6000000,"d":"6,000,000"},{"v":1242000,"d":"1,242,000"},{"$f":"'4월 지출 상세'!D67+'5월 지출 상세'!C67","v":{"v":2160000,"d":"2,160,000"}},{"v":0.36,"d":"36.0%"},{"$f":"IF($F$4=\"보정\", 보정치!E63)","v":false}]
["      5.17.2 관리실 반장",{"v":5000000,"d":"5,000,000"},{"v":486000,"d":"486,000"},{"$f":"'4월 지출 상세'!D68+'5월 지출 상세'!C68","v":{"v":1134000,"d":"1,134,000"}},{"v":0.2268,"d":"22.7%"},{"$f":"IF($F$4=\"보정\", 보정치!E64)","v":false}]
["   5.18 퇴직위로금",{"v":3000000,"d":"3,000,000"},0,{"$f":"'4월 지출 상세'!D69+'5월 지출 상세'!C69","v":0},{"v":0,"d":"0.0%"},{"$f":"IF($F$4=\"보정\", 보정치!E65)","v":false}]
["   5.19 기타(교역자휴가 및 기타인건비)",{"v":3000000,"d":"3,000,000"},0,{"$f":"'4월 지출 상세'!D70+'5월 지출 상세'!C70","v":0},{"v":0,"d":"0.0%"},{"$f":"IF($F$4=\"보정\", 보정치!E66)","v":false}]
["6. 행정운영비",{"$f":"SUM(B72:B74,B81,B82,B83,B84,B85)","v":{"v":90700000,"d":"90,700,000"}},{"$f":"SUM(C72:C74,C81,C82,C83,C84,C85)","v":{"v":5845730,"d":"5,845,730"}},{"$f":"'4월 지출 상세'!D71+'5월 지출 상세'!C71","v":{"v":22378196,"d":"22,378,196"}},{"v":0.24672762954796032,"d":"24.7%"},{"$f":"SUM(F72:F74,F81,F82,F83,F84,F85)","v":0}]
["   6.1 회의 및 교회위원회",{"v":6000000,"d":"6,000,000"},{"v":378780,"d":"378,780"},{"$f":"'4월 지출 상세'!D72+'5월 지출 상세'!C72","v":{"v":1626200,"d":"1,626,200"}},{"v":0.27103333333333335,"d":"27.1%"},{"$f":"IF($F$4=\"보정\", 보정치!E70)","v":false}]
["   6.2 사무운영비",{"v":13000000,"d":"13,000,000"},{"v":358570,"d":"358,570"},{"$f":"'4월 지출 상세'!D73+'5월 지출 상세'!C73","v":{"v":3061646,"d":"3,061,646"}},{"$f":"D73/B73","v":{"v":0.23551123076923078,"d":"23.6%"}},{"$f":"IF($F$4=\"보정\", 보정치!E71)","v":false}]
["   6.3 부서운영비",{"$f":"SUM(B75:B80)","v":{"v":52000000,"d":"52,000,000"}},{"$f":"SUM(C75:C80)","v":{"v":4200000,"d":"4,200,000"}},{"$f":"'4월 지출 상세'!D74+'5월 지출 상세'!C74","v":{"v":14188200,"d":"14,188,200"}},{"v":0.27285,"d":"27.3%"},{"$f":"IF($F$4=\"보정\", 보정치!E72)","v":false}]
["      6.3.1 성가대",{"v":14300000,"d":"14,300,000"},{"v":1100000,"d":"1,100,000"},{"$f":"'4월 지출 상세'!D75+'5월 지출 상세'!C75","v":{"v":4288200,"d":"4,288,200"}},{"v":0.2998741258741259,"d":"30.0%"},{"$f":"IF($F$4=\"보정\", 보정치!E73)","v":false}]
["      6.3.2 유치부",{"v":4500000,"d":"4,500,000"},{"v":400000,"d":"400,000"},{"$f":"'4월 지출 상세'!D76+'5월 지출 상세'!C76","v":{"v":1200000,"d":"1,200,000"}},{"v":0.26666666666666666,"d":"26.7%"},{"$f":"IF($F$4=\"보정\", 보정치!E74)","v":false}]
["      6.3.3 초등부",{"v":7100000,"d":"7,100,000"},{"v":600000,"d":"600,000"},{"$f":"'4월 지출 상세'!D77+'5월 지출 상세'!C77","v":{"v":1800000,"d":"1,800,000"}},{"v":0.2535211267605634,"d":"25.4%"},{"$f":"IF($F$4=\"보정\", 보정치!E75)","v":false}]
["      6.3.4 중고등부",{"v":5100000,"d":"5,100,000"},{"v":500000,"d":"500,000"},{"$f":"'4월 지출 상세'!D78+'5월 지출 상세'!C78","v":{"v":1500000,"d":"1,500,000"}},{"v":0.29411764705882354,"d":"29.4%"},{"$f":"IF($F$4=\"보정\", 보정치!E76)","v":false}]
["      6.3.5 대학부(신촌)",{"v":12000000,"d":"12,000,000"},{"v":700000,"d":"700,000"},{"$f":"'4월 지출 상세'!D79+'5월 지출 상세'!C79","v":{"v":2700000,"d":"2,700,000"}},{"v":0.225,"d":"22.5%"},{"$f":"IF($F$4=\"보정\", 보정치!E77)","v":false}]
["      6.3.6 대학부(국제)",{"v":9000000,"d":"9,000,000"},{"v":900000,"d":"900,000"},{"$f":"'4월 지출 상세'!D80+'5월 지출 상세'!C80","v":{"v":2700000,"d":"2,700,000"}},{"v":0.3,"d":"30.0%"},{"$f":"IF($F$4=\"보정\", 보정치!E78)","v":false}]
["   6.4 목회활동비",{"v":7200000,"d":"7,200,000"},{"v":419000,"d":"419,000"},{"$f":"'4월 지출 상세'!D81+'5월 지출 상세'!C81","v":{"v":2040760,"d":"2,040,760"}},{"v":0.2834388888888889,"d":"28.3%"},{"$f":"IF($F$4=\"보정\", 보정치!E79)","v":false}]
["   6.5 용품 및 수리비",{"v":5000000,"d":"5,000,000"},{"v":202100,"d":"202,100"},{"$f":"'4월 지출 상세'!D82+'5월 지출 상세'!C82","v":{"v":202100,"d":"202,100"}},{"v":0.04042,"d":"4.0%"},{"$f":"IF($F$4=\"보정\", 보정치!E80)","v":false}]
["   6.6 연료비 및 통신비",{"v":4000000,"d":"4,000,000"},{"v":287280,"d":"287,280"},{"$f":"'4월 지출 상세'!D83+'5월 지출 상세'!C83","v":{"v":689290,"d":"689,290"}},{"$f":"D83/B83","v":{"v":0.1723225,"d":"17.2%"}},{"$f":"IF($F$4=\"보정\", 보정치!E81)","v":false}]
["   6.7 악기구입 및 보수",{"v":3500000,"d":"3,500,000"},0,{"$f":"'4월 지출 상세'!D84+'5월 지출 상세'!C84","v":{"v":570000,"d":"570,000"}},{"$f":"D84/B84","v":{"v":0.16285714285714287,"d":"16.3%"}},{"$f":"IF($F$4=\"보정\", 보정치!E82)","v":false}]
["   6.8 행정운영 예비비",0,0,{"$f":"'4월 지출 상세'!D85+'5월 지출 상세'!C85","v":0},null,{"$f":"IF($F$4=\"보정\", 보정치!E83)","v":false}]
["7. 장학금",{"$f":"SUM(B87:B91)","v":{"v":66720000,"d":"66,720,000"}},{"$f":"SUM(C87:C91)","v":{"v":1360000,"d":"1,360,000"}},{"$f":"'4월 지출 상세'!D86+'5월 지출 상세'!C86","v":{"v":23080000,"d":"23,080,000"}},{"v":0.3459232613908873,"d":"34.6%"},{"$f":"SUM(F87:F91)","v":0}]
["   7.1 교회학교 교사",{"v":21000000,"d":"21,000,000"},0,{"$f":"'4월 지출 상세'!D87+'5월 지출 상세'!C87","v":{"v":2400000,"d":"2,400,000"}},{"v":0.11428571428571428,"d":"11.4%"},{"$f":"IF($F$4=\"보정\", 보정치!E83)","v":false}]
["   7.2 신촌 대학청년부",{"v":12000000,"d":"12,000,000"},0,{"$f":"'4월 지출 상세'!D88+'5월 지출 상세'!C88","v":{"v":5400000,"d":"5,400,000"}},{"v":0.45,"d":"45.0%"},{"$f":"IF($F$4=\"보정\", 보정치!E84)","v":false}]
["   7.3 국제 대학부",{"v":9000000,"d":"9,000,000"},0,{"$f":"'4월 지출 상세'!D89+'5월 지출 상세'!C89","v":{"v":3600000,"d":"3,600,000"}},{"v":0.4,"d":"40.0%"},{"$f":"IF($F$4=\"보정\", 보정치!E85)","v":false}]
["   7.4 학생 솔리스트",{"v":16320000,"d":"16,320,000"},{"v":1360000,"d":"1,360,000"},{"$f":"'4월 지출 상세'!D90+'5월 지출 상세'!C90","v":{"v":7480000,"d":"7,480,000"}},{"v":0.4583333333333333,"d":"45.8%"},{"$f":"IF($F$4=\"보정\", 보정치!E86)","v":false},"김인서 학생 장학금"]
["   7.5 기숙사지원",{"v":8400000,"d":"8,400,000"},0,{"$f":"'4월 지출 상세'!D91+'5월 지출 상세'!C91","v":{"v":4200000,"d":"4,200,000"}},{"v":0.5,"d":"50.0%"},{"$f":"IF($F$4=\"보정\", 보정치!E87)","v":false}]
["8. 예비비",{"v":32750000,"d":"32,750,000"},{"v":7035670,"d":"7,035,670"},{"$f":"'4월 지출 상세'!D92+'5월 지출 상세'!C92","v":{"v":7535670,"d":"7,535,670"}},{"v":0.23009679389312976,"d":"23.0%"},{"$f":"IF($F$4=\"보정\", 보정치!E90)","v":false},"야외예배 진행비"]
["9. 이웃사랑기금적립",0,0,{"$f":"'4월 지출 상세'!D93+'5월 지출 상세'!C93","v":0},{"v":0,"d":"0.0%"},{"$f":"IF($F$4=\"보정\", 보정치!E91)","v":false}]
["일반 지출 소계",{"$f":"SUM(B5,B13,B22,B38,B50,B71,B86,B92,B93)","v":{"v":580000000,"d":"580,000,000"}},{"$f":"SUM(C5,C13,C22,C38,C50,C71,C86,C92,C93)","v":{"v":54827950,"d":"54,827,950"}},{"$f":"SUM(D5,D13,D22,D38,D50,D71,D86,D92,D93)","v":{"v":167715636,"d":"167,715,636"}},{"v":0.2891648896551724,"d":"28.9%"},{"$f":"SUM(F86,F71,F50,F38,F22,F13,F5)","v":0}]
["차월이월",null,{"$f":"'5월 수입 상세'!C24-'5월 지출 상세'!C94","v":{"v":-17646450,"d":"-17,646,450"}},{"$f":"'5월 수입 상세'!D25+'5월 수입 상세'!D27+'5월 지출 상세'!C95","v":{"v":22353550,"d":"22,353,550"}}]
["지출부 총액",{"$f":"B94+B95","v":{"v":580000000,"d":"580,000,000"}},{"$f":"C94+C95","v":{"v":37181500,"d":"37,181,500"}},{"$f":"D94+D95","v":{"v":190069186,"d":"190,069,186"}},{"v":0.32770549310344826,"d":"32.8%"}]

{"sheet":"6월 약식","index":10,"n_rows":30,"n_cols":11,"rows_kept":30,"merged":[[0,0,0,10],[1,8,1,10],[2,0,2,4],[2,5,2,10],[3,5,3,6],[13,5,13,6],[14,5,14,6],[18,5,18,6],[19,0,19,6],[20,0,20,2],[20,5,20,8],[21,0,21,1],[22,0,22,1],[23,0,23,1],[24,0,24,1],[24,5,24,8],[25,0,25,1],[26,0,26,1]],"headers":{"header":["[첨부1]"],"footer":["","페이지"]}}
["2023년 6월 결산보고서(약식) "]
["회계년도: 2023년도",{"$nulls":7},"(2023-06-30 현재)"]
["수입의 부",{"$nulls":4},"지출의 부"]
["항 목","예산","당월 수입","수입 누계","집행률(%)","항 목",null,"예산","당월 지출","지출 누계","집행률(%)"]
["1. 주일헌금",{"$f":"'6월 수입 상세'!B5","v":{"v":160000000,"d":"160,000,000"}},{"$f":"'6월 수입 상세'!C5","v":{"v":11596000,"d":"11,596,000"}},{"$f":"VLOOKUP(A5, '6월 수입 상세'!$A$4:$F$29, 4, FALSE)","v":{"v":47496634,"d":"47,496,634"}},{"$f":"D5/B5","v":{"v":0.2968539625,"d":"29.7%"}},"1. 예배운영비",null,{"$f":"'6월 지출 상세'!B5","v":{"v":22700000,"d":"22,700,000"}},{"$f":"'6월 지출 상세'!C5","v":{"v":1534600,"d":"1,534,600"}},{"$f":"VLOOKUP(F5, '6월 지출 상세'!$A$4:$G$96, 4, FALSE)","v":{"v":6033550,"d":"6,033,550"}},{"$f":"J5/H5","v":{"v":0.26579515418502203,"d":"26.6%"}}]
["2. 십일조",{"$f":"'6월 수입 상세'!B6","v":{"v":105000000,"d":"105,000,000"}},{"$f":"'6월 수입 상세'!C6","v":{"v":8549000,"d":"8,549,000"}},{"$f":"VLOOKUP(A6, '6월 수입 상세'!$A$4:$F$29, 4, FALSE)","v":{"v":36002437,"d":"36,002,437"}},{"v":0.3428803523809524,"d":"34.3%"},"2. 교육운영비",null,{"$f":"'6월 지출 상세'!B13","v":{"v":30500000,"d":"30,500,000"}},{"$f":"'6월 지출 상세'!C13","v":{"v":833350,"d":"833,350"}},{"$f":"VLOOKUP(F6, '6월 지출 상세'!$A$4:$G$96, 4, FALSE)","v":{"v":1642990,"d":"1,642,990"}},{"v":0.05386852459016393,"d":"5.4%"}]
["3. 월정헌금",{"$f":"'6월 수입 상세'!B7","v":{"v":145000000,"d":"145,000,000"}},{"$f":"'6월 수입 상세'!C7","v":{"v":11740000,"d":"11,740,000"}},{"$f":"VLOOKUP(A7, '6월 수입 상세'!$A$4:$F$29, 4, FALSE)","v":{"v":47765000,"d":"47,765,000"}},{"v":0.32941379310344826,"d":"32.9%"},"3. 선교비",null,{"$f":"'6월 지출 상세'!B22","v":{"v":74760000,"d":"74,760,000"}},{"$f":"'6월 지출 상세'!C22","v":{"v":2487770,"d":"2,487,770"}},{"$f":"VLOOKUP(F7, '6월 지출 상세'!$A$4:$G$96, 4, FALSE)","v":{"v":29721970,"d":"29,721,970"}},{"v":0.3975651417870519,"d":"39.8%"}]
["4. 감사헌금",{"$f":"'6월 수입 상세'!B8","v":{"v":35000000,"d":"35,000,000"}},{"$f":"'6월 수입 상세'!C8","v":{"v":1142000,"d":"1,142,000"}},{"$f":"VLOOKUP(A8, '6월 수입 상세'!$A$4:$F$29, 4, FALSE)","v":{"v":9823000,"d":"9,823,000"}},{"v":0.2806571428571429,"d":"28.1%"},"4. 친교행사운영비",null,{"$f":"'6월 지출 상세'!B38","v":{"v":27600000,"d":"27,600,000"}},{"$f":"'6월 지출 상세'!C38","v":{"v":2757640,"d":"2,757,640"}},{"$f":"VLOOKUP(F8, '6월 지출 상세'!$A$4:$G$96, 4, FALSE)","v":{"v":7132620,"d":"7,132,620"}},{"v":0.2584282608695652,"d":"25.8%"}]
["5. 교육부헌금",{"$f":"'6월 수입 상세'!B9","v":{"v":22000000,"d":"22,000,000"}},{"$f":"'6월 수입 상세'!C9","v":{"v":1188661,"d":"1,188,661"}},{"$f":"VLOOKUP(A9, '6월 수입 상세'!$A$4:$F$29, 4, FALSE)","v":{"v":7202621,"d":"7,202,621"}},{"v":0.32739186363636363,"d":"32.7%"},"5. 사례비",null,{"$f":"'6월 지출 상세'!B50","v":{"v":234270000,"d":"234,270,000"}},{"$f":"'6월 지출 상세'!C50","v":{"v":5440000,"d":"5,440,000"}},{"$f":"VLOOKUP(F9, '6월 지출 상세'!$A$4:$G$96, 4, FALSE)","v":{"v":83244000,"d":"83,244,000"}},{"v":0.35533358944807275,"d":"35.5%"}]
["6. 절기헌금",{"$f":"'6월 수입 상세'!B15","v":{"v":35000000,"d":"35,000,000"}},{"$f":"'6월 수입 상세'!C15","v":0},{"$f":"VLOOKUP(A10, '6월 수입 상세'!$A$4:$F$29, 4, FALSE)","v":{"v":14256000,"d":"14,256,000"}},{"v":0.40731428571428574,"d":"40.7%"},"6. 행정운영비",null,{"$f":"'6월 지출 상세'!B71","v":{"v":90700000,"d":"90,700,000"}},{"$f":"'6월 지출 상세'!C71","v":{"v":10527500,"d":"10,527,500"}},{"$f":"VLOOKUP(F10, '6월 지출 상세'!$A$4:$G$96, 4, FALSE)","v":{"v":32905696,"d":"32,905,696"}},{"v":0.36279708930540244,"d":"36.3%"}]
["7. 선교헌금",{"$f":"'6월 수입 상세'!B19","v":{"v":5000000,"d":"5,000,000"}},{"$f":"'6월 수입 상세'!C19","v":{"v":500000,"d":"500,000"}},{"$f":"VLOOKUP(A11, '6월 수입 상세'!$A$4:$F$29, 4, FALSE)","v":{"v":1419000,"d":"1,419,000"}},{"v":0.2838,"d":"28.4%"},"7. 장학금",null,{"$f":"'6월 지출 상세'!B86","v":{"v":66720000,"d":"66,720,000"}},{"$f":"'6월 지출 상세'!C86","v":0},{"$f":"VLOOKUP(F11, '6월 지출 상세'!$A$4:$G$96, 4, FALSE)","v":{"v":23080000,"d":"23,080,000"}},{"v":0.3459232613908873,"d":"34.6%"}]
["8. 지정헌금",{"$f":"'6월 수입 상세'!B22","v":{"v":20000000,"d":"20,000,000"}},{"$f":"'6월 수입 상세'!C22","v":{"v":420000,"d":"420,000"}},{"$f":"VLOOKUP(A12, '6월 수입 상세'!$A$4:$F$29, 4, FALSE)","v":{"v":6918000,"d":"6,918,000"}},{"v":0.3459,"d":"34.6%"},"8. 예비비",null,{"$f":"'6월 지출 상세'!B92","v":{"v":32750000,"d":"32,750,000"}},{"$f":"'6월 지출 상세'!C92","v":0},{"$f":"VLOOKUP(F12, '6월 지출 상세'!$A$4:$G$96, 4, FALSE)","v":{"v":7535670,"d":"7,535,670"}},{"v":0.23009679389312976,"d":"23.0%"}]
["9. 특별헌금(이웃사랑실천헌금 등)",{"$f":"'6월 수입 상세'!B23","v":{"v":13000000,"d":"13,000,000"}},{"$f":"'6월 수입 상세'!C23","v":{"v":5137090,"d":"5,137,090"}},{"$f":"VLOOKUP(A13, '6월 수입 상세'!$A$4:$F$29, 4, FALSE)","v":{"v":5237090,"d":"5,237,090"}},{"v":0.4028530769230769,"d":"40.3%"},"9. 이웃사랑기금적립",null,{"$f":"'6월 지출 상세'!B93","v":0},{"$f":"'6월 지출 상세'!C93","v":{"v":5387090,"d":"5,387,090"}},{"$f":"VLOOKUP(F13, '6월 지출 상세'!$A$4:$G$96, 4, FALSE)","v":{"v":5387090,"d":"5,387,090"}}]
["헌금 수입 소계",{"$f":"SUM(B5:B13)","v":{"v":540000000,"d":"540,000,000"}},{"$f":"SUM(C5:C13)","v":{"v":40272751,"d":"40,272,751"}},{"$f":"SUM(D5:D13)","v":{"v":176119782,"d":"176,119,782"}},{"v":0.32614774444444444,"d":"32.6%"},"  일반 지출 소계",null,{"$f":"SUM(H5:H13)","v":{"v":580000000,"d":"580,000,000"}},{"$f":"SUM(I5:I13)","v":{"v":28967950,"d":"28,967,950"}},{"$f":"SUM(J5:J13)","v":{"v":196683586,"d":"196,683,586"}},{"$f":"J14/H14","v":{"v":0.3391096310344828,"d":"33.9%"}}]
["전기이월금 전입",{"v":40000000,"d":"40,000,000"},0,{"$f":"'3월 약식'!D15+'6월 약식'!C15","v":{"v":40000000,"d":"40,000,000"}},{"v":1,"d":"100.0%"},"  차월이월",null,null,{"$f":"C14-I14","v":{"v":11304801,"d":"11,304,801"}},{"$f":"D19-J14","v":{"v":41313096,"d":"41,313,096"}}]
["전기이월금 추가전입",null,0,{"$f":"'3월 약식'!D16","v":{"v":21876900,"d":"21,876,900"}}]
["헌금외 기금",null,0,0]
["전월이월금",null,{"$f":"'5월 약식'!J15","v":{"v":30008295,"d":"30,008,295"}}]
["수입부 총액",{"$f":"SUM(B14:B18)","v":{"v":580000000,"d":"580,000,000 "}},{"$f":"SUM(C14:C18)","v":{"v":70281046,"d":"70,281,046 "}},{"$f":"SUM(D14:D18)","v":{"v":237996682,"d":"237,996,682 "}},{"$f":"D19/B19","v":{"v":0.41033910689655173,"d":"41.0%"}},"  지출부 총액",null,{"$f":"SUM(H14:H18)","v":{"v":580000000,"d":"580,000,000 "}},{"$f":"SUM(I14:I18)","v":{"v":40272751,"d":"40,272,751 "}},{"$f":"SUM(J14:J18)","v":{"v":237996682,"d":"237,996,682 "}},{"$f":"J19/H19","v":{"v":0.41033910689655173,"d":"41.0%"}}]
["*지정헌금 내역(헌화헌금_42만 원) / *이웃사랑기금의 수입과 지출 차액은 '십일조' 명목으로 이웃사랑 기금 계좌에 입금된 15만원이 반영된 것임."]
["기금 및 이월금 현황 (2023.3.1 기준)",{"$nulls":4},"헌금 수입 및 지출 누계 비교"]
["기금명",null,"금액(이자포함)",{"$nulls":3},"2021년 6월","2022년 6월 ","2023년 6월"]
["박명윤이행자선교기금(FAA003023)",null,{"v":53380953,"d":"53,380,953"},null,null,"수입 누계",{"v":206280682,"d":"206,280,682"},{"v":172343854,"d":"172,343,854"},{"$f":"D14","v":{"v":176119782,"d":"176,119,782"}}]
["대학교회건축기금(FBA113041)",null,0,null,null,"지출 누계",{"v":173035258,"d":"173,035,258"},{"v":183140280,"d":"183,140,280"},{"$f":"J14","v":{"v":196683586,"d":"196,683,586"}}]
["국캠대학교회선교기금(FEA173001)",null,{"v":146649,"d":"146,649"}]
["이웃사랑기금(FEA183001)",null,{"v":83791013,"d":"83,791,013"}]
["유초등부발전기금(FAA213008)",null,{"v":18299135,"d":"18,299,135"}]
["기금 총액",null,{"$f":"SUM(C23:C27)","v":{"v":155617750,"d":"155,617,750 "}}]
[]
["*누적 이월금 (2023.3.1 기준 / 기금 및 전입금 제외)",null,{"v":453597137,"d":"453,597,137 "}]

{"sheet":"6월 수입 상세","index":11,"n_rows":29,"n_cols":6,"rows_kept":29,"merged":[[0,0,0,5]]}
["6월 수입 상세"]
["회계연도: 2023년도",{"$nulls":4},"(2023-06-30 현재)"]
[]
["분류항목","예산","당월","누계","집행률(%)","비고"]
["1. 주일헌금",{"v":160000000,"d":"160,000,000"},{"v":11596000,"d":"11,596,000"},{"$f":"SUM('5월 수입 상세'!D5+'6월 수입 상세'!C5)","v":{"v":47496634,"d":"47,496,634"}},{"$f":"D5/B5","v":{"v":0.2968539625,"d":"29.7%"}}]
["2. 십일조",{"v":105000000,"d":"105,000,000"},{"v":8549000,"d":"8,549,000"},{"$f":"SUM('5월 수입 상세'!D6+'6월 수입 상세'!C6)","v":{"v":36002437,"d":"36,002,437"}},{"$f":"D6/B6","v":{"v":0.3428803523809524,"d":"34.3%"}}]
["3. 월정헌금",{"v":145000000,"d":"145,000,000"},{"v":11740000,"d":"11,740,000"},{"$f":"SUM('5월 수입 상세'!D7+'6월 수입 상세'!C7)","v":{"v":47765000,"d":"47,765,000"}},{"v":0.32941379310344826,"d":"32.9%"}]
["4. 감사헌금",{"v":35000000,"d":"35,000,000"},{"v":1142000,"d":"1,142,000"},{"$f":"SUM('5월 수입 상세'!D8+'6월 수입 상세'!C8)","v":{"v":9823000,"d":"9,823,000"}},{"v":0.2806571428571429,"d":"28.1%"}]
["5. 교육부헌금",{"$f":"SUM(B10:B14)","v":{"v":22000000,"d":"22,000,000"}},{"$f":"SUM(C10:C14)","v":{"v":1188661,"d":"1,188,661"}},{"$f":"SUM('5월 수입 상세'!D9+'6월 수입 상세'!C9)","v":{"v":7202621,"d":"7,202,621"}},{"v":0.32739186363636363,"d":"32.7%"}]
["   유치부",{"v":700000,"d":"700,000"},{"v":106000,"d":"106,000"},{"$f":"SUM('5월 수입 상세'!D10+'6월 수입 상세'!C10)","v":{"v":587049,"d":"587,049"}},{"v":0.8386414285714285,"d":"83.9%"}]
["   초등부",{"v":1000000,"d":"1,000,000"},{"v":116000,"d":"116,000"},{"$f":"SUM('5월 수입 상세'!D11+'6월 수입 상세'!C11)","v":{"v":471500,"d":"471,500"}},{"v":0.4715,"d":"47.2%"}]
["   중고등부",{"v":300000,"d":"300,000"},{"v":12000,"d":"12,000"},{"$f":"SUM('5월 수입 상세'!D12+'6월 수입 상세'!C12)","v":{"v":74722,"d":"74,722"}},{"v":0.24907333333333334,"d":"24.9%"}]
["   대학부(신촌)",{"v":7000000,"d":"7,000,000"},{"v":630661,"d":"630,661"},{"$f":"SUM('5월 수입 상세'!D13+'6월 수입 상세'!C13)","v":{"v":3570138,"d":"3,570,138"}},{"v":0.5100197142857142,"d":"51.0%"}]
["   대학부(국제)",{"v":13000000,"d":"13,000,000"},{"v":324000,"d":"324,000"},{"$f":"SUM('5월 수입 상세'!D14+'6월 수입 상세'!C14)","v":{"v":2499212,"d":"2,499,212"}},{"v":0.1922470769230769,"d":"19.2%"}]
["6. 절기헌금",{"$f":"SUM(B16:B18)","v":{"v":35000000,"d":"35,000,000"}},0,{"$f":"SUM('5월 수입 상세'!D15+'6월 수입 상세'!C15)","v":{"v":14256000,"d":"14,256,000"}},{"v":0.40731428571428574,"d":"40.7%"}]
["   부활절",{"v":10000000,"d":"10,000,000"},0,{"$f":"SUM('5월 수입 상세'!D16+'6월 수입 상세'!C16)","v":{"v":14256000,"d":"14,256,000"}},{"v":1.4256,"d":"142.6%"}]
["   추수감사절",{"v":10000000,"d":"10,000,000"},0,{"$f":"SUM('5월 수입 상세'!D17+'6월 수입 상세'!C17)","v":0},{"v":0,"d":"0.0%"}]
["   성탄절",{"v":15000000,"d":"15,000,000"},0,{"$f":"SUM('5월 수입 상세'!D18+'6월 수입 상세'!C18)","v":0},{"v":0,"d":"0.0%"}]
["7. 선교헌금",{"v":5000000,"d":"5,000,000"},{"$f":"SUM(C20:C21)","v":{"v":500000,"d":"500,000"}},{"$f":"SUM('5월 수입 상세'!D19+'6월 수입 상세'!C19)","v":{"v":1419000,"d":"1,419,000"}},{"v":0.2838,"d":"28.4%"}]
["   선교헌금",{"v":2500000,"d":"2,500,000"},{"v":500000,"d":"500,000"},{"$f":"SUM('5월 수입 상세'!D20+'6월 수입 상세'!C20)","v":{"v":1419000,"d":"1,419,000"}},{"v":0.5676,"d":"56.8%"}]
["   특별선교헌금",{"v":2500000,"d":"2,500,000"},0,{"$f":"SUM('5월 수입 상세'!D21+'6월 수입 상세'!C21)","v":0},{"v":0,"d":"0.0%"}]
["8. 지정헌금",{"v":20000000,"d":"20,000,000"},{"v":420000,"d":"420,000"},{"$f":"SUM('5월 수입 상세'!D22+'6월 수입 상세'!C22)","v":{"v":6918000,"d":"6,918,000"}},{"v":0.3459,"d":"34.6%"},"헌화헌금 42만 원"]
["9. 특별헌금(이웃사랑실천헌금 등)",{"v":13000000,"d":"13,000,000"},{"v":5137090,"d":"5,137,090"},{"$f":"SUM('5월 수입 상세'!D23+'6월 수입 상세'!C23)","v":{"v":5237090,"d":"5,237,090"}},{"v":0.4028530769230769,"d":"40.3%"}]
["헌금 수입 소계",{"$f":"SUM(B5,B6,B7,B8,B9,B15,B19,B22,B23)","v":{"v":540000000,"d":"540,000,000"}},{"$f":"SUM(C5,C6,C7,C8,C9,C15,C19,C22,C23)","v":{"v":40272751,"d":"40,272,751"}},{"$f":"SUM(D5,D6,D7,D8,D9,D15,D19,D22,D23)","v":{"v":176119782,"d":"176,119,782"}},{"v":0.32614774444444444,"d":"32.6%"}]
["전기이월금 전입",{"v":40000000,"d":"40,000,000"},0,{"v":40000000,"d":"40,000,000"},{"v":1,"d":"100.0%"}]
["전기이월금 추가전입",null,0,{"$f":"'6월 약식'!D16","v":{"v":21876900,"d":"21,876,900"}}]
["헌금외 기금",null,0,{"$f":"C27","v":0}]
["전월이월금",null,{"$f":"'6월 약식'!C18","v":{"v":30008295,"d":"30,008,295"}}]
["수입부 총액",{"$f":"B24+B25","v":{"v":580000000,"d":"580,000,000"}},{"$f":"SUM(C24:C28)","v":{"v":70281046,"d":"70,281,046"}},{"$f":"SUM(D24:D28)","v":{"v":237996682,"d":"237,996,682"}},{"v":0.41033910689655173,"d":"41.0%"}]

{"sheet":"6월 지출 상세","index":12,"n_rows":96,"n_cols":7,"rows_kept":96,"merged":[[0,0,0,6],[1,3,1,4]]}
["6월 지출 상세"]
["회계연도: 2023년도"]
[{"$nulls":6},"(2023-06-30 현재)"]
["분류항목","예산","당월","누계","집행률(%)",null,"비고"]
["1. 예배운영비",{"$f":"SUM(B6:B9)","v":{"v":22700000,"d":"22,700,000"}},{"v":1534600,"d":"1,534,600"},{"$f":"'5월 지출 상세'!D5+'6월 지출 상세'!C5","v":{"v":6033550,"d":"6,033,550"}},{"$f":"D5/B5","v":{"v":0.26579515418502203,"d":"26.6%"}},{"$f":"SUM(F6:F9)","v":0}]
["   1.1 성례예식비",{"v":1200000,"d":"1,200,000"},{"v":80100,"d":"80,100"},{"$f":"'5월 지출 상세'!D6+'6월 지출 상세'!C6","v":{"v":497100,"d":"497,100"}},{"$f":"D6/B6","v":{"v":0.41425,"d":"41.4%"}},{"$f":"IF($F$4=\"보정\", 보정치!E4)","v":false}]
["   1.2 주보인쇄비",{"v":4000000,"d":"4,000,000"},{"v":215000,"d":"215,000"},{"$f":"'5월 지출 상세'!D7+'6월 지출 상세'!C7","v":{"v":740000,"d":"740,000"}},{"v":0.185,"d":"18.5%"},{"$f":"IF($F$4=\"보정\", 보정치!E5)","v":false}]
["   1.3 강사접대비",{"v":2500000,"d":"2,500,000"},{"v":254000,"d":"254,000"},{"$f":"'5월 지출 상세'!D8+'6월 지출 상세'!C8","v":{"v":779500,"d":"779,500"}},{"v":0.3118,"d":"31.2%"},{"$f":"IF($F$4=\"보정\", 보정치!E6)","v":false}]
["   1.4 예배준비비",{"$f":"SUM(B10:B12)","v":{"v":15000000,"d":"15,000,000"}},{"v":985500,"d":"985,500"},{"$f":"'5월 지출 상세'!D9+'6월 지출 상세'!C9","v":{"v":4016950,"d":"4,016,950"}},{"v":0.2677966666666667,"d":"26.8%"},{"$f":"IF($F$4=\"보정\", 보정치!E7)","v":false}]
["      1.4.1 성전 꽃꽂이",{"v":10000000,"d":"10,000,000"},{"v":600000,"d":"600,000"},{"$f":"'5월 지출 상세'!D10+'6월 지출 상세'!C10","v":{"v":2800000,"d":"2,800,000"}},{"v":0.28,"d":"28.0%"},{"$f":"IF($F$4=\"보정\", 보정치!E8)","v":false}]
["      1.4.2 봉사자 식사",{"v":4000000,"d":"4,000,000"},{"v":385500,"d":"385,500"},{"$f":"'5월 지출 상세'!D11+'6월 지출 상세'!C11","v":{"v":1107150,"d":"1,107,150"}},{"v":0.2767875,"d":"27.7%"},{"$f":"IF($F$4=\"보정\", 보정치!E9)","v":false}]
["      1.4.3 절기행사비",{"v":1000000,"d":"1,000,000"},0,{"$f":"'5월 지출 상세'!D12+'6월 지출 상세'!C12","v":{"v":109800,"d":"109,800"}},{"v":0.1098,"d":"11.0%"},{"$f":"IF($F$4=\"보정\", 보정치!E10)","v":false}]
["2. 교육운영비",{"$f":"SUM(B14:B21)","v":{"v":30500000,"d":"30,500,000"}},{"v":833350,"d":"833,350"},{"$f":"'5월 지출 상세'!D13+'6월 지출 상세'!C13","v":{"v":1642990,"d":"1,642,990"}},{"v":0.05386852459016393,"d":"5.4%"},{"$f":"IF($F$4=\"보정\", 보정치!E11)","v":false}]
["   2.1 주일성서연구운영비",{"v":1000000,"d":"1,000,000"},0,{"$f":"'5월 지출 상세'!D14+'6월 지출 상세'!C14","v":0},{"v":0,"d":"0.0%"},{"$f":"IF($F$4=\"보정\", 보정치!E12)","v":false}]
["   2.2 도서 및 교재",{"v":2000000,"d":"2,000,000"},{"v":99000,"d":"99,000"},{"$f":"'5월 지출 상세'!D15+'6월 지출 상세'!C15","v":{"v":425100,"d":"425,100"}},{"v":0.21255,"d":"21.3%"},{"$f":"IF($F$4=\"보정\", 보정치!E13)","v":false}]
["   2.3 전교인수양회 행사비",{"v":14000000,"d":"14,000,000"},{"v":104600,"d":"104,600"},{"$f":"'5월 지출 상세'!D16+'6월 지출 상세'!C16","v":{"v":104600,"d":"104,600"}},{"v":0.007471428571428572,"d":"0.7%"},{"$f":"IF($F$4=\"보정\", 보정치!E14)","v":false},"전교인수양회 답사비"]
["   2.4 교목연수비",0,0,{"$f":"'5월 지출 상세'!D17+'6월 지출 상세'!C17","v":0},null,{"$f":"IF($F$4=\"보정\", 보정치!E15)","v":false}]
["   2.5 교역자 교육훈련비",{"v":3000000,"d":"3,000,000"},{"v":23750,"d":"23,750"},{"$f":"'5월 지출 상세'!D18+'6월 지출 상세'!C18","v":{"v":507290,"d":"507,290"}},{"v":0.16909666666666667,"d":"16.9%"},{"$f":"IF($F$4=\"보정\", 보정치!E16)","v":false}]
["   2.6 교사세미나/교역자workshop",{"v":3000000,"d":"3,000,000"},{"v":606000,"d":"606,000"},{"$f":"'5월 지출 상세'!D19+'6월 지출 상세'!C19","v":{"v":606000,"d":"606,000"}},{"v":0.202,"d":"20.2%"},{"$f":"IF($F$4=\"보정\", 보정치!E17)","v":false}]
["   2.7 교육부 운영비",{"v":7500000,"d":"7,500,000"},0,{"$f":"'5월 지출 상세'!D20+'6월 지출 상세'!C20","v":0},{"v":0,"d":"0.0%"},{"$f":"IF($F$4=\"보정\", 보정치!E18)","v":false}]
["   2.8 교육운영 예비비",0,0,{"$f":"'5월 지출 상세'!D21+'6월 지출 상세'!C21","v":0},null,{"$f":"IF($F$4=\"보정\", 보정치!E19)","v":false}]
["3. 선교비",{"$f":"SUM(B23,B34,B35,B36,B37)","v":{"v":74760000,"d":"74,760,000"}},{"v":2487770,"d":"2,487,770"},{"$f":"'5월 지출 상세'!D22+'6월 지출 상세'!C22","v":{"v":29721970,"d":"29,721,970"}},{"v":0.3975651417870519,"d":"39.8%"},{"$f":"SUM(F23,F32,F33,F34,F35)","v":0}]
["   3.1 학원선교",{"$f":"SUM(B24:B33)","v":{"v":50960000,"d":"50,960,000"}},{"v":2087770,"d":"2,087,770"},{"$f":"'5월 지출 상세'!D23+'6월 지출 상세'!C23","v":{"v":4864970,"d":"4,864,970"}},{"v":0.0954664442700157,"d":"9.5%"},{"$f":"SUM(F24:F31)","v":0}]
["      3.1.1 간식나눔행사(신촌)",{"v":2000000,"d":"2,000,000"},{"v":1287770,"d":"1,287,770"},{"$f":"'5월 지출 상세'!D24+'6월 지출 상세'!C24","v":{"v":1464970,"d":"1,464,970"}},{"v":0.732485,"d":"73.2%"},{"$f":"IF($F$4=\"보정\", 보정치!E22)","v":false},"간식나눔행사 및 기숙사 수요예배"]
["      3.1.2 간식나눔행사(국제)",{"v":1000000,"d":"1,000,000"},0,{"$f":"'5월 지출 상세'!D25+'6월 지출 상세'!C25","v":0},{"v":0,"d":"0.0%"},{"$f":"IF($F$4=\"보정\", 보정치!E23)","v":false}]
["      3.1.3 교목실 점심나눔 후원",{"v":27000000,"d":"27,000,000"},0,{"$f":"'5월 지출 상세'!D26+'6월 지출 상세'!C26","v":0},{"v":0,"d":"0.0%"},{"$f":"IF($F$4=\"보정\", 보정치!E24)","v":false}]
["      3.1.4 연세기독학생연합회 지원",{"v":3600000,"d":"3,600,000"},{"v":300000,"d":"300,000"},{"$f":"'5월 지출 상세'!D27+'6월 지출 상세'!C27","v":{"v":1200000,"d":"1,200,000"}},{"v":0.3333333333333333,"d":"33.3%"},{"$f":"IF($F$4=\"보정\", 보정치!E25)","v":false}]
["      3.1.5 연세기독학생회찬양팀 후원",{"v":2400000,"d":"2,400,000"},{"v":200000,"d":"200,000"},{"$f":"'5월 지출 상세'!D28+'6월 지출 상세'!C28","v":{"v":800000,"d":"800,000"}},{"v":0.3333333333333333,"d":"33.3%"},{"$f":"IF($F$4=\"보정\", 보정치!E26)","v":false}]
["      3.1.6 YMK 후원",{"v":3600000,"d":"3,600,000"},{"v":300000,"d":"300,000"},{"$f":"'5월 지출 상세'!D29+'6월 지출 상세'!C29","v":{"v":1200000,"d":"1,200,000"}},{"v":0.3333333333333333,"d":"33.3%"},{"$f":"IF($F$4=\"보정\", 보정치!E27)","v":false}]
["      3.1.7 통일한마당",{"v":2400000,"d":"2,400,000"},0,{"$f":"'5월 지출 상세'!D30+'6월 지출 상세'!C30","v":{"v":200000,"d":"200,000"}},{"v":0.08333333333333333,"d":"8.3%"},{"$f":"IF($F$4=\"보정\", 보정치!E28)","v":false},"지급정보 오류로 미지급"]
["      3.1.8 리틀언더우드 후원",{"v":5000000,"d":"5,000,000"},0,{"$f":"'5월 지출 상세'!D31+'6월 지출 상세'!C31","v":0},{"v":0,"d":"0.0%"},0]
["      3.1.9 멘토멘티프로그램",{"v":3960000,"d":"3,960,000"},0,{"$f":"'5월 지출 상세'!D32+'6월 지출 상세'!C32","v":0},{"v":0,"d":"0.0%"},0]
["      3.1.10 학원선교 기타",0,0,{"$f":"'5월 지출 상세'!D33+'6월 지출 상세'!C33","v":0},null,{"$f":"IF($F$4=\"보정\", 보정치!E31)","v":false}]
["   3.2 국외선교",{"v":4800000,"d":"4,800,000"},{"v":400000,"d":"400,000"},{"$f":"'5월 지출 상세'!D34+'6월 지출 상세'!C34","v":{"v":1600000,"d":"1,600,000"}},{"v":0.3333333333333333,"d":"33.3%"},{"$f":"IF($F$4=\"보정\", 보정치!E32)","v":false},"함정희, 노규래 "]
["   3.3 이웃사랑 실천헌금",{"v":9000000,"d":"9,000,000"},0,{"$f":"'5월 지출 상세'!D35+'6월 지출 상세'!C35","v":0},{"v":0,"d":"0.0%"},{"$f":"IF($F$4=\"보정\", 보정치!E33)","v":false}]
["   3.4 지정헌금",{"v":10000000,"d":"10,000,000"},0,{"$f":"'5월 지출 상세'!D36+'6월 지출 상세'!C36","v":{"v":23257000,"d":"23,257,000"}},{"v":2.3257,"d":"232.6%"},{"$f":"IF($F$4=\"보정\", 보정치!E34)","v":false}]
["   3.5 선교예비금",0,0,{"$f":"'5월 지출 상세'!D37+'6월 지출 상세'!C37","v":0},null,{"$f":"IF($F$4=\"보정\", 보정치!E35)","v":false}]
["4. 친교행사운영비",{"$f":"SUM(B39:B49)-B47","v":{"v":27600000,"d":"27,600,000"}},{"v":2757640,"d":"2,757,640"},{"$f":"'5월 지출 상세'!D38+'6월 지출 상세'!C38","v":{"v":7132620,"d":"7,132,620"}},{"v":0.2584282608695652,"d":"25.8%"},{"$f":"SUM(F39:F49)-F47","v":0}]
["   4.1 주일공동식사",{"v":7000000,"d":"7,000,000"},0,{"$f":"'5월 지출 상세'!D39+'6월 지출 상세'!C39","v":{"v":2228200,"d":"2,228,200"}},{"v":0.3183142857142857,"d":"31.8%"},{"$f":"IF($F$4=\"보정\", 보정치!E37)","v":false}]
["   4.2 야외예배 행사비",0,0,{"$f":"'5월 지출 상세'!D40+'6월 지출 상세'!C40","v":0},null,{"$f":"IF($F$4=\"보정\", 보정치!E38)","v":false}]
["   4.3 경로행사비",{"v":1500000,"d":"1,500,000"},{"v":1184000,"d":"1,184,000"},{"$f":"'5월 지출 상세'!D41+'6월 지출 상세'!C41","v":{"v":1500000,"d":"1,500,000"}},{"v":1,"d":"100.0%"},{"$f":"IF($F$4=\"보정\", 보정치!E39)","v":false}]
["   4.4 성탄행사비",{"v":2100000,"d":"2,100,000"},0,{"$f":"'5월 지출 상세'!D42+'6월 지출 상세'!C42","v":0},{"v":0,"d":"0.0%"},{"$f":"IF($F$4=\"보정\", 보정치!E40)","v":false}]
["   4.5 주일다과비",{"v":5000000,"d":"5,000,000"},{"v":74940,"d":"74,940"},{"$f":"'5월 지출 상세'!D43+'6월 지출 상세'!C43","v":{"v":364580,"d":"364,580"}},{"v":0.072916,"d":"7.3%"},{"$f":"IF($F$4=\"보정\", 보정치!E41)","v":false}]
["   4.6 경조비",{"v":4000000,"d":"4,000,000"},{"v":188400,"d":"188,400"},{"$f":"'5월 지출 상세'!D44+'6월 지출 상세'!C44","v":{"v":1290400,"d":"1,290,400"}},{"v":0.3226,"d":"32.3%"},{"$f":"IF($F$4=\"보정\", 보정치!E42)","v":false}]
["   4.7 교우친교비",{"v":2000000,"d":"2,000,000"},{"v":310300,"d":"310,300"},{"$f":"'5월 지출 상세'!D45+'6월 지출 상세'!C45","v":{"v":749440,"d":"749,440"}},{"v":0.37472,"d":"37.5%"},{"$f":"IF($F$4=\"보정\", 보정치!E43)","v":false}]
["   4.8 홍보출판비",{"v":4000000,"d":"4,000,000"},{"v":1000000,"d":"1,000,000"},{"$f":"'5월 지출 상세'!D46+'6월 지출 상세'!C46","v":{"v":1000000,"d":"1,000,000"}},{"v":0.25,"d":"25.0%"},{"$f":"IF($F$4=\"보정\", 보정치!E44)","v":false}]
["      4.8.1 대학교회 회지",{"v":4000000,"d":"4,000,000"},{"v":1000000,"d":"1,000,000"},{"$f":"'5월 지출 상세'!D47+'6월 지출 상세'!C47","v":{"v":1000000,"d":"1,000,000"}},{"v":0.25,"d":"25.0%"},{"$f":"IF($F$4=\"보정\", 보정치!E45)","v":false}]
["   4.9 교회봉사자 선물",{"v":2000000,"d":"2,000,000"},0,{"$f":"'5월 지출 상세'!D48+'6월 지출 상세'!C48","v":0},{"v":0,"d":"0.0%"},{"$f":"IF($F$4=\"보정\", 보정치!E46)","v":false}]
["   4.10 친교행사 예비비",0,0,{"$f":"'5월 지출 상세'!D49+'6월 지출 상세'!C49","v":0},null,{"$f":"IF($F$4=\"보정\", 보정치!E47)","v":false}]
["5. 사례비",{"$f":"SUM(B51:B66,B69,B70)","v":{"v":234270000,"d":"234,270,000"}},{"v":5440000,"d":"5,440,000"},{"$f":"'5월 지출 상세'!D50+'6월 지출 상세'!C50","v":{"v":83244000,"d":"83,244,000"}},{"v":0.35533358944807275,"d":"35.5%"},{"$f":"SUM(F51:F70)","v":0}]
["   5.1 외부강사 설교 사례",{"v":12000000,"d":"12,000,000"},{"v":900000,"d":"900,000"},{"$f":"'5월 지출 상세'!D51+'6월 지출 상세'!C51","v":{"v":4600000,"d":"4,600,000"}},{"v":0.38333333333333336,"d":"38.3%"},{"$f":"IF($F$4=\"보정\", 보정치!E47)","v":false}]
["   5.2 외부강사 설교 사례(대학부-국제)",{"v":2400000,"d":"2,400,000"},0,{"$f":"'5월 지출 상세'!D52+'6월 지출 상세'!C52","v":0},{"v":0,"d":"0.0%"},{"$f":"IF($F$4=\"보정\", 보정치!E48)","v":false}]
["   5.3 절기 예배 연주자",{"v":800000,"d":"800,000"},0,{"$f":"'5월 지출 상세'!D53+'6월 지출 상세'!C53","v":0},{"v":0,"d":"0.0%"},{"$f":"IF($F$4=\"보정\", 보정치!E49)","v":false}]
["   5.4 국악 예배 연주자",{"v":1800000,"d":"1,800,000"},0,{"$f":"'5월 지출 상세'!D54+'6월 지출 상세'!C54","v":0},{"v":0,"d":"0.0%"},{"$f":"IF($F$4=\"보정\", 보정치!E50)","v":false}]
["   5.5 봉헌송 사례",{"v":450000,"d":"450,000"},0,{"$f":"'5월 지출 상세'!D55+'6월 지출 상세'!C55","v":0},{"v":0,"d":"0.0%"},{"$f":"IF($F$4=\"보정\", 보정치!E51)","v":false}]
["   5.6 주일성서연구 강사사례",{"v":4000000,"d":"4,000,000"},0,{"$f":"'5월 지출 상세'!D56+'6월 지출 상세'!C56","v":{"v":2000000,"d":"2,000,000"}},{"v":0.5,"d":"50.0%"},{"$f":"IF($F$4=\"보정\", 보정치!E52)","v":false}]
["   5.8 담임목사 ",{"v":14400000,"d":"14,400,000"},{"v":1200000,"d":"1,200,000"},{"$f":"'5월 지출 상세'!D57+'6월 지출 상세'!C57","v":{"v":6000000,"d":"6,000,000"}},{"v":0.4166666666666667,"d":"41.7%"},{"$f":"IF($F$4=\"보정\", 보정치!E53)","v":false}]
["   5.9 동역목사",{"v":12000000,"d":"12,000,000"},{"v":600000,"d":"600,000"},{"$f":"'5월 지출 상세'!D58+'6월 지출 상세'!C58","v":{"v":2000000,"d":"2,000,000"}},{"v":0.16666666666666666,"d":"16.7%"},{"$f":"IF($F$4=\"보정\", 보정치!E54)","v":false}]
["   5.10 전임교역자",{"v":67500000,"d":"67,500,000"},0,{"$f":"'5월 지출 상세'!D59+'6월 지출 상세'!C59","v":{"v":30000000,"d":"30,000,000"}},{"v":0.4444444444444444,"d":"44.4%"},{"$f":"IF($F$4=\"보정\", 보정치!E55)","v":false}]
["   5.11 성가대지휘자",{"v":12000000,"d":"12,000,000"},0,{"$f":"'5월 지출 상세'!D60+'6월 지출 상세'!C60","v":{"v":4000000,"d":"4,000,000"}},{"v":0.3333333333333333,"d":"33.3%"},{"$f":"IF($F$4=\"보정\", 보정치!E56)","v":false}]
["   5.12 오르가니스트",{"v":12000000,"d":"12,000,000"},{"v":1000000,"d":"1,000,000"},{"$f":"'5월 지출 상세'!D61+'6월 지출 상세'!C61","v":{"v":5000000,"d":"5,000,000"}},{"v":0.4166666666666667,"d":"41.7%"},{"$f":"IF($F$4=\"보정\", 보정치!E57)","v":false}]
["   5.13 교육부서 담당교역자",{"v":38400000,"d":"38,400,000"},{"v":800000,"d":"800,000"},{"$f":"'5월 지출 상세'!D62+'6월 지출 상세'!C62","v":{"v":13600000,"d":"13,600,000"}},{"v":0.3541666666666667,"d":"35.4%"},{"$f":"IF($F$4=\"보정\", 보정치!E58)","v":false}]
["   5.14 성인 솔리스트",{"v":23520000,"d":"23,520,000"},{"v":340000,"d":"340,000"},{"$f":"'5월 지출 상세'!D63+'6월 지출 상세'!C63","v":{"v":7500000,"d":"7,500,000"}},{"v":0.31887755102040816,"d":"31.9%"},{"$f":"IF($F$4=\"보정\", 보정치!E59)","v":false}]
["   5.15 통역자",{"v":4000000,"d":"4,000,000"},0,{"$f":"'5월 지출 상세'!D64+'6월 지출 상세'!C64","v":{"v":1275000,"d":"1,275,000"}},{"v":0.31875,"d":"31.9%"},{"$f":"IF($F$4=\"보정\", 보정치!E60)","v":false}]
["   5.16 방송담당",{"v":12000000,"d":"12,000,000"},{"v":600000,"d":"600,000"},{"$f":"'5월 지출 상세'!D65+'6월 지출 상세'!C65","v":{"v":3975000,"d":"3,975,000"}},{"v":0.33125,"d":"33.1%"},{"$f":"IF($F$4=\"보정\", 보정치!E61)","v":false}]
["   5.17 용원 사례비 ",{"$f":"SUM(B67:B68)","v":{"v":11000000,"d":"11,000,000"}},0,{"$f":"'5월 지출 상세'!D66+'6월 지출 상세'!C66","v":{"v":3294000,"d":"3,294,000"}},{"v":0.2994545454545455,"d":"29.9%"},{"$f":"IF($F$4=\"보정\", 보정치!E62)","v":false}]
["      5.17.1 관리실 여사",{"v":6000000,"d":"6,000,000"},0,{"$f":"'5월 지출 상세'!D67+'6월 지출 상세'!C67","v":{"v":2160000,"d":"2,160,000"}},{"v":0.36,"d":"36.0%"},{"$f":"IF($F$4=\"보정\", 보정치!E63)","v":false}]
["      5.17.2 관리실 반장",{"v":5000000,"d":"5,000,000"},0,{"$f":"'5월 지출 상세'!D68+'6월 지출 상세'!C68","v":{"v":1134000,"d":"1,134,000"}},{"v":0.2268,"d":"22.7%"},{"$f":"IF($F$4=\"보정\", 보정치!E64)","v":false}]
["   5.18 퇴직위로금",{"v":3000000,"d":"3,000,000"},0,{"$f":"'5월 지출 상세'!D69+'6월 지출 상세'!C69","v":0},{"v":0,"d":"0.0%"},{"$f":"IF($F$4=\"보정\", 보정치!E65)","v":false}]
["   5.19 기타(교역자휴가 및 기타인건비)",{"v":3000000,"d":"3,000,000"},0,{"$f":"'5월 지출 상세'!D70+'6월 지출 상세'!C70","v":0},{"v":0,"d":"0.0%"},{"$f":"IF($F$4=\"보정\", 보정치!E66)","v":false}]
["6. 행정운영비",{"$f":"SUM(B72:B74,B81,B82,B83,B84,B85)","v":{"v":90700000,"d":"90,700,000"}},{"v":10527500,"d":"10,527,500"},{"$f":"'5월 지출 상세'!D71+'6월 지출 상세'!C71","v":{"v":32905696,"d":"32,905,696"}},{"v":0.36279708930540244,"d":"36.3%"},{"$f":"SUM(F72:F74,F81,F82,F83,F84,F85)","v":0}]
["   6.1 회의 및 교회위원회",{"v":6000000,"d":"6,000,000"},{"v":924200,"d":"924,200"},{"$f":"'5월 지출 상세'!D72+'6월 지출 상세'!C72","v":{"v":2550400,"d":"2,550,400"}},{"v":0.42506666666666665,"d":"42.5%"},{"$f":"IF($F$4=\"보정\", 보정치!E70)","v":false}]
["   6.2 사무운영비",{"v":13000000,"d":"13,000,000"},{"v":961160,"d":"961,160"},{"$f":"'5월 지출 상세'!D73+'6월 지출 상세'!C73","v":{"v":4022806,"d":"4,022,806"}},{"$f":"D73/B73","v":{"v":0.3094466153846154,"d":"30.9%"}},{"$f":"IF($F$4=\"보정\", 보정치!E71)","v":false}]
["   6.3 부서운영비",{"$f":"SUM(B75:B80)","v":{"v":52000000,"d":"52,000,000"}},{"v":4346740,"d":"4,346,740"},{"$f":"'5월 지출 상세'!D74+'6월 지출 상세'!C74","v":{"v":18534940,"d":"18,534,940"}},{"v":0.3564411538461538,"d":"35.6%"},{"$f":"IF($F$4=\"보정\", 보정치!E72)","v":false}]
["      6.3.1 성가대",{"v":14300000,"d":"14,300,000"},{"v":1100000,"d":"1,100,000"},{"$f":"'5월 지출 상세'!D75+'6월 지출 상세'!C75","v":{"v":5388200,"d":"5,388,200"}},{"v":0.3767972027972028,"d":"37.7%"},{"$f":"IF($F$4=\"보정\", 보정치!E73)","v":false}]
["      6.3.2 유치부",{"v":4500000,"d":"4,500,000"},{"v":400000,"d":"400,000"},{"$f":"'5월 지출 상세'!D76+'6월 지출 상세'!C76","v":{"v":1600000,"d":"1,600,000"}},{"v":0.35555555555555557,"d":"35.6%"},{"$f":"IF($F$4=\"보정\", 보정치!E74)","v":false}]
["      6.3.3 초등부",{"v":7100000,"d":"7,100,000"},{"v":600000,"d":"600,000"},{"$f":"'5월 지출 상세'!D77+'6월 지출 상세'!C77","v":{"v":2400000,"d":"2,400,000"}},{"v":0.3380281690140845,"d":"33.8%"},{"$f":"IF($F$4=\"보정\", 보정치!E75)","v":false}]
["      6.3.4 중고등부",{"v":5100000,"d":"5,100,000"},{"v":500000,"d":"500,000"},{"$f":"'5월 지출 상세'!D78+'6월 지출 상세'!C78","v":{"v":2000000,"d":"2,000,000"}},{"v":0.39215686274509803,"d":"39.2%"},{"$f":"IF($F$4=\"보정\", 보정치!E76)","v":false}]
["      6.3.5 대학부(신촌)",{"v":12000000,"d":"12,000,000"},{"v":846740,"d":"846,740"},{"$f":"'5월 지출 상세'!D79+'6월 지출 상세'!C79","v":{"v":3546740,"d":"3,546,740"}},{"v":0.29556166666666667,"d":"29.6%"},{"$f":"IF($F$4=\"보정\", 보정치!E77)","v":false}]
["      6.3.6 대학부(국제)",{"v":9000000,"d":"9,000,000"},{"v":900000,"d":"900,000"},{"$f":"'5월 지출 상세'!D80+'6월 지출 상세'!C80","v":{"v":3600000,"d":"3,600,000"}},{"v":0.4,"d":"40.0%"},{"$f":"IF($F$4=\"보정\", 보정치!E78)","v":false}]
["   6.4 목회활동비",{"v":7200000,"d":"7,200,000"},{"v":1489900,"d":"1,489,900"},{"$f":"'5월 지출 상세'!D81+'6월 지출 상세'!C81","v":{"v":3530660,"d":"3,530,660"}},{"v":0.49036944444444447,"d":"49.0%"},{"$f":"IF($F$4=\"보정\", 보정치!E79)","v":false}]
["   6.5 용품 및 수리비",{"v":5000000,"d":"5,000,000"},{"v":2633000,"d":"2,633,000"},{"$f":"'5월 지출 상세'!D82+'6월 지출 상세'!C82","v":{"v":2835100,"d":"2,835,100"}},{"v":0.56702,"d":"56.7%"},{"$f":"IF($F$4=\"보정\", 보정치!E80)","v":false}]
["   6.6 연료비 및 통신비",{"v":4000000,"d":"4,000,000"},{"v":172500,"d":"172,500"},{"$f":"'5월 지출 상세'!D83+'6월 지출 상세'!C83","v":{"v":861790,"d":"861,790"}},{"$f":"D83/B83","v":{"v":0.2154475,"d":"21.5%"}},{"$f":"IF($F$4=\"보정\", 보정치!E81)","v":false}]
["   6.7 악기구입 및 보수",{"v":3500000,"d":"3,500,000"},0,{"$f":"'5월 지출 상세'!D84+'6월 지출 상세'!C84","v":{"v":570000,"d":"570,000"}},{"$f":"D84/B84","v":{"v":0.16285714285714287,"d":"16.3%"}},{"$f":"IF($F$4=\"보정\", 보정치!E82)","v":false}]
["   6.8 행정운영 예비비",0,0,{"$f":"'5월 지출 상세'!D85+'6월 지출 상세'!C85","v":0},null,{"$f":"IF($F$4=\"보정\", 보정치!E83)","v":false}]
["7. 장학금",{"$f":"SUM(B87:B91)","v":{"v":66720000,"d":"66,720,000"}},0,{"$f":"'5월 지출 상세'!D86+'6월 지출 상세'!C86","v":{"v":23080000,"d":"23,080,000"}},{"v":0.3459232613908873,"d":"34.6%"},{"$f":"SUM(F87:F91)","v":0}]
["   7.1 교회학교 교사",{"v":21000000,"d":"21,000,000"},0,{"$f":"'5월 지출 상세'!D87+'6월 지출 상세'!C87","v":{"v":2400000,"d":"2,400,000"}},{"v":0.11428571428571428,"d":"11.4%"},{"$f":"IF($F$4=\"보정\", 보정치!E83)","v":false}]
["   7.2 신촌 대학청년부",{"v":12000000,"d":"12,000,000"},0,{"$f":"'5월 지출 상세'!D88+'6월 지출 상세'!C88","v":{"v":5400000,"d":"5,400,000"}},{"v":0.45,"d":"45.0%"},{"$f":"IF($F$4=\"보정\", 보정치!E84)","v":false}]
["   7.3 국제 대학부",{"v":9000000,"d":"9,000,000"},0,{"$f":"'5월 지출 상세'!D89+'6월 지출 상세'!C89","v":{"v":3600000,"d":"3,600,000"}},{"v":0.4,"d":"40.0%"},{"$f":"IF($F$4=\"보정\", 보정치!E85)","v":false}]
["   7.4 학생 솔리스트",{"v":16320000,"d":"16,320,000"},0,{"$f":"'5월 지출 상세'!D90+'6월 지출 상세'!C90","v":{"v":7480000,"d":"7,480,000"}},{"v":0.4583333333333333,"d":"45.8%"},{"$f":"IF($F$4=\"보정\", 보정치!E86)","v":false}]
["   7.5 기숙사지원",{"v":8400000,"d":"8,400,000"},0,{"$f":"'5월 지출 상세'!D91+'6월 지출 상세'!C91","v":{"v":4200000,"d":"4,200,000"}},{"v":0.5,"d":"50.0%"},{"$f":"IF($F$4=\"보정\", 보정치!E87)","v":false}]
["8. 예비비",{"v":32750000,"d":"32,750,000"},0,{"$f":"'5월 지출 상세'!D92+'6월 지출 상세'!C92","v":{"v":7535670,"d":"7,535,670"}},{"v":0.23009679389312976,"d":"23.0%"},{"$f":"IF($F$4=\"보정\", 보정치!E90)","v":false}]
["9. 이웃사랑기금적립",0,{"v":5387090,"d":"5,387,090"},{"$f":"'5월 지출 상세'!D93+'6월 지출 상세'!C93","v":{"v":5387090,"d":"5,387,090"}},{"v":0,"d":"0.0%"},{"$f":"IF($F$4=\"보정\", 보정치!E91)","v":false}]
["일반 지출 소계",{"$f":"SUM(B5,B13,B22,B38,B50,B71,B86,B92,B93)","v":{"v":580000000,"d":"580,000,000"}},{"$f":"SUM(C5,C13,C22,C38,C50,C71,C86,C92,C93)","v":{"v":28967950,"d":"28,967,950"}},{"$f":"SUM(D5,D13,D22,D38,D50,D71,D86,D92,D93)","v":{"v":196683586,"d":"196,683,586"}},{"v":0.3391096310344828,"d":"33.9%"},{"$f":"SUM(F86,F71,F50,F38,F22,F13,F5)","v":0}]
["차월이월",null,{"$f":"'6월 수입 상세'!C24-'6월 지출 상세'!C94","v":{"v":11304801,"d":"11,304,801"}},{"$f":"'6월 수입 상세'!D25+'6월 수입 상세'!D27+'6월 지출 상세'!C95","v":{"v":51304801,"d":"51,304,801"}}]
["지출부 총액",{"$f":"B94+B95","v":{"v":580000000,"d":"580,000,000"}},{"$f":"C94+C95","v":{"v":40272751,"d":"40,272,751"}},{"$f":"D94+D95","v":{"v":247988387,"d":"247,988,387"}},{"v":0.4275661844827586,"d":"42.8%"}]

{"sheet":"7월 약식","index":13,"n_rows":30,"n_cols":11,"rows_kept":30,"merged":[[0,0,0,10],[1,8,1,10],[2,0,2,4],[2,5,2,10],[3,5,3,6],[13,5,13,6],[14,5,14,6],[18,5,18,6],[19,0,19,6],[20,0,20,2],[20,5,20,8],[21,0,21,1],[22,0,22,1],[23,0,23,1],[24,0,24,1],[24,5,24,8],[25,0,25,1],[26,0,26,1]],"headers":{"header":["[첨부1]"],"footer":["","페이지"]}}
["2023년 7월 결산보고서(약식) "]
["회계년도: 2023년도",{"$nulls":7},"(2023-07-31 현재)"]
["수입의 부",{"$nulls":4},"지출의 부"]
["항 목","예산","당월 수입","수입 누계","집행률(%)","항 목",null,"예산","당월 지출","지출 누계","집행률(%)"]
["1. 주일헌금",{"$f":"'7월 수입 상세'!B5","v":{"v":160000000,"d":"160,000,000"}},{"$f":"'7월 수입 상세'!C5","v":{"v":13743000,"d":"13,743,000"}},{"$f":"VLOOKUP(A5, '7월 수입 상세'!$A$4:$F$29, 4, FALSE)","v":{"v":61239634,"d":"61,239,634"}},{"$f":"D5/B5","v":{"v":0.3827477125,"d":"38.3%"}},"1. 예배운영비",null,{"$f":"'7월 지출 상세'!B5","v":{"v":22700000,"d":"22,700,000"}},{"$f":"'7월 지출 상세'!C5","v":{"v":734600,"d":"734,600"}},{"$f":"VLOOKUP(F5, '7월 지출 상세'!$A$4:$G$96, 4, FALSE)","v":{"v":6768150,"d":"6,768,150"}},{"$f":"J5/H5","v":{"v":0.29815638766519825,"d":"29.8%"}}]
["2. 십일조",{"$f":"'7월 수입 상세'!B6","v":{"v":105000000,"d":"105,000,000"}},{"$f":"'7월 수입 상세'!C6","v":{"v":10097000,"d":"10,097,000"}},{"$f":"VLOOKUP(A6, '7월 수입 상세'!$A$4:$F$29, 4, FALSE)","v":{"v":46099437,"d":"46,099,437"}},{"v":0.43904225714285716,"d":"43.9%"},"2. 교육운영비",null,{"$f":"'7월 지출 상세'!B13","v":{"v":30500000,"d":"30,500,000"}},{"$f":"'7월 지출 상세'!C13","v":{"v":229550,"d":"229,550"}},{"$f":"VLOOKUP(F6, '7월 지출 상세'!$A$4:$G$96, 4, FALSE)","v":{"v":1872540,"d":"1,872,540"}},{"v":0.061394754098360656,"d":"6.1%"}]
["3. 월정헌금",{"$f":"'7월 수입 상세'!B7","v":{"v":145000000,"d":"145,000,000"}},{"$f":"'7월 수입 상세'!C7","v":{"v":14790000,"d":"14,790,000"}},{"$f":"VLOOKUP(A7, '7월 수입 상세'!$A$4:$F$29, 4, FALSE)","v":{"v":62555000,"d":"62,555,000"}},{"v":0.4314137931034483,"d":"43.1%"},"3. 선교비",null,{"$f":"'7월 지출 상세'!B22","v":{"v":74760000,"d":"74,760,000"}},{"$f":"'7월 지출 상세'!C22","v":{"v":7000000,"d":"7,000,000"}},{"$f":"VLOOKUP(F7, '7월 지출 상세'!$A$4:$G$96, 4, FALSE)","v":{"v":36721970,"d":"36,721,970"}},{"v":0.49119810058855,"d":"49.1%"}]
["4. 감사헌금",{"$f":"'7월 수입 상세'!B8","v":{"v":35000000,"d":"35,000,000"}},{"$f":"'7월 수입 상세'!C8","v":{"v":5721000,"d":"5,721,000"}},{"$f":"VLOOKUP(A8, '7월 수입 상세'!$A$4:$F$29, 4, FALSE)","v":{"v":15544000,"d":"15,544,000"}},{"v":0.44411428571428574,"d":"44.4%"},"4. 친교행사운영비",null,{"$f":"'7월 지출 상세'!B38","v":{"v":27600000,"d":"27,600,000"}},{"$f":"'7월 지출 상세'!C38","v":{"v":393350,"d":"393,350"}},{"$f":"VLOOKUP(F8, '7월 지출 상세'!$A$4:$G$96, 4, FALSE)","v":{"v":7525970,"d":"7,525,970"}},{"v":0.27268007246376813,"d":"27.3%"}]
["5. 교육부헌금",{"$f":"'7월 수입 상세'!B9","v":{"v":22000000,"d":"22,000,000"}},{"$f":"'7월 수입 상세'!C9","v":{"v":1346200,"d":"1,346,200"}},{"$f":"VLOOKUP(A9, '7월 수입 상세'!$A$4:$F$29, 4, FALSE)","v":{"v":8548821,"d":"8,548,821"}},{"v":0.3885827727272727,"d":"38.9%"},"5. 사례비",null,{"$f":"'7월 지출 상세'!B50","v":{"v":234270000,"d":"234,270,000"}},{"$f":"'7월 지출 상세'!C50","v":{"v":16200000,"d":"16,200,000"}},{"$f":"VLOOKUP(F9, '7월 지출 상세'!$A$4:$G$96, 4, FALSE)","v":{"v":99444000,"d":"99,444,000"}},{"v":0.424484569086951,"d":"42.4%"}]
["6. 절기헌금",{"$f":"'7월 수입 상세'!B15","v":{"v":35000000,"d":"35,000,000"}},{"$f":"'7월 수입 상세'!C15","v":0},{"$f":"VLOOKUP(A10, '7월 수입 상세'!$A$4:$F$29, 4, FALSE)","v":{"v":14256000,"d":"14,256,000"}},{"v":0.40731428571428574,"d":"40.7%"},"6. 행정운영비",null,{"$f":"'7월 지출 상세'!B71","v":{"v":90700000,"d":"90,700,000"}},{"$f":"'7월 지출 상세'!C71","v":{"v":7094100,"d":"7,094,100"}},{"$f":"VLOOKUP(F10, '7월 지출 상세'!$A$4:$G$96, 4, FALSE)","v":{"v":39999796,"d":"39,999,796"}},{"v":0.4410120837927233,"d":"44.1%"}]
["7. 선교헌금",{"$f":"'7월 수입 상세'!B19","v":{"v":5000000,"d":"5,000,000"}},{"$f":"'7월 수입 상세'!C19","v":{"v":432000,"d":"432,000"}},{"$f":"VLOOKUP(A11, '7월 수입 상세'!$A$4:$F$29, 4, FALSE)","v":{"v":1851000,"d":"1,851,000"}},{"v":0.3702,"d":"37.0%"},"7. 장학금",null,{"$f":"'7월 지출 상세'!B86","v":{"v":66720000,"d":"66,720,000"}},{"$f":"'7월 지출 상세'!C86","v":0},{"$f":"VLOOKUP(F11, '7월 지출 상세'!$A$4:$G$96, 4, FALSE)","v":{"v":23080000,"d":"23,080,000"}},{"v":0.3459232613908873,"d":"34.6%"}]
["8. 지정헌금",{"$f":"'7월 수입 상세'!B22","v":{"v":20000000,"d":"20,000,000"}},{"$f":"'7월 수입 상세'!C22","v":{"v":280000,"d":"280,000"}},{"$f":"VLOOKUP(A12, '7월 수입 상세'!$A$4:$F$29, 4, FALSE)","v":{"v":7198000,"d":"7,198,000"}},{"v":0.3599,"d":"36.0%"},"8. 예비비",null,{"$f":"'7월 지출 상세'!B92","v":{"v":32750000,"d":"32,750,000"}},{"$f":"'7월 지출 상세'!C92","v":0},{"$f":"VLOOKUP(F12, '7월 지출 상세'!$A$4:$G$96, 4, FALSE)","v":{"v":7535670,"d":"7,535,670"}},{"v":0.23009679389312976,"d":"23.0%"}]
["9. 특별헌금(이웃사랑실천헌금 등)",{"$f":"'7월 수입 상세'!B23","v":{"v":13000000,"d":"13,000,000"}},{"$f":"'7월 수입 상세'!C23","v":0},{"$f":"VLOOKUP(A13, '7월 수입 상세'!$A$4:$F$29, 4, FALSE)","v":{"v":5237090,"d":"5,237,090"}},{"v":0.4028530769230769,"d":"40.3%"},"9. 이웃사랑기금적립",null,{"$f":"'7월 지출 상세'!B93","v":0},{"$f":"'7월 지출 상세'!C93","v":0},{"$f":"VLOOKUP(F13, '7월 지출 상세'!$A$4:$G$96, 4, FALSE)","v":{"v":5387090,"d":"5,387,090"}}]
["헌금 수입 소계",{"$f":"SUM(B5:B13)","v":{"v":540000000,"d":"540,000,000"}},{"$f":"SUM(C5:C13)","v":{"v":46409200,"d":"46,409,200"}},{"$f":"SUM(D5:D13)","v":{"v":222528982,"d":"222,528,982"}},{"v":0.4120907074074074,"d":"41.2%"},"  일반 지출 소계",null,{"$f":"SUM(H5:H13)","v":{"v":580000000,"d":"580,000,000"}},{"$f":"SUM(I5:I13)","v":{"v":31651600,"d":"31,651,600"}},{"$f":"SUM(J5:J13)","v":{"v":228335186,"d":"228,335,186"}},{"$f":"J14/H14","v":{"v":0.3936813551724138,"d":"39.4%"}}]
["전기이월금 전입",{"v":40000000,"d":"40,000,000"},0,{"$f":"'3월 약식'!D15+'7월 약식'!C15","v":{"v":40000000,"d":"40,000,000"}},{"v":1,"d":"100.0%"},"  차월이월",null,null,{"$f":"C14-I14","v":{"v":14757600,"d":"14,757,600"}},{"$f":"D19-J14","v":{"v":56070696,"d":"56,070,696"}}]
["전기이월금 추가전입",null,0,{"$f":"'3월 약식'!D16","v":{"v":21876900,"d":"21,876,900"}}]
["헌금외 기금",null,0,0]
["전월이월금",null,{"$f":"'6월 약식'!J15","v":{"v":41313096,"d":"41,313,096"}}]
["수입부 총액",{"$f":"SUM(B14:B18)","v":{"v":580000000,"d":"580,000,000 "}},{"$f":"SUM(C14:C18)","v":{"v":87722296,"d":"87,722,296 "}},{"$f":"SUM(D14:D18)","v":{"v":284405882,"d":"284,405,882 "}},{"$f":"D19/B19","v":{"v":0.4903549689655172,"d":"49.0%"}},"  지출부 총액",null,{"$f":"SUM(H14:H18)","v":{"v":580000000,"d":"580,000,000 "}},{"$f":"SUM(I14:I18)","v":{"v":46409200,"d":"46,409,200 "}},{"$f":"SUM(J14:J18)","v":{"v":284405882,"d":"284,405,882 "}},{"$f":"J19/H19","v":{"v":0.4903549689655172,"d":"49.0%"}}]
["*지정헌금 내역(헌화헌금_28만 원"]
["기금 및 이월금 현황 (2023.3.1 기준)",{"$nulls":4},"헌금 수입 및 지출 누계 비교"]
["기금명",null,"금액(이자포함)",{"$nulls":3},"2021년 7월","2022년 7월 ","2023년 7월"]
["박명윤이행자선교기금(FAA003023)",null,{"v":53380953,"d":"53,380,953"},null,null,"수입 누계",{"v":251711887,"d":"251,711,887"},{"v":218233814,"d":"218,233,814"},{"$f":"D14","v":{"v":222528982,"d":"222,528,982"}}]
["대학교회건축기금(FBA113041)",null,0,null,null,"지출 누계",{"v":197508198,"d":"197,508,198"},{"v":211334558,"d":"211,334,558"},{"$f":"J14","v":{"v":228335186,"d":"228,335,186"}}]
["국캠대학교회선교기금(FEA173001)",null,{"v":146649,"d":"146,649"}]
["이웃사랑기금(FEA183001)",null,{"v":83791013,"d":"83,791,013"}]
["유초등부발전기금(FAA213008)",null,{"v":18299135,"d":"18,299,135"}]
["기금 총액",null,{"$f":"SUM(C23:C27)","v":{"v":155617750,"d":"155,617,750 "}}]
[]
["*누적 이월금 (2023.3.1 기준 / 기금 및 전입금 제외)",null,{"v":453597137,"d":"453,597,137 "}]

{"sheet":"7월 수입 상세","index":14,"n_rows":29,"n_cols":6,"rows_kept":29,"merged":[[0,0,0,5]]}
["7월 수입 상세"]
["회계연도: 2023년도",{"$nulls":4},"(2023-07-31 현재)"]
[]
["분류항목","예산","당월","누계","집행률(%)","비고"]
["1. 주일헌금",{"v":160000000,"d":"160,000,000"},{"v":13743000,"d":"13,743,000"},{"$f":"SUM('6월 수입 상세'!D5+'7월 수입 상세'!C5)","v":{"v":61239634,"d":"61,239,634"}},{"$f":"D5/B5","v":{"v":0.3827477125,"d":"38.3%"}}]
["2. 십일조",{"v":105000000,"d":"105,000,000"},{"v":10097000,"d":"10,097,000"},{"$f":"SUM('6월 수입 상세'!D6+'7월 수입 상세'!C6)","v":{"v":46099437,"d":"46,099,437"}},{"$f":"D6/B6","v":{"v":0.43904225714285716,"d":"43.9%"}}]
["3. 월정헌금",{"v":145000000,"d":"145,000,000"},{"v":14790000,"d":"14,790,000"},{"$f":"SUM('6월 수입 상세'!D7+'7월 수입 상세'!C7)","v":{"v":62555000,"d":"62,555,000"}},{"v":0.4314137931034483,"d":"43.1%"}]
["4. 감사헌금",{"v":35000000,"d":"35,000,000"},{"v":5721000,"d":"5,721,000"},{"$f":"SUM('6월 수입 상세'!D8+'7월 수입 상세'!C8)","v":{"v":15544000,"d":"15,544,000"}},{"v":0.44411428571428574,"d":"44.4%"}]
["5. 교육부헌금",{"$f":"SUM(B10:B14)","v":{"v":22000000,"d":"22,000,000"}},{"v":1346200,"d":"1,346,200"},{"$f":"SUM('6월 수입 상세'!D9+'7월 수입 상세'!C9)","v":{"v":8548821,"d":"8,548,821"}},{"v":0.3885827727272727,"d":"38.9%"}]
["   유치부",{"v":700000,"d":"700,000"},{"v":136000,"d":"136,000"},{"$f":"SUM('6월 수입 상세'!D10+'7월 수입 상세'!C10)","v":{"v":723049,"d":"723,049"}},{"v":1.032927142857143,"d":"103.3%"}]
["   초등부",{"v":1000000,"d":"1,000,000"},{"v":140000,"d":"140,000"},{"$f":"SUM('6월 수입 상세'!D11+'7월 수입 상세'!C11)","v":{"v":611500,"d":"611,500"}},{"v":0.6115,"d":"61.2%"}]
["   중고등부",{"v":300000,"d":"300,000"},{"v":17000,"d":"17,000"},{"$f":"SUM('6월 수입 상세'!D12+'7월 수입 상세'!C12)","v":{"v":91722,"d":"91,722"}},{"v":0.30574,"d":"30.6%"}]
["   대학부(신촌)",{"v":7000000,"d":"7,000,000"},{"v":903200,"d":"903,200"},{"$f":"SUM('6월 수입 상세'!D13+'7월 수입 상세'!C13)","v":{"v":4473338,"d":"4,473,338"}},{"v":0.6390482857142857,"d":"63.9%"}]
["   대학부(국제)",{"v":13000000,"d":"13,000,000"},{"v":150000,"d":"150,000"},{"$f":"SUM('6월 수입 상세'!D14+'7월 수입 상세'!C14)","v":{"v":2649212,"d":"2,649,212"}},{"v":0.20378553846153846,"d":"20.4%"}]
["6. 절기헌금",{"$f":"SUM(B16:B18)","v":{"v":35000000,"d":"35,000,000"}},0,{"$f":"SUM('6월 수입 상세'!D15+'7월 수입 상세'!C15)","v":{"v":14256000,"d":"14,256,000"}},{"v":0.40731428571428574,"d":"40.7%"}]
["   부활절",{"v":10000000,"d":"10,000,000"},0,{"$f":"SUM('6월 수입 상세'!D16+'7월 수입 상세'!C16)","v":{"v":14256000,"d":"14,256,000"}},{"v":1.4256,"d":"142.6%"}]
["   추수감사절",{"v":10000000,"d":"10,000,000"},0,{"$f":"SUM('6월 수입 상세'!D17+'7월 수입 상세'!C17)","v":0},{"v":0,"d":"0.0%"}]
["   성탄절",{"v":15000000,"d":"15,000,000"},0,{"$f":"SUM('6월 수입 상세'!D18+'7월 수입 상세'!C18)","v":0},{"v":0,"d":"0.0%"}]
["7. 선교헌금",{"v":5000000,"d":"5,000,000"},{"v":432000,"d":"432,000"},{"$f":"SUM('6월 수입 상세'!D19+'7월 수입 상세'!C19)","v":{"v":1851000,"d":"1,851,000"}},{"v":0.3702,"d":"37.0%"}]
["   선교헌금",{"v":2500000,"d":"2,500,000"},{"v":432000,"d":"432,000"},{"$f":"SUM('6월 수입 상세'!D20+'7월 수입 상세'!C20)","v":{"v":1851000,"d":"1,851,000"}},{"v":0.7404,"d":"74.0%"}]
["   특별선교헌금",{"v":2500000,"d":"2,500,000"},0,{"$f":"SUM('6월 수입 상세'!D21+'7월 수입 상세'!C21)","v":0},{"v":0,"d":"0.0%"}]
["8. 지정헌금",{"v":20000000,"d":"20,000,000"},{"v":280000,"d":"280,000"},{"$f":"SUM('6월 수입 상세'!D22+'7월 수입 상세'!C22)","v":{"v":7198000,"d":"7,198,000"}},{"v":0.3599,"d":"36.0%"},"헌화헌금 28만 원"]
["9. 특별헌금(이웃사랑실천헌금 등)",{"v":13000000,"d":"13,000,000"},0,{"$f":"SUM('6월 수입 상세'!D23+'7월 수입 상세'!C23)","v":{"v":5237090,"d":"5,237,090"}},{"v":0.4028530769230769,"d":"40.3%"}]
["헌금 수입 소계",{"$f":"SUM(B5,B6,B7,B8,B9,B15,B19,B22,B23)","v":{"v":540000000,"d":"540,000,000"}},{"$f":"SUM(C5,C6,C7,C8,C9,C15,C19,C22,C23)","v":{"v":46409200,"d":"46,409,200"}},{"$f":"SUM(D5,D6,D7,D8,D9,D15,D19,D22,D23)","v":{"v":222528982,"d":"222,528,982"}},{"v":0.4120907074074074,"d":"41.2%"}]
["전기이월금 전입",{"v":40000000,"d":"40,000,000"},0,{"v":40000000,"d":"40,000,000"},{"v":1,"d":"100.0%"}]
["전기이월금 추가전입",null,0,{"$f":"'7월 약식'!D16","v":{"v":21876900,"d":"21,876,900"}}]
["헌금외 기금",null,0,{"$f":"C27","v":0}]
["전월이월금",null,{"$f":"'7월 약식'!C18","v":{"v":41313096,"d":"41,313,096"}}]
["수입부 총액",{"$f":"B24+B25","v":{"v":580000000,"d":"580,000,000"}},{"$f":"SUM(C24:C28)","v":{"v":87722296,"d":"87,722,296"}},{"$f":"SUM(D24:D28)","v":{"v":284405882,"d":"284,405,882"}},{"v":0.4903549689655172,"d":"49.0%"}]

{"sheet":"7월 지출 상세","index":15,"n_rows":96,"n_cols":7,"rows_kept":96,"merged":[[0,0,0,6],[1,3,1,4]]}
["7월 지출 상세"]
["회계연도: 2023년도"]
[{"$nulls":6},"(2023-07-31 현재)"]
["분류항목","예산","당월","누계","집행률(%)",null,"비고"]
["1. 예배운영비",{"$f":"SUM(B6:B9)","v":{"v":22700000,"d":"22,700,000"}},{"v":734600,"d":"734,600"},{"$f":"'6월 지출 상세'!D5+'7월 지출 상세'!C5","v":{"v":6768150,"d":"6,768,150"}},{"$f":"D5/B5","v":{"v":0.29815638766519825,"d":"29.8%"}},{"$f":"SUM(F6:F9)","v":0}]
["   1.1 성례예식비",{"v":1200000,"d":"1,200,000"},0,{"$f":"'6월 지출 상세'!D6+'7월 지출 상세'!C6","v":{"v":497100,"d":"497,100"}},{"$f":"D6/B6","v":{"v":0.41425,"d":"41.4%"}},{"$f":"IF($F$4=\"보정\", 보정치!E4)","v":false}]
["   1.2 주보인쇄비",{"v":4000000,"d":"4,000,000"},{"v":355000,"d":"355,000"},{"$f":"'6월 지출 상세'!D7+'7월 지출 상세'!C7","v":{"v":1095000,"d":"1,095,000"}},{"v":0.27375,"d":"27.4%"},{"$f":"IF($F$4=\"보정\", 보정치!E5)","v":false}]
["   1.3 강사접대비",{"v":2500000,"d":"2,500,000"},{"v":95000,"d":"95,000"},{"$f":"'6월 지출 상세'!D8+'7월 지출 상세'!C8","v":{"v":874500,"d":"874,500"}},{"v":0.3498,"d":"35.0%"},{"$f":"IF($F$4=\"보정\", 보정치!E6)","v":false}]
["   1.4 예배준비비",{"$f":"SUM(B10:B12)","v":{"v":15000000,"d":"15,000,000"}},{"v":284600,"d":"284,600"},{"$f":"'6월 지출 상세'!D9+'7월 지출 상세'!C9","v":{"v":4301550,"d":"4,301,550"}},{"v":0.28677,"d":"28.7%"},{"$f":"IF($F$4=\"보정\", 보정치!E7)","v":false}]
["      1.4.1 성전 꽃꽂이",{"v":10000000,"d":"10,000,000"},0,{"$f":"'6월 지출 상세'!D10+'7월 지출 상세'!C10","v":{"v":2800000,"d":"2,800,000"}},{"v":0.28,"d":"28.0%"},{"$f":"IF($F$4=\"보정\", 보정치!E8)","v":false}]
["      1.4.2 봉사자 식사",{"v":4000000,"d":"4,000,000"},{"v":284600,"d":"284,600"},{"$f":"'6월 지출 상세'!D11+'7월 지출 상세'!C11","v":{"v":1391750,"d":"1,391,750"}},{"v":0.3479375,"d":"34.8%"},{"$f":"IF($F$4=\"보정\", 보정치!E9)","v":false}]
["      1.4.3 절기행사비",{"v":1000000,"d":"1,000,000"},0,{"$f":"'6월 지출 상세'!D12+'7월 지출 상세'!C12","v":{"v":109800,"d":"109,800"}},{"v":0.1098,"d":"11.0%"},{"$f":"IF($F$4=\"보정\", 보정치!E10)","v":false}]
["2. 교육운영비",{"$f":"SUM(B14:B21)","v":{"v":30500000,"d":"30,500,000"}},{"v":229550,"d":"229,550"},{"$f":"'6월 지출 상세'!D13+'7월 지출 상세'!C13","v":{"v":1872540,"d":"1,872,540"}},{"v":0.061394754098360656,"d":"6.1%"},{"$f":"IF($F$4=\"보정\", 보정치!E11)","v":false}]
["   2.1 주일성서연구운영비",{"v":1000000,"d":"1,000,000"},0,{"$f":"'6월 지출 상세'!D14+'7월 지출 상세'!C14","v":0},{"v":0,"d":"0.0%"},{"$f":"IF($F$4=\"보정\", 보정치!E12)","v":false}]
["   2.2 도서 및 교재",{"v":2000000,"d":"2,000,000"},{"v":205800,"d":"205,800"},{"$f":"'6월 지출 상세'!D15+'7월 지출 상세'!C15","v":{"v":630900,"d":"630,900"}},{"v":0.31545,"d":"31.5%"},{"$f":"IF($F$4=\"보정\", 보정치!E13)","v":false}]
["   2.3 전교인수양회 행사비",{"v":14000000,"d":"14,000,000"},0,{"$f":"'6월 지출 상세'!D16+'7월 지출 상세'!C16","v":{"v":104600,"d":"104,600"}},{"v":0.007471428571428572,"d":"0.7%"},{"$f":"IF($F$4=\"보정\", 보정치!E14)","v":false}]
["   2.4 교목연수비",0,0,{"$f":"'6월 지출 상세'!D17+'7월 지출 상세'!C17","v":0},null,{"$f":"IF($F$4=\"보정\", 보정치!E15)","v":false}]
["   2.5 교역자 교육훈련비",{"v":3000000,"d":"3,000,000"},{"v":23750,"d":"23,750"},{"$f":"'6월 지출 상세'!D18+'7월 지출 상세'!C18","v":{"v":531040,"d":"531,040"}},{"v":0.17701333333333333,"d":"17.7%"},{"$f":"IF($F$4=\"보정\", 보정치!E16)","v":false}]
["   2.6 교사세미나/교역자workshop",{"v":3000000,"d":"3,000,000"},0,{"$f":"'6월 지출 상세'!D19+'7월 지출 상세'!C19","v":{"v":606000,"d":"606,000"}},{"v":0.202,"d":"20.2%"},{"$f":"IF($F$4=\"보정\", 보정치!E17)","v":false}]
["   2.7 교육부 운영비",{"v":7500000,"d":"7,500,000"},0,{"$f":"'6월 지출 상세'!D20+'7월 지출 상세'!C20","v":0},{"v":0,"d":"0.0%"},{"$f":"IF($F$4=\"보정\", 보정치!E18)","v":false}]
["   2.8 교육운영 예비비",0,0,{"$f":"'6월 지출 상세'!D21+'7월 지출 상세'!C21","v":0},null,{"$f":"IF($F$4=\"보정\", 보정치!E19)","v":false}]
["3. 선교비",{"$f":"SUM(B23,B34,B35,B36,B37)","v":{"v":74760000,"d":"74,760,000"}},{"v":7000000,"d":"7,000,000"},{"$f":"'6월 지출 상세'!D22+'7월 지출 상세'!C22","v":{"v":36721970,"d":"36,721,970"}},{"v":0.49119810058855,"d":"49.1%"},{"$f":"SUM(F23,F32,F33,F34,F35)","v":0}]
["   3.1 학원선교",{"$f":"SUM(B24:B33)","v":{"v":50960000,"d":"50,960,000"}},{"v":6600000,"d":"6,600,000"},{"$f":"'6월 지출 상세'!D23+'7월 지출 상세'!C23","v":{"v":11464970,"d":"11,464,970"}},{"v":0.2249797880690738,"d":"22.5%"},{"$f":"SUM(F24:F31)","v":0}]
["      3.1.1 간식나눔행사(신촌)",{"v":2000000,"d":"2,000,000"},0,{"$f":"'6월 지출 상세'!D24+'7월 지출 상세'!C24","v":{"v":1464970,"d":"1,464,970"}},{"v":0.732485,"d":"73.2%"},{"$f":"IF($F$4=\"보정\", 보정치!E22)","v":false}]
["      3.1.2 간식나눔행사(국제)",{"v":1000000,"d":"1,000,000"},0,{"$f":"'6월 지출 상세'!D25+'7월 지출 상세'!C25","v":0},{"v":0,"d":"0.0%"},{"$f":"IF($F$4=\"보정\", 보정치!E23)","v":false}]
["      3.1.3 교목실 점심나눔 후원",{"v":27000000,"d":"27,000,000"},0,{"$f":"'6월 지출 상세'!D26+'7월 지출 상세'!C26","v":0},{"v":0,"d":"0.0%"},{"$f":"IF($F$4=\"보정\", 보정치!E24)","v":false}]
["      3.1.4 연세기독학생연합회 지원",{"v":3600000,"d":"3,600,000"},{"v":300000,"d":"300,000"},{"$f":"'6월 지출 상세'!D27+'7월 지출 상세'!C27","v":{"v":1500000,"d":"1,500,000"}},{"v":0.4166666666666667,"d":"41.7%"},{"$f":"IF($F$4=\"보정\", 보정치!E25)","v":false}]
["      3.1.5 연세기독학생회찬양팀 후원",{"v":2400000,"d":"2,400,000"},{"v":200000,"d":"200,000"},{"$f":"'6월 지출 상세'!D28+'7월 지출 상세'!C28","v":{"v":1000000,"d":"1,000,000"}},{"v":0.4166666666666667,"d":"41.7%"},{"$f":"IF($F$4=\"보정\", 보정치!E26)","v":false}]
["      3.1.6 YMK 후원",{"v":3600000,"d":"3,600,000"},{"v":300000,"d":"300,000"},{"$f":"'6월 지출 상세'!D29+'7월 지출 상세'!C29","v":{"v":1500000,"d":"1,500,000"}},{"v":0.4166666666666667,"d":"41.7%"},{"$f":"IF($F$4=\"보정\", 보정치!E27)","v":false}]
["      3.1.7 통일한마당",{"v":2400000,"d":"2,400,000"},{"v":800000,"d":"800,000"},{"$f":"'6월 지출 상세'!D30+'7월 지출 상세'!C30","v":{"v":1000000,"d":"1,000,000"}},{"v":0.4166666666666667,"d":"41.7%"},{"$f":"IF($F$4=\"보정\", 보정치!E28)","v":false},"4-7월 지원비 일괄지급"]
["      3.1.8 리틀언더우드 후원",{"v":5000000,"d":"5,000,000"},{"v":5000000,"d":"5,000,000"},{"$f":"'6월 지출 상세'!D31+'7월 지출 상세'!C31","v":{"v":5000000,"d":"5,000,000"}},{"v":1,"d":"100.0%"},0,"언더우드 영 리더 프로그램 후원"]
["      3.1.9 멘토멘티프로그램",{"v":3960000,"d":"3,960,000"},0,{"$f":"'6월 지출 상세'!D32+'7월 지출 상세'!C32","v":0},{"v":0,"d":"0.0%"},0]
["      3.1.10 학원선교 기타",0,0,{"$f":"'6월 지출 상세'!D33+'7월 지출 상세'!C33","v":0},null,{"$f":"IF($F$4=\"보정\", 보정치!E31)","v":false}]
["   3.2 국외선교",{"v":4800000,"d":"4,800,000"},{"v":400000,"d":"400,000"},{"$f":"'6월 지출 상세'!D34+'7월 지출 상세'!C34","v":{"v":2000000,"d":"2,000,000"}},{"v":0.4166666666666667,"d":"41.7%"},{"$f":"IF($F$4=\"보정\", 보정치!E32)","v":false},"함정희, 노규래 "]
["   3.3 이웃사랑 실천헌금",{"v":9000000,"d":"9,000,000"},0,{"$f":"'6월 지출 상세'!D35+'7월 지출 상세'!C35","v":0},{"v":0,"d":"0.0%"},{"$f":"IF($F$4=\"보정\", 보정치!E33)","v":false}]
["   3.4 지정헌금",{"v":10000000,"d":"10,000,000"},0,{"$f":"'6월 지출 상세'!D36+'7월 지출 상세'!C36","v":{"v":23257000,"d":"23,257,000"}},{"v":2.3257,"d":"232.6%"},{"$f":"IF($F$4=\"보정\", 보정치!E34)","v":false}]
["   3.5 선교예비금",0,0,{"$f":"'6월 지출 상세'!D37+'7월 지출 상세'!C37","v":0},null,{"$f":"IF($F$4=\"보정\", 보정치!E35)","v":false}]
["4. 친교행사운영비",{"$f":"SUM(B39:B49)-B47","v":{"v":27600000,"d":"27,600,000"}},{"v":393350,"d":"393,350"},{"$f":"'6월 지출 상세'!D38+'7월 지출 상세'!C38","v":{"v":7525970,"d":"7,525,970"}},{"v":0.27268007246376813,"d":"27.3%"},{"$f":"SUM(F39:F49)-F47","v":0}]
["   4.1 주일공동식사",{"v":7000000,"d":"7,000,000"},0,{"$f":"'6월 지출 상세'!D39+'7월 지출 상세'!C39","v":{"v":2228200,"d":"2,228,200"}},{"v":0.3183142857142857,"d":"31.8%"},{"$f":"IF($F$4=\"보정\", 보정치!E37)","v":false}]
["   4.2 야외예배 행사비",0,0,{"$f":"'6월 지출 상세'!D40+'7월 지출 상세'!C40","v":0},null,{"$f":"IF($F$4=\"보정\", 보정치!E38)","v":false}]
["   4.3 경로행사비",{"v":1500000,"d":"1,500,000"},0,{"$f":"'6월 지출 상세'!D41+'7월 지출 상세'!C41","v":{"v":1500000,"d":"1,500,000"}},{"v":1,"d":"100.0%"},{"$f":"IF($F$4=\"보정\", 보정치!E39)","v":false}]
["   4.4 성탄행사비",{"v":2100000,"d":"2,100,000"},0,{"$f":"'6월 지출 상세'!D42+'7월 지출 상세'!C42","v":0},{"v":0,"d":"0.0%"},{"$f":"IF($F$4=\"보정\", 보정치!E40)","v":false}]
["   4.5 주일다과비",{"v":5000000,"d":"5,000,000"},{"v":86750,"d":"86,750"},{"$f":"'6월 지출 상세'!D43+'7월 지출 상세'!C43","v":{"v":451330,"d":"451,330"}},{"v":0.090266,"d":"9.0%"},{"$f":"IF($F$4=\"보정\", 보정치!E41)","v":false}]
["   4.6 경조비",{"v":4000000,"d":"4,000,000"},{"v":306600,"d":"306,600"},{"$f":"'6월 지출 상세'!D44+'7월 지출 상세'!C44","v":{"v":1597000,"d":"1,597,000"}},{"v":0.39925,"d":"39.9%"},{"$f":"IF($F$4=\"보정\", 보정치!E42)","v":false}]
["   4.7 교우친교비",{"v":2000000,"d":"2,000,000"},0,{"$f":"'6월 지출 상세'!D45+'7월 지출 상세'!C45","v":{"v":749440,"d":"749,440"}},{"v":0.37472,"d":"37.5%"},{"$f":"IF($F$4=\"보정\", 보정치!E43)","v":false}]
["   4.8 홍보출판비",{"v":4000000,"d":"4,000,000"},0,{"$f":"'6월 지출 상세'!D46+'7월 지출 상세'!C46","v":{"v":1000000,"d":"1,000,000"}},{"v":0.25,"d":"25.0%"},{"$f":"IF($F$4=\"보정\", 보정치!E44)","v":false}]
["      4.8.1 대학교회 회지",{"v":4000000,"d":"4,000,000"},0,{"$f":"'6월 지출 상세'!D47+'7월 지출 상세'!C47","v":{"v":1000000,"d":"1,000,000"}},{"v":0.25,"d":"25.0%"},{"$f":"IF($F$4=\"보정\", 보정치!E45)","v":false}]
["   4.9 교회봉사자 선물",{"v":2000000,"d":"2,000,000"},0,{"$f":"'6월 지출 상세'!D48+'7월 지출 상세'!C48","v":0},{"v":0,"d":"0.0%"},{"$f":"IF($F$4=\"보정\", 보정치!E46)","v":false}]
["   4.10 친교행사 예비비",0,0,{"$f":"'6월 지출 상세'!D49+'7월 지출 상세'!C49","v":0},null,{"$f":"IF($F$4=\"보정\", 보정치!E47)","v":false}]
["5. 사례비",{"$f":"SUM(B51:B66,B69,B70)","v":{"v":234270000,"d":"234,270,000"}},{"v":16200000,"d":"16,200,000"},{"$f":"'6월 지출 상세'!D50+'7월 지출 상세'!C50","v":{"v":99444000,"d":"99,444,000"}},{"v":0.424484569086951,"d":"42.4%"},{"$f":"SUM(F51:F70)","v":0}]
["   5.1 외부강사 설교 사례",{"v":12000000,"d":"12,000,000"},{"v":900000,"d":"900,000"},{"$f":"'6월 지출 상세'!D51+'7월 지출 상세'!C51","v":{"v":5500000,"d":"5,500,000"}},{"v":0.4583333333333333,"d":"45.8%"},{"$f":"IF($F$4=\"보정\", 보정치!E47)","v":false}]
["   5.2 외부강사 설교 사례(대학부-국제)",{"v":2400000,"d":"2,400,000"},0,{"$f":"'6월 지출 상세'!D52+'7월 지출 상세'!C52","v":0},{"v":0,"d":"0.0%"},{"$f":"IF($F$4=\"보정\", 보정치!E48)","v":false}]
["   5.3 절기 예배 연주자",{"v":800000,"d":"800,000"},0,{"$f":"'6월 지출 상세'!D53+'7월 지출 상세'!C53","v":0},{"v":0,"d":"0.0%"},{"$f":"IF($F$4=\"보정\", 보정치!E49)","v":false}]
["   5.4 국악 예배 연주자",{"v":1800000,"d":"1,800,000"},0,{"$f":"'6월 지출 상세'!D54+'7월 지출 상세'!C54","v":0},{"v":0,"d":"0.0%"},{"$f":"IF($F$4=\"보정\", 보정치!E50)","v":false}]
["   5.5 봉헌송 사례",{"v":450000,"d":"450,000"},0,{"$f":"'6월 지출 상세'!D55+'7월 지출 상세'!C55","v":0},{"v":0,"d":"0.0%"},{"$f":"IF($F$4=\"보정\", 보정치!E51)","v":false}]
["   5.6 주일성서연구 강사사례",{"v":4000000,"d":"4,000,000"},0,{"$f":"'6월 지출 상세'!D56+'7월 지출 상세'!C56","v":{"v":2000000,"d":"2,000,000"}},{"v":0.5,"d":"50.0%"},{"$f":"IF($F$4=\"보정\", 보정치!E52)","v":false}]
["   5.8 담임목사 ",{"v":14400000,"d":"14,400,000"},0,{"$f":"'6월 지출 상세'!D57+'7월 지출 상세'!C57","v":{"v":6000000,"d":"6,000,000"}},{"v":0.4166666666666667,"d":"41.7%"},{"$f":"IF($F$4=\"보정\", 보정치!E53)","v":false}]
["   5.9 동역목사",{"v":12000000,"d":"12,000,000"},{"v":400000,"d":"400,000"},{"$f":"'6월 지출 상세'!D58+'7월 지출 상세'!C58","v":{"v":2400000,"d":"2,400,000"}},{"v":0.2,"d":"20.0%"},{"$f":"IF($F$4=\"보정\", 보정치!E54)","v":false}]
["   5.10 전임교역자",{"v":67500000,"d":"67,500,000"},{"v":9900000,"d":"9,900,000"},{"$f":"'6월 지출 상세'!D59+'7월 지출 상세'!C59","v":{"v":39900000,"d":"39,900,000"}},{"v":0.5911111111111111,"d":"59.1%"},{"$f":"IF($F$4=\"보정\", 보정치!E55)","v":false}]
["   5.11 성가대지휘자",{"v":12000000,"d":"12,000,000"},{"v":1000000,"d":"1,000,000"},{"$f":"'6월 지출 상세'!D60+'7월 지출 상세'!C60","v":{"v":5000000,"d":"5,000,000"}},{"v":0.4166666666666667,"d":"41.7%"},{"$f":"IF($F$4=\"보정\", 보정치!E56)","v":false}]
["   5.12 오르가니스트",{"v":12000000,"d":"12,000,000"},0,{"$f":"'6월 지출 상세'!D61+'7월 지출 상세'!C61","v":{"v":5000000,"d":"5,000,000"}},{"v":0.4166666666666667,"d":"41.7%"},{"$f":"IF($F$4=\"보정\", 보정치!E57)","v":false}]
["   5.13 교육부서 담당교역자",{"v":38400000,"d":"38,400,000"},0,{"$f":"'6월 지출 상세'!D62+'7월 지출 상세'!C62","v":{"v":13600000,"d":"13,600,000"}},{"v":0.3541666666666667,"d":"35.4%"},{"$f":"IF($F$4=\"보정\", 보정치!E58)","v":false}]
["   5.14 성인 솔리스트",{"v":23520000,"d":"23,520,000"},{"v":1960000,"d":"1,960,000"},{"$f":"'6월 지출 상세'!D63+'7월 지출 상세'!C63","v":{"v":9460000,"d":"9,460,000"}},{"v":0.40221088435374147,"d":"40.2%"},{"$f":"IF($F$4=\"보정\", 보정치!E59)","v":false}]
["   5.15 통역자",{"v":4000000,"d":"4,000,000"},{"v":375000,"d":"375,000"},{"$f":"'6월 지출 상세'!D64+'7월 지출 상세'!C64","v":{"v":1650000,"d":"1,650,000"}},{"v":0.4125,"d":"41.3%"},{"$f":"IF($F$4=\"보정\", 보정치!E60)","v":false}]
["   5.16 방송담당",{"v":12000000,"d":"12,000,000"},{"v":750000,"d":"750,000"},{"$f":"'6월 지출 상세'!D65+'7월 지출 상세'!C65","v":{"v":4725000,"d":"4,725,000"}},{"v":0.39375,"d":"39.4%"},{"$f":"IF($F$4=\"보정\", 보정치!E61)","v":false}]
["   5.17 용원 사례비 ",{"$f":"SUM(B67:B68)","v":{"v":11000000,"d":"11,000,000"}},{"v":915000,"d":"915,000"},{"$f":"'6월 지출 상세'!D66+'7월 지출 상세'!C66","v":{"v":4209000,"d":"4,209,000"}},{"v":0.38263636363636366,"d":"38.3%"},{"$f":"IF($F$4=\"보정\", 보정치!E62)","v":false}]
["      5.17.1 관리실 여사",{"v":6000000,"d":"6,000,000"},{"v":510000,"d":"510,000"},{"$f":"'6월 지출 상세'!D67+'7월 지출 상세'!C67","v":{"v":2670000,"d":"2,670,000"}},{"v":0.445,"d":"44.5%"},{"$f":"IF($F$4=\"보정\", 보정치!E63)","v":false}]
["      5.17.2 관리실 반장",{"v":5000000,"d":"5,000,000"},{"v":405000,"d":"405,000"},{"$f":"'6월 지출 상세'!D68+'7월 지출 상세'!C68","v":{"v":1539000,"d":"1,539,000"}},{"v":0.3078,"d":"30.8%"},{"$f":"IF($F$4=\"보정\", 보정치!E64)","v":false}]
["   5.18 퇴직위로금",{"v":3000000,"d":"3,000,000"},0,{"$f":"'6월 지출 상세'!D69+'7월 지출 상세'!C69","v":0},{"v":0,"d":"0.0%"},{"$f":"IF($F$4=\"보정\", 보정치!E65)","v":false}]
["   5.19 기타(교역자휴가 및 기타인건비)",{"v":3000000,"d":"3,000,000"},0,{"$f":"'6월 지출 상세'!D70+'7월 지출 상세'!C70","v":0},{"v":0,"d":"0.0%"},{"$f":"IF($F$4=\"보정\", 보정치!E66)","v":false}]
["6. 행정운영비",{"$f":"SUM(B72:B74,B81,B82,B83,B84,B85)","v":{"v":90700000,"d":"90,700,000"}},{"$f":"SUM(C72:C74,C81:C83)","v":{"v":7094100,"d":"7,094,100"}},{"$f":"'6월 지출 상세'!D71+'7월 지출 상세'!C71","v":{"v":39999796,"d":"39,999,796"}},{"v":0.4410120837927233,"d":"44.1%"},{"$f":"SUM(F72:F74,F81,F82,F83,F84,F85)","v":0}]
["   6.1 회의 및 교회위원회",{"v":6000000,"d":"6,000,000"},{"v":254200,"d":"254,200"},{"$f":"'6월 지출 상세'!D72+'7월 지출 상세'!C72","v":{"v":2804600,"d":"2,804,600"}},{"v":0.4674333333333333,"d":"46.7%"},{"$f":"IF($F$4=\"보정\", 보정치!E70)","v":false}]
["   6.2 사무운영비",{"v":13000000,"d":"13,000,000"},{"v":637250,"d":"637,250"},{"$f":"'6월 지출 상세'!D73+'7월 지출 상세'!C73","v":{"v":4660056,"d":"4,660,056"}},{"$f":"D73/B73","v":{"v":0.35846584615384613,"d":"35.8%"}},{"$f":"IF($F$4=\"보정\", 보정치!E71)","v":false}]
["   6.3 부서운영비",{"$f":"SUM(B75:B80)","v":{"v":52000000,"d":"52,000,000"}},{"$f":"SUM(C75:C80)","v":{"v":5275000,"d":"5,275,000"}},{"$f":"'6월 지출 상세'!D74+'7월 지출 상세'!C74","v":{"v":23809940,"d":"23,809,940"}},{"v":0.45788346153846154,"d":"45.8%"},{"$f":"IF($F$4=\"보정\", 보정치!E72)","v":false}]
["      6.3.1 성가대",{"v":14300000,"d":"14,300,000"},{"v":1375000,"d":"1,375,000"},{"$f":"'6월 지출 상세'!D75+'7월 지출 상세'!C75","v":{"v":6763200,"d":"6,763,200"}},{"v":0.47295104895104895,"d":"47.3%"},{"$f":"IF($F$4=\"보정\", 보정치!E73)","v":false}]
["      6.3.2 유치부",{"v":4500000,"d":"4,500,000"},{"v":500000,"d":"500,000"},{"$f":"'6월 지출 상세'!D76+'7월 지출 상세'!C76","v":{"v":2100000,"d":"2,100,000"}},{"v":0.4666666666666667,"d":"46.7%"},{"$f":"IF($F$4=\"보정\", 보정치!E74)","v":false}]
["      6.3.3 초등부",{"v":7100000,"d":"7,100,000"},{"v":1100000,"d":"1,100,000"},{"$f":"'6월 지출 상세'!D77+'7월 지출 상세'!C77","v":{"v":3500000,"d":"3,500,000"}},{"v":0.49295774647887325,"d":"49.3%"},{"$f":"IF($F$4=\"보정\", 보정치!E75)","v":false}]
["      6.3.4 중고등부",{"v":5100000,"d":"5,100,000"},{"v":600000,"d":"600,000"},{"$f":"'6월 지출 상세'!D78+'7월 지출 상세'!C78","v":{"v":2600000,"d":"2,600,000"}},{"v":0.5098039215686274,"d":"51.0%"},{"$f":"IF($F$4=\"보정\", 보정치!E76)","v":false}]
["      6.3.5 대학부(신촌)",{"v":12000000,"d":"12,000,000"},{"v":1250000,"d":"1,250,000"},{"$f":"'6월 지출 상세'!D79+'7월 지출 상세'!C79","v":{"v":4796740,"d":"4,796,740"}},{"v":0.39972833333333335,"d":"40.0%"},{"$f":"IF($F$4=\"보정\", 보정치!E77)","v":false}]
["      6.3.6 대학부(국제)",{"v":9000000,"d":"9,000,000"},{"v":450000,"d":"450,000"},{"$f":"'6월 지출 상세'!D80+'7월 지출 상세'!C80","v":{"v":4050000,"d":"4,050,000"}},{"v":0.45,"d":"45.0%"},{"$f":"IF($F$4=\"보정\", 보정치!E78)","v":false}]
["   6.4 목회활동비",{"v":7200000,"d":"7,200,000"},{"v":655480,"d":"655,480"},{"$f":"'6월 지출 상세'!D81+'7월 지출 상세'!C81","v":{"v":4186140,"d":"4,186,140"}},{"v":0.5814083333333333,"d":"58.1%"},{"$f":"IF($F$4=\"보정\", 보정치!E79)","v":false}]
["   6.5 용품 및 수리비",{"v":5000000,"d":"5,000,000"},{"v":18980,"d":"18,980"},{"$f":"'6월 지출 상세'!D82+'7월 지출 상세'!C82","v":{"v":2854080,"d":"2,854,080"}},{"v":0.570816,"d":"57.1%"},{"$f":"IF($F$4=\"보정\", 보정치!E80)","v":false}]
["   6.6 연료비 및 통신비",{"v":4000000,"d":"4,000,000"},{"v":253190,"d":"253,190"},{"$f":"'6월 지출 상세'!D83+'7월 지출 상세'!C83","v":{"v":1114980,"d":"1,114,980"}},{"$f":"D83/B83","v":{"v":0.278745,"d":"27.9%"}},{"$f":"IF($F$4=\"보정\", 보정치!E81)","v":false}]
["   6.7 악기구입 및 보수",{"v":3500000,"d":"3,500,000"},0,{"$f":"'6월 지출 상세'!D84+'7월 지출 상세'!C84","v":{"v":570000,"d":"570,000"}},{"$f":"D84/B84","v":{"v":0.16285714285714287,"d":"16.3%"}},{"$f":"IF($F$4=\"보정\", 보정치!E82)","v":false}]
["   6.8 행정운영 예비비",0,0,{"$f":"'6월 지출 상세'!D85+'7월 지출 상세'!C85","v":0},null,{"$f":"IF($F$4=\"보정\", 보정치!E83)","v":false}]
["7. 장학금",{"$f":"SUM(B87:B91)","v":{"v":66720000,"d":"66,720,000"}},0,{"$f":"'6월 지출 상세'!D86+'7월 지출 상세'!C86","v":{"v":23080000,"d":"23,080,000"}},{"v":0.3459232613908873,"d":"34.6%"},{"$f":"SUM(F87:F91)","v":0}]
["   7.1 교회학교 교사",{"v":21000000,"d":"21,000,000"},0,{"$f":"'6월 지출 상세'!D87+'7월 지출 상세'!C87","v":{"v":2400000,"d":"2,400,000"}},{"v":0.11428571428571428,"d":"11.4%"},{"$f":"IF($F$4=\"보정\", 보정치!E83)","v":false}]
["   7.2 신촌 대학청년부",{"v":12000000,"d":"12,000,000"},0,{"$f":"'6월 지출 상세'!D88+'7월 지출 상세'!C88","v":{"v":5400000,"d":"5,400,000"}},{"v":0.45,"d":"45.0%"},{"$f":"IF($F$4=\"보정\", 보정치!E84)","v":false}]
["   7.3 국제 대학부",{"v":9000000,"d":"9,000,000"},0,{"$f":"'6월 지출 상세'!D89+'7월 지출 상세'!C89","v":{"v":3600000,"d":"3,600,000"}},{"v":0.4,"d":"40.0%"},{"$f":"IF($F$4=\"보정\", 보정치!E85)","v":false}]
["   7.4 학생 솔리스트",{"v":16320000,"d":"16,320,000"},0,{"$f":"'6월 지출 상세'!D90+'7월 지출 상세'!C90","v":{"v":7480000,"d":"7,480,000"}},{"v":0.4583333333333333,"d":"45.8%"},{"$f":"IF($F$4=\"보정\", 보정치!E86)","v":false}]
["   7.5 기숙사지원",{"v":8400000,"d":"8,400,000"},0,{"$f":"'6월 지출 상세'!D91+'7월 지출 상세'!C91","v":{"v":4200000,"d":"4,200,000"}},{"v":0.5,"d":"50.0%"},{"$f":"IF($F$4=\"보정\", 보정치!E87)","v":false}]
["8. 예비비",{"v":32750000,"d":"32,750,000"},0,{"$f":"'6월 지출 상세'!D92+'7월 지출 상세'!C92","v":{"v":7535670,"d":"7,535,670"}},{"v":0.23009679389312976,"d":"23.0%"},{"$f":"IF($F$4=\"보정\", 보정치!E90)","v":false}]
["9. 이웃사랑기금적립",0,0,{"$f":"'6월 지출 상세'!D93+'7월 지출 상세'!C93","v":{"v":5387090,"d":"5,387,090"}},{"v":0,"d":"0.0%"},{"$f":"IF($F$4=\"보정\", 보정치!E91)","v":false}]
["일반 지출 소계",{"$f":"SUM(B5,B13,B22,B38,B50,B71,B86,B92,B93)","v":{"v":580000000,"d":"580,000,000"}},{"$f":"SUM(C5,C13,C22,C38,C50,C71,C86,C92,C93)","v":{"v":31651600,"d":"31,651,600"}},{"$f":"SUM(D5,D13,D22,D38,D50,D71,D86,D92,D93)","v":{"v":228335186,"d":"228,335,186"}},{"v":0.3936813551724138,"d":"39.4%"},{"$f":"SUM(F86,F71,F50,F38,F22,F13,F5)","v":0}]
["차월이월",null,{"$f":"'7월 수입 상세'!C24-'7월 지출 상세'!C94","v":{"v":14757600,"d":"14,757,600"}},{"$f":"'7월 수입 상세'!D25+'7월 수입 상세'!D27+'7월 지출 상세'!C95","v":{"v":54757600,"d":"54,757,600"}}]
["지출부 총액",{"$f":"B94+B95","v":{"v":580000000,"d":"580,000,000"}},{"$f":"C94+C95","v":{"v":46409200,"d":"46,409,200"}},{"$f":"D94+D95","v":{"v":283092786,"d":"283,092,786"}},{"v":0.4880910103448276,"d":"48.8%"}]

{"sheet":"8월 약식","index":16,"n_rows":30,"n_cols":11,"rows_kept":30,"merged":[[0,0,0,10],[1,8,1,10],[2,0,2,4],[2,5,2,10],[3,5,3,6],[13,5,13,6],[14,5,14,6],[18,5,18,6],[19,0,19,6],[20,0,20,2],[20,5,20,8],[21,0,21,1],[22,0,22,1],[23,0,23,1],[24,0,24,1],[24,5,24,8],[25,0,25,1],[26,0,26,1]],"headers":{"header":["[첨부1]"],"footer":["","페이지"]}}
["2023년 8월 결산보고서(약식) "]
["회계년도: 2023년도",{"$nulls":7},"(2023-08-31 현재)"]
["수입의 부",{"$nulls":4},"지출의 부"]
["항 목","예산","당월 수입","수입 누계","집행률(%)","항 목",null,"예산","당월 지출","지출 누계","집행률(%)"]
["1. 주일헌금",{"$f":"'8월 수입 상세'!B5","v":{"v":160000000,"d":"160,000,000"}},{"$f":"'8월 수입 상세'!C5","v":{"v":10744000,"d":"10,744,000"}},{"$f":"VLOOKUP(A5, '8월 수입 상세'!$A$4:$F$29, 4, FALSE)","v":{"v":71983634,"d":"71,983,634"}},{"$f":"D5/B5","v":{"v":0.4498977125,"d":"45.0%"}},"1. 예배운영비",null,{"$f":"'8월 지출 상세'!B5","v":{"v":22700000,"d":"22,700,000"}},{"$f":"'8월 지출 상세'!C5","v":{"v":1707900,"d":"1,707,900"}},{"$f":"VLOOKUP(F5, '8월 지출 상세'!$A$4:$G$96, 4, FALSE)","v":{"v":8476050,"d":"8,476,050"}},{"$f":"J5/H5","v":{"v":0.3733942731277533,"d":"37.3%"}}]
["2. 십일조",{"$f":"'8월 수입 상세'!B6","v":{"v":105000000,"d":"105,000,000"}},{"$f":"'8월 수입 상세'!C6","v":{"v":6777000,"d":"6,777,000"}},{"$f":"VLOOKUP(A6, '8월 수입 상세'!$A$4:$F$29, 4, FALSE)","v":{"v":52876437,"d":"52,876,437"}},{"v":0.5035851142857143,"d":"50.4%"},"2. 교육운영비",null,{"$f":"'8월 지출 상세'!B13","v":{"v":30500000,"d":"30,500,000"}},{"$f":"'8월 지출 상세'!C13","v":{"v":10842975,"d":"10,842,975"}},{"$f":"VLOOKUP(F6, '8월 지출 상세'!$A$4:$G$96, 4, FALSE)","v":{"v":12715515,"d":"12,715,515"}},{"v":0.416902131147541,"d":"41.7%"}]
["3. 월정헌금",{"$f":"'8월 수입 상세'!B7","v":{"v":145000000,"d":"145,000,000"}},{"$f":"'8월 수입 상세'!C7","v":{"v":10820000,"d":"10,820,000"}},{"$f":"VLOOKUP(A7, '8월 수입 상세'!$A$4:$F$29, 4, FALSE)","v":{"v":73375000,"d":"73,375,000"}},{"v":0.5060344827586207,"d":"50.6%"},"3. 선교비",null,{"$f":"'8월 지출 상세'!B22","v":{"v":74760000,"d":"74,760,000"}},{"$f":"'8월 지출 상세'!C22","v":{"v":1400000,"d":"1,400,000"}},{"$f":"VLOOKUP(F7, '8월 지출 상세'!$A$4:$G$96, 4, FALSE)","v":{"v":38121970,"d":"38,121,970"}},{"v":0.5099246923488496,"d":"51.0%"}]
["4. 감사헌금",{"$f":"'8월 수입 상세'!B8","v":{"v":35000000,"d":"35,000,000"}},{"$f":"'8월 수입 상세'!C8","v":{"v":3114000,"d":"3,114,000"}},{"$f":"VLOOKUP(A8, '8월 수입 상세'!$A$4:$F$29, 4, FALSE)","v":{"v":18658000,"d":"18,658,000"}},{"v":0.5330857142857143,"d":"53.3%"},"4. 친교행사운영비",null,{"$f":"'8월 지출 상세'!B38","v":{"v":27600000,"d":"27,600,000"}},{"$f":"'8월 지출 상세'!C38","v":{"v":439570,"d":"439,570"}},{"$f":"VLOOKUP(F8, '8월 지출 상세'!$A$4:$G$96, 4, FALSE)","v":{"v":7965540,"d":"7,965,540"}},{"v":0.28860652173913043,"d":"28.9%"}]
["5. 교육부헌금",{"$f":"'8월 수입 상세'!B9","v":{"v":22000000,"d":"22,000,000"}},{"$f":"'8월 수입 상세'!C9","v":{"v":906000,"d":"906,000"}},{"$f":"VLOOKUP(A9, '8월 수입 상세'!$A$4:$F$29, 4, FALSE)","v":{"v":9454821,"d":"9,454,821"}},{"v":0.4297645909090909,"d":"43.0%"},"5. 사례비",null,{"$f":"'8월 지출 상세'!B50","v":{"v":234270000,"d":"234,270,000"}},{"$f":"'8월 지출 상세'!C50","v":{"v":20367000,"d":"20,367,000"}},{"$f":"VLOOKUP(F9, '8월 지출 상세'!$A$4:$G$96, 4, FALSE)","v":{"v":119811000,"d":"119,811,000"}},{"v":0.5114227173773851,"d":"51.1%"}]
["6. 절기헌금",{"$f":"'8월 수입 상세'!B15","v":{"v":35000000,"d":"35,000,000"}},{"$f":"'8월 수입 상세'!C15","v":0},{"$f":"VLOOKUP(A10, '8월 수입 상세'!$A$4:$F$29, 4, FALSE)","v":{"v":14256000,"d":"14,256,000"}},{"v":0.40731428571428574,"d":"40.7%"},"6. 행정운영비",null,{"$f":"'8월 지출 상세'!B71","v":{"v":90700000,"d":"90,700,000"}},{"$f":"'8월 지출 상세'!C71","v":{"v":7250290,"d":"7,250,290"}},{"$f":"VLOOKUP(F10, '8월 지출 상세'!$A$4:$G$96, 4, FALSE)","v":{"v":47250086,"d":"47,250,086"}},{"v":0.5209491289966924,"d":"52.1%"}]
["7. 선교헌금",{"$f":"'8월 수입 상세'!B19","v":{"v":5000000,"d":"5,000,000"}},{"$f":"'8월 수입 상세'!C19","v":{"v":762000,"d":"762,000"}},{"$f":"VLOOKUP(A11, '8월 수입 상세'!$A$4:$F$29, 4, FALSE)","v":{"v":2613000,"d":"2,613,000"}},{"v":0.5226,"d":"52.3%"},"7. 장학금",null,{"$f":"'8월 지출 상세'!B86","v":{"v":66720000,"d":"66,720,000"}},{"$f":"'8월 지출 상세'!C86","v":{"v":-840000,"d":"-840,000"}},{"$f":"VLOOKUP(F11, '8월 지출 상세'!$A$4:$G$96, 4, FALSE)","v":{"v":22240000,"d":"22,240,000"}},{"v":0.3333333333333333,"d":"33.3%"}]
["8. 지정헌금",{"$f":"'8월 수입 상세'!B22","v":{"v":20000000,"d":"20,000,000"}},{"$f":"'8월 수입 상세'!C22","v":{"v":340000,"d":"340,000"}},{"$f":"VLOOKUP(A12, '8월 수입 상세'!$A$4:$F$29, 4, FALSE)","v":{"v":7538000,"d":"7,538,000"}},{"v":0.3769,"d":"37.7%"},"8. 예비비",null,{"$f":"'8월 지출 상세'!B92","v":{"v":32750000,"d":"32,750,000"}},{"$f":"'8월 지출 상세'!C92","v":0},{"$f":"VLOOKUP(F12, '8월 지출 상세'!$A$4:$G$96, 4, FALSE)","v":{"v":7535670,"d":"7,535,670"}},{"v":0.23009679389312976,"d":"23.0%"}]
["9. 특별헌금(이웃사랑실천헌금 등)",{"$f":"'8월 수입 상세'!B23","v":{"v":13000000,"d":"13,000,000"}},{"$f":"'8월 수입 상세'!C23","v":{"v":1000000,"d":"1,000,000"}},{"$f":"VLOOKUP(A13, '8월 수입 상세'!$A$4:$F$29, 4, FALSE)","v":{"v":6237090,"d":"6,237,090"}},{"v":0.47977615384615385,"d":"48.0%"},"9. 이웃사랑기금적립",null,{"$f":"'8월 지출 상세'!B93","v":0},{"$f":"'8월 지출 상세'!C93","v":{"v":1000000,"d":"1,000,000"}},{"$f":"VLOOKUP(F13, '8월 지출 상세'!$A$4:$G$96, 4, FALSE)","v":{"v":6387090,"d":"6,387,090"}}]
["헌금 수입 소계",{"$f":"SUM(B5:B13)","v":{"v":540000000,"d":"540,000,000"}},{"$f":"SUM(C5:C13)","v":{"v":34463000,"d":"34,463,000"}},{"$f":"SUM(D5:D13)","v":{"v":256991982,"d":"256,991,982"}},{"v":0.4759110777777778,"d":"47.6%"},"  일반 지출 소계",null,{"$f":"SUM(H5:H13)","v":{"v":580000000,"d":"580,000,000"}},{"$f":"SUM(I5:I13)","v":{"v":42167735,"d":"42,167,735"}},{"$f":"SUM(J5:J13)","v":{"v":270502921,"d":"270,502,921"}},{"$f":"J14/H14","v":{"v":0.4663843465517241,"d":"46.6%"}}]
["전기이월금 전입",{"v":40000000,"d":"40,000,000"},0,{"$f":"'3월 약식'!D15+'8월 약식'!C15","v":{"v":40000000,"d":"40,000,000"}},{"v":1,"d":"100.0%"},"  차월이월",null,null,{"$f":"C14-I14","v":{"v":-7704735,"d":"-7,704,735"}},{"$f":"D19-J14","v":{"v":48365961,"d":"48,365,961"}}]
["전기이월금 추가전입",null,0,{"$f":"'3월 약식'!D16","v":{"v":21876900,"d":"21,876,900"}}]
["헌금외 기금",null,0,0]
["전월이월금",null,{"$f":"'7월 약식'!J15","v":{"v":56070696,"d":"56,070,696"}}]
["수입부 총액",{"$f":"SUM(B14:B18)","v":{"v":580000000,"d":"580,000,000 "}},{"$f":"SUM(C14:C18)","v":{"v":90533696,"d":"90,533,696 "}},{"$f":"SUM(D14:D18)","v":{"v":318868882,"d":"318,868,882 "}},{"$f":"D19/B19","v":{"v":0.5497739344827586,"d":"55.0%"}},"  지출부 총액",null,{"$f":"SUM(H14:H18)","v":{"v":580000000,"d":"580,000,000 "}},{"$f":"SUM(I14:I18)","v":{"v":34463000,"d":"34,463,000 "}},{"$f":"SUM(J14:J18)","v":{"v":318868882,"d":"318,868,882 "}},{"$f":"J19/H19","v":{"v":0.5497739344827586,"d":"55.0%"}}]
["*지정헌금 내역(헌화헌금_14만 원, 성가대 지정헌금_20만 원)  *지출부 7.장학금의 84만 원은 중도휴학으로 취소된 금액을 반영한 것임."]
["기금 및 이월금 현황 (2023.8.31 기준)",{"$nulls":4},"헌금 수입 및 지출 누계 비교"]
["기금명",null,"금액(이자포함)",{"$nulls":3},"2021년 8월","2022년 8월 ","2023년 8월"]
["박명윤이행자선교기금(FAA003023)",null,{"v":53656313,"d":"53,656,313"},null,null,"수입 누계",{"v":288711968,"d":"288,711,968"},{"v":256002814,"d":"256,002,814"},{"$f":"D14","v":{"v":256991982,"d":"256,991,982"}}]
["대학교회건축기금(FBA113041)",null,0,null,null,"지출 누계",{"v":225833843,"d":"225,833,843"},{"v":247565208,"d":"247,565,208"},{"$f":"J14","v":{"v":270502921,"d":"270,502,921"}}]
["국캠대학교회선교기금(FEA173001)",null,{"v":147405,"d":"147,405"}]
["이웃사랑기금(FEA183001)",null,{"v":90623173,"d":"90,623,173"}]
["유초등부발전기금(FAA213008)",null,{"v":18393529,"d":"18,393,529"}]
["기금 총액",null,{"$f":"SUM(C23:C27)","v":{"v":162820420,"d":"162,820,420 "}}]
[]
["*누적 이월금 (2023.3.1 기준 / 기금 및 전입금 제외)",null,{"v":453597137,"d":"453,597,137 "}]

{"sheet":"8월 수입 상세","index":17,"n_rows":29,"n_cols":6,"rows_kept":29,"merged":[[0,0,0,5]]}
["8월 수입 상세"]
["회계연도: 2023년도",{"$nulls":4},"(2023-08-31 현재)"]
[]
["분류항목","예산","당월","누계","집행률(%)","비고"]
["1. 주일헌금",{"v":160000000,"d":"160,000,000"},{"v":10744000,"d":"10,744,000"},{"$f":"SUM('7월 수입 상세'!D5+'8월 수입 상세'!C5)","v":{"v":71983634,"d":"71,983,634"}},{"$f":"D5/B5","v":{"v":0.4498977125,"d":"45.0%"}}]
["2. 십일조",{"v":105000000,"d":"105,000,000"},{"v":6777000,"d":"6,777,000"},{"$f":"SUM('7월 수입 상세'!D6+'8월 수입 상세'!C6)","v":{"v":52876437,"d":"52,876,437"}},{"$f":"D6/B6","v":{"v":0.5035851142857143,"d":"50.4%"}}]
["3. 월정헌금",{"v":145000000,"d":"145,000,000"},{"v":10820000,"d":"10,820,000"},{"$f":"SUM('7월 수입 상세'!D7+'8월 수입 상세'!C7)","v":{"v":73375000,"d":"73,375,000"}},{"v":0.5060344827586207,"d":"50.6%"}]
["4. 감사헌금",{"v":35000000,"d":"35,000,000"},{"v":3114000,"d":"3,114,000"},{"$f":"SUM('7월 수입 상세'!D8+'8월 수입 상세'!C8)","v":{"v":18658000,"d":"18,658,000"}},{"v":0.5330857142857143,"d":"53.3%"}]
["5. 교육부헌금",{"$f":"SUM(B10:B14)","v":{"v":22000000,"d":"22,000,000"}},{"$f":"SUM(C10:C14)","v":{"v":906000,"d":"906,000"}},{"$f":"SUM('7월 수입 상세'!D9+'8월 수입 상세'!C9)","v":{"v":9454821,"d":"9,454,821"}},{"v":0.4297645909090909,"d":"43.0%"}]
["   유치부",{"v":700000,"d":"700,000"},{"v":47000,"d":"47,000"},{"$f":"SUM('7월 수입 상세'!D10+'8월 수입 상세'!C10)","v":{"v":770049,"d":"770,049"}},{"v":1.10007,"d":"110.0%"}]
["   초등부",{"v":1000000,"d":"1,000,000"},{"v":92000,"d":"92,000"},{"$f":"SUM('7월 수입 상세'!D11+'8월 수입 상세'!C11)","v":{"v":703500,"d":"703,500"}},{"v":0.7035,"d":"70.4%"}]
["   중고등부",{"v":300000,"d":"300,000"},{"v":7000,"d":"7,000"},{"$f":"SUM('7월 수입 상세'!D12+'8월 수입 상세'!C12)","v":{"v":98722,"d":"98,722"}},{"v":0.32907333333333333,"d":"32.9%"}]
["   대학부(신촌)",{"v":7000000,"d":"7,000,000"},{"v":670000,"d":"670,000"},{"$f":"SUM('7월 수입 상세'!D13+'8월 수입 상세'!C13)","v":{"v":5143338,"d":"5,143,338"}},{"v":0.7347625714285714,"d":"73.5%"}]
["   대학부(국제)",{"v":13000000,"d":"13,000,000"},{"v":90000,"d":"90,000"},{"$f":"SUM('7월 수입 상세'!D14+'8월 수입 상세'!C14)","v":{"v":2739212,"d":"2,739,212"}},{"v":0.21070861538461538,"d":"21.1%"}]
["6. 절기헌금",{"$f":"SUM(B16:B18)","v":{"v":35000000,"d":"35,000,000"}},0,{"$f":"SUM('7월 수입 상세'!D15+'8월 수입 상세'!C15)","v":{"v":14256000,"d":"14,256,000"}},{"v":0.40731428571428574,"d":"40.7%"}]
["   부활절",{"v":10000000,"d":"10,000,000"},0,{"$f":"SUM('7월 수입 상세'!D16+'8월 수입 상세'!C16)","v":{"v":14256000,"d":"14,256,000"}},{"v":1.4256,"d":"142.6%"}]
["   추수감사절",{"v":10000000,"d":"10,000,000"},0,{"$f":"SUM('7월 수입 상세'!D17+'8월 수입 상세'!C17)","v":0},{"v":0,"d":"0.0%"}]
["   성탄절",{"v":15000000,"d":"15,000,000"},0,{"$f":"SUM('7월 수입 상세'!D18+'8월 수입 상세'!C18)","v":0},{"v":0,"d":"0.0%"}]
["7. 선교헌금",{"v":5000000,"d":"5,000,000"},{"$f":"SUM(C20:C21)","v":{"v":762000,"d":"762,000"}},{"$f":"SUM('7월 수입 상세'!D19+'8월 수입 상세'!C19)","v":{"v":2613000,"d":"2,613,000"}},{"v":0.5226,"d":"52.3%"}]
["   선교헌금",{"v":2500000,"d":"2,500,000"},{"v":762000,"d":"762,000"},{"$f":"SUM('7월 수입 상세'!D20+'8월 수입 상세'!C20)","v":{"v":2613000,"d":"2,613,000"}},{"v":1.0452,"d":"104.5%"}]
["   특별선교헌금",{"v":2500000,"d":"2,500,000"},0,{"$f":"SUM('7월 수입 상세'!D21+'8월 수입 상세'!C21)","v":0},{"v":0,"d":"0.0%"}]
["8. 지정헌금",{"v":20000000,"d":"20,000,000"},{"v":340000,"d":"340,000"},{"$f":"SUM('7월 수입 상세'!D22+'8월 수입 상세'!C22)","v":{"v":7538000,"d":"7,538,000"}},{"v":0.3769,"d":"37.7%"},"헌화헌금 28만 원"]
["9. 특별헌금(이웃사랑실천헌금 등)",{"v":13000000,"d":"13,000,000"},{"v":1000000,"d":"1,000,000"},{"$f":"SUM('7월 수입 상세'!D23+'8월 수입 상세'!C23)","v":{"v":6237090,"d":"6,237,090"}},{"v":0.47977615384615385,"d":"48.0%"}]
["헌금 수입 소계",{"$f":"SUM(B5,B6,B7,B8,B9,B15,B19,B22,B23)","v":{"v":540000000,"d":"540,000,000"}},{"$f":"SUM(C5,C6,C7,C8,C9,C15,C19,C22,C23)","v":{"v":34463000,"d":"34,463,000"}},{"$f":"SUM(D5,D6,D7,D8,D9,D15,D19,D22,D23)","v":{"v":256991982,"d":"256,991,982"}},{"v":0.4759110777777778,"d":"47.6%"}]
["전기이월금 전입",{"v":40000000,"d":"40,000,000"},0,{"v":40000000,"d":"40,000,000"},{"v":1,"d":"100.0%"}]
["전기이월금 추가전입",null,0,{"$f":"'8월 약식'!D16","v":{"v":21876900,"d":"21,876,900"}}]
["헌금외 기금",null,0,{"$f":"C27","v":0}]
["전월이월금",null,{"$f":"'8월 약식'!C18","v":{"v":56070696,"d":"56,070,696"}}]
["수입부 총액",{"$f":"B24+B25","v":{"v":580000000,"d":"580,000,000"}},{"$f":"SUM(C24:C28)","v":{"v":90533696,"d":"90,533,696"}},{"$f":"SUM(D24:D28)","v":{"v":318868882,"d":"318,868,882"}},{"v":0.5497739344827586,"d":"55.0%"}]

{"sheet":"8월 지출 상세","index":18,"n_rows":96,"n_cols":7,"rows_kept":96,"merged":[[0,0,0,6],[1,3,1,4]]}
["8월 지출 상세"]
["회계연도: 2023년도"]
[{"$nulls":6},"(2023-08-31 현재)"]
["분류항목","예산","당월","누계","집행률(%)",null,"비고"]
["1. 예배운영비",{"$f":"SUM(B6:B9)","v":{"v":22700000,"d":"22,700,000"}},{"v":1707900,"d":"1,707,900"},{"$f":"'7월 지출 상세'!D5+'8월 지출 상세'!C5","v":{"v":8476050,"d":"8,476,050"}},{"$f":"D5/B5","v":{"v":0.3733942731277533,"d":"37.3%"}},{"$f":"SUM(F6:F9)","v":0}]
["   1.1 성례예식비",{"v":1200000,"d":"1,200,000"},0,{"$f":"'7월 지출 상세'!D6+'8월 지출 상세'!C6","v":{"v":497100,"d":"497,100"}},{"$f":"D6/B6","v":{"v":0.41425,"d":"41.4%"}},{"$f":"IF($F$4=\"보정\", 보정치!E4)","v":false}]
["   1.2 주보인쇄비",{"v":4000000,"d":"4,000,000"},0,{"$f":"'7월 지출 상세'!D7+'8월 지출 상세'!C7","v":{"v":1095000,"d":"1,095,000"}},{"v":0.27375,"d":"27.4%"},{"$f":"IF($F$4=\"보정\", 보정치!E5)","v":false}]
["   1.3 강사접대비",{"v":2500000,"d":"2,500,000"},{"v":165000,"d":"165,000"},{"$f":"'7월 지출 상세'!D8+'8월 지출 상세'!C8","v":{"v":1039500,"d":"1,039,500"}},{"v":0.4158,"d":"41.6%"},{"$f":"IF($F$4=\"보정\", 보정치!E6)","v":false}]
["   1.4 예배준비비",{"$f":"SUM(B10:B12)","v":{"v":15000000,"d":"15,000,000"}},{"v":1542900,"d":"1,542,900"},{"$f":"'7월 지출 상세'!D9+'8월 지출 상세'!C9","v":{"v":5844450,"d":"5,844,450"}},{"v":0.38963,"d":"39.0%"},{"$f":"IF($F$4=\"보정\", 보정치!E7)","v":false}]
["      1.4.1 성전 꽃꽂이",{"v":10000000,"d":"10,000,000"},{"v":1350000,"d":"1,350,000"},{"$f":"'7월 지출 상세'!D10+'8월 지출 상세'!C10","v":{"v":4150000,"d":"4,150,000"}},{"v":0.415,"d":"41.5%"},{"$f":"IF($F$4=\"보정\", 보정치!E8)","v":false}]
["      1.4.2 봉사자 식사",{"v":4000000,"d":"4,000,000"},{"v":192900,"d":"192,900"},{"$f":"'7월 지출 상세'!D11+'8월 지출 상세'!C11","v":{"v":1584650,"d":"1,584,650"}},{"v":0.3961625,"d":"39.6%"},{"$f":"IF($F$4=\"보정\", 보정치!E9)","v":false}]
["      1.4.3 절기행사비",{"v":1000000,"d":"1,000,000"},0,{"$f":"'7월 지출 상세'!D12+'8월 지출 상세'!C12","v":{"v":109800,"d":"109,800"}},{"v":0.1098,"d":"11.0%"},{"$f":"IF($F$4=\"보정\", 보정치!E10)","v":false}]
["2. 교육운영비",{"$f":"SUM(B14:B21)","v":{"v":30500000,"d":"30,500,000"}},{"v":10842975,"d":"10,842,975"},{"$f":"'7월 지출 상세'!D13+'8월 지출 상세'!C13","v":{"v":12715515,"d":"12,715,515"}},{"v":0.416902131147541,"d":"41.7%"},{"$f":"IF($F$4=\"보정\", 보정치!E11)","v":false}]
["   2.1 주일성서연구운영비",{"v":1000000,"d":"1,000,000"},0,{"$f":"'7월 지출 상세'!D14+'8월 지출 상세'!C14","v":0},{"v":0,"d":"0.0%"},{"$f":"IF($F$4=\"보정\", 보정치!E12)","v":false}]
["   2.2 도서 및 교재",{"v":2000000,"d":"2,000,000"},0,{"$f":"'7월 지출 상세'!D15+'8월 지출 상세'!C15","v":{"v":630900,"d":"630,900"}},{"v":0.31545,"d":"31.5%"},{"$f":"IF($F$4=\"보정\", 보정치!E13)","v":false}]
["   2.3 전교인수양회 행사비",{"v":14000000,"d":"14,000,000"},{"v":8252700,"d":"8,252,700"},{"$f":"'7월 지출 상세'!D16+'8월 지출 상세'!C16","v":{"v":8357300,"d":"8,357,300"}},{"v":0.59695,"d":"59.7%"},{"$f":"IF($F$4=\"보정\", 보정치!E14)","v":false}]
["   2.4 교목연수비",0,0,{"$f":"'7월 지출 상세'!D17+'8월 지출 상세'!C17","v":0},null,{"$f":"IF($F$4=\"보정\", 보정치!E15)","v":false}]
["   2.5 교역자 교육훈련비",{"v":3000000,"d":"3,000,000"},0,{"$f":"'7월 지출 상세'!D18+'8월 지출 상세'!C18","v":{"v":531040,"d":"531,040"}},{"v":0.17701333333333333,"d":"17.7%"},{"$f":"IF($F$4=\"보정\", 보정치!E16)","v":false}]
["   2.6 교사세미나/교역자workshop",{"v":3000000,"d":"3,000,000"},{"v":1538275,"d":"1,538,275"},{"$f":"'7월 지출 상세'!D19+'8월 지출 상세'!C19","v":{"v":2144275,"d":"2,144,275"}},{"v":0.7147583333333334,"d":"71.5%"},{"$f":"IF($F$4=\"보정\", 보정치!E17)","v":false}]
["   2.7 교육부 운영비",{"v":7500000,"d":"7,500,000"},{"v":1052000,"d":"1,052,000"},{"$f":"'7월 지출 상세'!D20+'8월 지출 상세'!C20","v":{"v":1052000,"d":"1,052,000"}},{"v":0.14026666666666668,"d":"14.0%"},{"$f":"IF($F$4=\"보정\", 보정치!E18)","v":false}]
["   2.8 교육운영 예비비",0,0,{"$f":"'7월 지출 상세'!D21+'8월 지출 상세'!C21","v":0},null,{"$f":"IF($F$4=\"보정\", 보정치!E19)","v":false}]
["3. 선교비",{"$f":"SUM(B23,B34,B35,B36,B37)","v":{"v":74760000,"d":"74,760,000"}},{"v":1400000,"d":"1,400,000"},{"$f":"'7월 지출 상세'!D22+'8월 지출 상세'!C22","v":{"v":38121970,"d":"38,121,970"}},{"v":0.5099246923488496,"d":"51.0%"},{"$f":"SUM(F23,F32,F33,F34,F35)","v":0}]
["   3.1 학원선교",{"$f":"SUM(B24:B33)","v":{"v":50960000,"d":"50,960,000"}},{"v":1000000,"d":"1,000,000"},{"$f":"'7월 지출 상세'!D23+'8월 지출 상세'!C23","v":{"v":12464970,"d":"12,464,970"}},{"v":0.24460302197802197,"d":"24.5%"},{"$f":"SUM(F24:F31)","v":0}]
["      3.1.1 간식나눔행사(신촌)",{"v":2000000,"d":"2,000,000"},0,{"$f":"'7월 지출 상세'!D24+'8월 지출 상세'!C24","v":{"v":1464970,"d":"1,464,970"}},{"v":0.732485,"d":"73.2%"},{"$f":"IF($F$4=\"보정\", 보정치!E22)","v":false}]
["      3.1.2 간식나눔행사(국제)",{"v":1000000,"d":"1,000,000"},0,{"$f":"'7월 지출 상세'!D25+'8월 지출 상세'!C25","v":0},{"v":0,"d":"0.0%"},{"$f":"IF($F$4=\"보정\", 보정치!E23)","v":false}]
["      3.1.3 교목실 점심나눔 후원",{"v":27000000,"d":"27,000,000"},0,{"$f":"'7월 지출 상세'!D26+'8월 지출 상세'!C26","v":0},{"v":0,"d":"0.0%"},{"$f":"IF($F$4=\"보정\", 보정치!E24)","v":false}]
["      3.1.4 연세기독학생연합회 지원",{"v":3600000,"d":"3,600,000"},{"v":300000,"d":"300,000"},{"$f":"'7월 지출 상세'!D27+'8월 지출 상세'!C27","v":{"v":1800000,"d":"1,800,000"}},{"v":0.5,"d":"50.0%"},{"$f":"IF($F$4=\"보정\", 보정치!E25)","v":false}]
["      3.1.5 연세기독학생회찬양팀 후원",{"v":2400000,"d":"2,400,000"},{"v":200000,"d":"200,000"},{"$f":"'7월 지출 상세'!D28+'8월 지출 상세'!C28","v":{"v":1200000,"d":"1,200,000"}},{"v":0.5,"d":"50.0%"},{"$f":"IF($F$4=\"보정\", 보정치!E26)","v":false}]
["      3.1.6 YMK 후원",{"v":3600000,"d":"3,600,000"},{"v":300000,"d":"300,000"},{"$f":"'7월 지출 상세'!D29+'8월 지출 상세'!C29","v":{"v":1800000,"d":"1,800,000"}},{"v":0.5,"d":"50.0%"},{"$f":"IF($F$4=\"보정\", 보정치!E27)","v":false}]
["      3.1.7 통일한마당",{"v":2400000,"d":"2,400,000"},{"v":200000,"d":"200,000"},{"$f":"'7월 지출 상세'!D30+'8월 지출 상세'!C30","v":{"v":1200000,"d":"1,200,000"}},{"v":0.5,"d":"50.0%"},{"$f":"IF($F$4=\"보정\", 보정치!E28)","v":false}]
["      3.1.8 리틀언더우드 후원",{"v":5000000,"d":"5,000,000"},0,{"$f":"'7월 지출 상세'!D31+'8월 지출 상세'!C31","v":{"v":5000000,"d":"5,000,000"}},{"v":1,"d":"100.0%"},0]
["      3.1.9 멘토멘티프로그램",{"v":3960000,"d":"3,960,000"},0,{"$f":"'7월 지출 상세'!D32+'8월 지출 상세'!C32","v":0},{"v":0,"d":"0.0%"},0]
["      3.1.10 학원선교 기타",0,0,{"$f":"'7월 지출 상세'!D33+'8월 지출 상세'!C33","v":0},null,{"$f":"IF($F$4=\"보정\", 보정치!E31)","v":false}]
["   3.2 국외선교",{"v":4800000,"d":"4,800,000"},{"v":400000,"d":"400,000"},{"$f":"'7월 지출 상세'!D34+'8월 지출 상세'!C34","v":{"v":2400000,"d":"2,400,000"}},{"v":0.5,"d":"50.0%"},{"$f":"IF($F$4=\"보정\", 보정치!E32)","v":false},"함정희, 노규래 "]
["   3.3 이웃사랑 실천헌금",{"v":9000000,"d":"9,000,000"},0,{"$f":"'7월 지출 상세'!D35+'8월 지출 상세'!C35","v":0},{"v":0,"d":"0.0%"},{"$f":"IF($F$4=\"보정\", 보정치!E33)","v":false}]
["   3.4 지정헌금",{"v":10000000,"d":"10,000,000"},0,{"$f":"'7월 지출 상세'!D36+'8월 지출 상세'!C36","v":{"v":23257000,"d":"23,257,000"}},{"v":2.3257,"d":"232.6%"},{"$f":"IF($F$4=\"보정\", 보정치!E34)","v":false}]
["   3.5 선교예비금",0,0,{"$f":"'7월 지출 상세'!D37+'8월 지출 상세'!C37","v":0},null,{"$f":"IF($F$4=\"보정\", 보정치!E35)","v":false}]
["4. 친교행사운영비",{"$f":"SUM(B39:B49)-B47","v":{"v":27600000,"d":"27,600,000"}},{"v":439570,"d":"439,570"},{"$f":"'7월 지출 상세'!D38+'8월 지출 상세'!C38","v":{"v":7965540,"d":"7,965,540"}},{"v":0.28860652173913043,"d":"28.9%"},{"$f":"SUM(F39:F49)-F47","v":0}]
["   4.1 주일공동식사",{"v":7000000,"d":"7,000,000"},0,{"$f":"'7월 지출 상세'!D39+'8월 지출 상세'!C39","v":{"v":2228200,"d":"2,228,200"}},{"v":0.3183142857142857,"d":"31.8%"},{"$f":"IF($F$4=\"보정\", 보정치!E37)","v":false}]
["   4.2 야외예배 행사비",0,0,{"$f":"'7월 지출 상세'!D40+'8월 지출 상세'!C40","v":0},null,{"$f":"IF($F$4=\"보정\", 보정치!E38)","v":false}]
["   4.3 경로행사비",{"v":1500000,"d":"1,500,000"},0,{"$f":"'7월 지출 상세'!D41+'8월 지출 상세'!C41","v":{"v":1500000,"d":"1,500,000"}},{"v":1,"d":"100.0%"},{"$f":"IF($F$4=\"보정\", 보정치!E39)","v":false}]
["   4.4 성탄행사비",{"v":2100000,"d":"2,100,000"},0,{"$f":"'7월 지출 상세'!D42+'8월 지출 상세'!C42","v":0},{"v":0,"d":"0.0%"},{"$f":"IF($F$4=\"보정\", 보정치!E40)","v":false}]
["   4.5 주일다과비",{"v":5000000,"d":"5,000,000"},{"v":107570,"d":"107,570"},{"$f":"'7월 지출 상세'!D43+'8월 지출 상세'!C43","v":{"v":558900,"d":"558,900"}},{"v":0.11178,"d":"11.2%"},{"$f":"IF($F$4=\"보정\", 보정치!E41)","v":false}]
["   4.6 경조비",{"v":4000000,"d":"4,000,000"},{"v":200000,"d":"200,000"},{"$f":"'7월 지출 상세'!D44+'8월 지출 상세'!C44","v":{"v":1797000,"d":"1,797,000"}},{"v":0.44925,"d":"44.9%"},{"$f":"IF($F$4=\"보정\", 보정치!E42)","v":false}]
["   4.7 교우친교비",{"v":2000000,"d":"2,000,000"},{"v":132000,"d":"132,000"},{"$f":"'7월 지출 상세'!D45+'8월 지출 상세'!C45","v":{"v":881440,"d":"881,440"}},{"v":0.44072,"d":"44.1%"},{"$f":"IF($F$4=\"보정\", 보정치!E43)","v":false}]
["   4.8 홍보출판비",{"v":4000000,"d":"4,000,000"},0,{"$f":"'7월 지출 상세'!D46+'8월 지출 상세'!C46","v":{"v":1000000,"d":"1,000,000"}},{"v":0.25,"d":"25.0%"},{"$f":"IF($F$4=\"보정\", 보정치!E44)","v":false}]
["      4.8.1 대학교회 회지",{"v":4000000,"d":"4,000,000"},0,{"$f":"'7월 지출 상세'!D47+'8월 지출 상세'!C47","v":{"v":1000000,"d":"1,000,000"}},{"v":0.25,"d":"25.0%"},{"$f":"IF($F$4=\"보정\", 보정치!E45)","v":false}]
["   4.9 교회봉사자 선물",{"v":2000000,"d":"2,000,000"},0,{"$f":"'7월 지출 상세'!D48+'8월 지출 상세'!C48","v":0},{"v":0,"d":"0.0%"},{"$f":"IF($F$4=\"보정\", 보정치!E46)","v":false}]
["   4.10 친교행사 예비비",0,0,{"$f":"'7월 지출 상세'!D49+'8월 지출 상세'!C49","v":0},null,{"$f":"IF($F$4=\"보정\", 보정치!E47)","v":false}]
["5. 사례비",{"$f":"SUM(B51:B66,B69,B70)","v":{"v":234270000,"d":"234,270,000"}},{"v":20367000,"d":"20,367,000"},{"$f":"'7월 지출 상세'!D50+'8월 지출 상세'!C50","v":{"v":119811000,"d":"119,811,000"}},{"v":0.5114227173773851,"d":"51.1%"},{"$f":"SUM(F51:F70)","v":0}]
["   5.1 외부강사 설교 사례",{"v":12000000,"d":"12,000,000"},{"v":300000,"d":"300,000"},{"$f":"'7월 지출 상세'!D51+'8월 지출 상세'!C51","v":{"v":5800000,"d":"5,800,000"}},{"v":0.48333333333333334,"d":"48.3%"},{"$f":"IF($F$4=\"보정\", 보정치!E47)","v":false}]
["   5.2 외부강사 설교 사례(대학부-국제)",{"v":2400000,"d":"2,400,000"},0,{"$f":"'7월 지출 상세'!D52+'8월 지출 상세'!C52","v":0},{"v":0,"d":"0.0%"},{"$f":"IF($F$4=\"보정\", 보정치!E48)","v":false}]
["   5.3 절기 예배 연주자",{"v":800000,"d":"800,000"},0,{"$f":"'7월 지출 상세'!D53+'8월 지출 상세'!C53","v":0},{"v":0,"d":"0.0%"},{"$f":"IF($F$4=\"보정\", 보정치!E49)","v":false}]
["   5.4 국악 예배 연주자",{"v":1800000,"d":"1,800,000"},0,{"$f":"'7월 지출 상세'!D54+'8월 지출 상세'!C54","v":0},{"v":0,"d":"0.0%"},{"$f":"IF($F$4=\"보정\", 보정치!E50)","v":false}]
["   5.5 봉헌송 사례",{"v":450000,"d":"450,000"},0,{"$f":"'7월 지출 상세'!D55+'8월 지출 상세'!C55","v":0},{"v":0,"d":"0.0%"},{"$f":"IF($F$4=\"보정\", 보정치!E51)","v":false}]
["   5.6 주일성서연구 강사사례",{"v":4000000,"d":"4,000,000"},0,{"$f":"'7월 지출 상세'!D56+'8월 지출 상세'!C56","v":{"v":2000000,"d":"2,000,000"}},{"v":0.5,"d":"50.0%"},{"$f":"IF($F$4=\"보정\", 보정치!E52)","v":false}]
["   5.8 담임목사 ",{"v":14400000,"d":"14,400,000"},{"v":1200000,"d":"1,200,000"},{"$f":"'7월 지출 상세'!D57+'8월 지출 상세'!C57","v":{"v":7200000,"d":"7,200,000"}},{"v":0.5,"d":"50.0%"},{"$f":"IF($F$4=\"보정\", 보정치!E53)","v":false}]
["   5.9 동역목사",{"v":12000000,"d":"12,000,000"},0,{"$f":"'7월 지출 상세'!D58+'8월 지출 상세'!C58","v":{"v":2400000,"d":"2,400,000"}},{"v":0.2,"d":"20.0%"},{"$f":"IF($F$4=\"보정\", 보정치!E54)","v":false}]
["   5.10 전임교역자",{"v":67500000,"d":"67,500,000"},{"v":7500000,"d":"7,500,000"},{"$f":"'7월 지출 상세'!D59+'8월 지출 상세'!C59","v":{"v":47400000,"d":"47,400,000"}},{"v":0.7022222222222222,"d":"70.2%"},{"$f":"IF($F$4=\"보정\", 보정치!E55)","v":false}]
["   5.11 성가대지휘자",{"v":12000000,"d":"12,000,000"},{"v":1000000,"d":"1,000,000"},{"$f":"'7월 지출 상세'!D60+'8월 지출 상세'!C60","v":{"v":6000000,"d":"6,000,000"}},{"v":0.5,"d":"50.0%"},{"$f":"IF($F$4=\"보정\", 보정치!E56)","v":false}]
["   5.12 오르가니스트",{"v":12000000,"d":"12,000,000"},{"v":1000000,"d":"1,000,000"},{"$f":"'7월 지출 상세'!D61+'8월 지출 상세'!C61","v":{"v":6000000,"d":"6,000,000"}},{"v":0.5,"d":"50.0%"},{"$f":"IF($F$4=\"보정\", 보정치!E57)","v":false}]
["   5.13 교육부서 담당교역자",{"v":38400000,"d":"38,400,000"},{"v":3200000,"d":"3,200,000"},{"$f":"'7월 지출 상세'!D62+'8월 지출 상세'!C62","v":{"v":16800000,"d":"16,800,000"}},{"v":0.4375,"d":"43.8%"},{"$f":"IF($F$4=\"보정\", 보정치!E58)","v":false}]
["   5.14 성인 솔리스트",{"v":23520000,"d":"23,520,000"},{"v":1960000,"d":"1,960,000"},{"$f":"'7월 지출 상세'!D63+'8월 지출 상세'!C63","v":{"v":11420000,"d":"11,420,000"}},{"v":0.48554421768707484,"d":"48.6%"},{"$f":"IF($F$4=\"보정\", 보정치!E59)","v":false}]
["   5.15 통역자",{"v":4000000,"d":"4,000,000"},{"v":300000,"d":"300,000"},{"$f":"'7월 지출 상세'!D64+'8월 지출 상세'!C64","v":{"v":1950000,"d":"1,950,000"}},{"v":0.4875,"d":"48.8%"},{"$f":"IF($F$4=\"보정\", 보정치!E60)","v":false}]
["   5.16 방송담당",{"v":12000000,"d":"12,000,000"},{"v":975000,"d":"975,000"},{"$f":"'7월 지출 상세'!D65+'8월 지출 상세'!C65","v":{"v":5700000,"d":"5,700,000"}},{"v":0.475,"d":"47.5%"},{"$f":"IF($F$4=\"보정\", 보정치!E61)","v":false}]
["   5.17 용원 사례비 ",{"$f":"SUM(B67:B68)","v":{"v":11000000,"d":"11,000,000"}},{"v":732000,"d":"732,000"},{"$f":"'7월 지출 상세'!D66+'8월 지출 상세'!C66","v":{"v":4941000,"d":"4,941,000"}},{"v":0.4491818181818182,"d":"44.9%"},{"$f":"IF($F$4=\"보정\", 보정치!E62)","v":false}]
["      5.17.1 관리실 여사",{"v":6000000,"d":"6,000,000"},{"v":408000,"d":"408,000"},{"$f":"'7월 지출 상세'!D67+'8월 지출 상세'!C67","v":{"v":3078000,"d":"3,078,000"}},{"v":0.513,"d":"51.3%"},{"$f":"IF($F$4=\"보정\", 보정치!E63)","v":false}]
["      5.17.2 관리실 반장",{"v":5000000,"d":"5,000,000"},{"v":324000,"d":"324,000"},{"$f":"'7월 지출 상세'!D68+'8월 지출 상세'!C68","v":{"v":1863000,"d":"1,863,000"}},{"v":0.3726,"d":"37.3%"},{"$f":"IF($F$4=\"보정\", 보정치!E64)","v":false}]
["   5.18 퇴직위로금",{"v":3000000,"d":"3,000,000"},0,{"$f":"'7월 지출 상세'!D69+'8월 지출 상세'!C69","v":0},{"v":0,"d":"0.0%"},{"$f":"IF($F$4=\"보정\", 보정치!E65)","v":false}]
["   5.19 기타(교역자휴가 및 기타인건비)",{"v":3000000,"d":"3,000,000"},{"v":2200000,"d":"2,200,000"},{"$f":"'7월 지출 상세'!D70+'8월 지출 상세'!C70","v":{"v":2200000,"d":"2,200,000"}},{"v":0.7333333333333333,"d":"73.3%"},{"$f":"IF($F$4=\"보정\", 보정치!E66)","v":false}]
["6. 행정운영비",{"$f":"SUM(B72:B74,B81,B82,B83,B84,B85)","v":{"v":90700000,"d":"90,700,000"}},{"v":7250290,"d":"7,250,290"},{"$f":"'7월 지출 상세'!D71+'8월 지출 상세'!C71","v":{"v":47250086,"d":"47,250,086"}},{"v":0.5209491289966924,"d":"52.1%"},{"$f":"SUM(F72:F74,F81,F82,F83,F84,F85)","v":0}]
["   6.1 회의 및 교회위원회",{"v":6000000,"d":"6,000,000"},{"v":540700,"d":"540,700"},{"$f":"'7월 지출 상세'!D72+'8월 지출 상세'!C72","v":{"v":3345300,"d":"3,345,300"}},{"v":0.55755,"d":"55.8%"},{"$f":"IF($F$4=\"보정\", 보정치!E70)","v":false}]
["   6.2 사무운영비",{"v":13000000,"d":"13,000,000"},{"v":382000,"d":"382,000"},{"$f":"'7월 지출 상세'!D73+'8월 지출 상세'!C73","v":{"v":5042056,"d":"5,042,056"}},{"$f":"D73/B73","v":{"v":0.38785046153846153,"d":"38.8%"}},{"$f":"IF($F$4=\"보정\", 보정치!E71)","v":false}]
["   6.3 부서운영비",{"$f":"SUM(B75:B80)","v":{"v":52000000,"d":"52,000,000"}},{"v":3839400,"d":"3,839,400"},{"$f":"'7월 지출 상세'!D74+'8월 지출 상세'!C74","v":{"v":27649340,"d":"27,649,340"}},{"v":0.5317180769230769,"d":"53.2%"},{"$f":"IF($F$4=\"보정\", 보정치!E72)","v":false}]
["      6.3.1 성가대",{"v":14300000,"d":"14,300,000"},{"v":1100000,"d":"1,100,000"},{"$f":"'7월 지출 상세'!D75+'8월 지출 상세'!C75","v":{"v":7863200,"d":"7,863,200"}},{"v":0.5498741258741259,"d":"55.0%"},{"$f":"IF($F$4=\"보정\", 보정치!E73)","v":false}]
["      6.3.2 유치부",{"v":4500000,"d":"4,500,000"},{"v":400000,"d":"400,000"},{"$f":"'7월 지출 상세'!D76+'8월 지출 상세'!C76","v":{"v":2500000,"d":"2,500,000"}},{"v":0.5555555555555556,"d":"55.6%"},{"$f":"IF($F$4=\"보정\", 보정치!E74)","v":false}]
["      6.3.3 초등부",{"v":7100000,"d":"7,100,000"},{"v":600000,"d":"600,000"},{"$f":"'7월 지출 상세'!D77+'8월 지출 상세'!C77","v":{"v":4100000,"d":"4,100,000"}},{"v":0.5774647887323944,"d":"57.7%"},{"$f":"IF($F$4=\"보정\", 보정치!E75)","v":false}]
["      6.3.4 중고등부",{"v":5100000,"d":"5,100,000"},{"v":500000,"d":"500,000"},{"$f":"'7월 지출 상세'!D78+'8월 지출 상세'!C78","v":{"v":3100000,"d":"3,100,000"}},{"v":0.6078431372549019,"d":"60.8%"},{"$f":"IF($F$4=\"보정\", 보정치!E76)","v":false}]
["      6.3.5 대학부(신촌)",{"v":12000000,"d":"12,000,000"},{"v":789400,"d":"789,400"},{"$f":"'7월 지출 상세'!D79+'8월 지출 상세'!C79","v":{"v":5586140,"d":"5,586,140"}},{"v":0.46551166666666666,"d":"46.6%"},{"$f":"IF($F$4=\"보정\", 보정치!E77)","v":false}]
["      6.3.6 대학부(국제)",{"v":9000000,"d":"9,000,000"},{"v":450000,"d":"450,000"},{"$f":"'7월 지출 상세'!D80+'8월 지출 상세'!C80","v":{"v":4500000,"d":"4,500,000"}},{"v":0.5,"d":"50.0%"},{"$f":"IF($F$4=\"보정\", 보정치!E78)","v":false}]
["   6.4 목회활동비",{"v":7200000,"d":"7,200,000"},{"v":636900,"d":"636,900"},{"$f":"'7월 지출 상세'!D81+'8월 지출 상세'!C81","v":{"v":4823040,"d":"4,823,040"}},{"v":0.6698666666666667,"d":"67.0%"},{"$f":"IF($F$4=\"보정\", 보정치!E79)","v":false}]
["   6.5 용품 및 수리비",{"v":5000000,"d":"5,000,000"},{"v":1650000,"d":"1,650,000"},{"$f":"'7월 지출 상세'!D82+'8월 지출 상세'!C82","v":{"v":4504080,"d":"4,504,080"}},{"v":0.900816,"d":"90.1%"},{"$f":"IF($F$4=\"보정\", 보정치!E80)","v":false}]
["   6.6 연료비 및 통신비",{"v":4000000,"d":"4,000,000"},{"v":201290,"d":"201,290"},{"$f":"'7월 지출 상세'!D83+'8월 지출 상세'!C83","v":{"v":1316270,"d":"1,316,270"}},{"$f":"D83/B83","v":{"v":0.3290675,"d":"32.9%"}},{"$f":"IF($F$4=\"보정\", 보정치!E81)","v":false}]
["   6.7 악기구입 및 보수",{"v":3500000,"d":"3,500,000"},null,{"$f":"'7월 지출 상세'!D84+'8월 지출 상세'!C84","v":{"v":570000,"d":"570,000"}},{"$f":"D84/B84","v":{"v":0.16285714285714287,"d":"16.3%"}},{"$f":"IF($F$4=\"보정\", 보정치!E82)","v":false}]
["   6.8 행정운영 예비비",0,0,{"$f":"'7월 지출 상세'!D85+'8월 지출 상세'!C85","v":0},null,{"$f":"IF($F$4=\"보정\", 보정치!E83)","v":false}]
["7. 장학금",{"$f":"SUM(B87:B91)","v":{"v":66720000,"d":"66,720,000"}},{"v":-840000,"d":"-840,000"},{"$f":"'7월 지출 상세'!D86+'8월 지출 상세'!C86","v":{"v":22240000,"d":"22,240,000"}},{"v":0.3333333333333333,"d":"33.3%"},{"$f":"SUM(F87:F91)","v":0}]
["   7.1 교회학교 교사",{"v":21000000,"d":"21,000,000"},0,{"$f":"'7월 지출 상세'!D87+'8월 지출 상세'!C87","v":{"v":2400000,"d":"2,400,000"}},{"v":0.11428571428571428,"d":"11.4%"},{"$f":"IF($F$4=\"보정\", 보정치!E83)","v":false}]
["   7.2 신촌 대학청년부",{"v":12000000,"d":"12,000,000"},0,{"$f":"'7월 지출 상세'!D88+'8월 지출 상세'!C88","v":{"v":5400000,"d":"5,400,000"}},{"v":0.45,"d":"45.0%"},{"$f":"IF($F$4=\"보정\", 보정치!E84)","v":false}]
["   7.3 국제 대학부",{"v":9000000,"d":"9,000,000"},0,{"$f":"'7월 지출 상세'!D89+'8월 지출 상세'!C89","v":{"v":3600000,"d":"3,600,000"}},{"v":0.4,"d":"40.0%"},{"$f":"IF($F$4=\"보정\", 보정치!E85)","v":false}]
["   7.4 학생 솔리스트",{"v":16320000,"d":"16,320,000"},0,{"$f":"'7월 지출 상세'!D90+'8월 지출 상세'!C90","v":{"v":7480000,"d":"7,480,000"}},{"v":0.4583333333333333,"d":"45.8%"},{"$f":"IF($F$4=\"보정\", 보정치!E86)","v":false}]
["   7.5 기숙사지원",{"v":8400000,"d":"8,400,000"},{"v":-840000,"d":"-840,000"},{"$f":"'7월 지출 상세'!D91+'8월 지출 상세'!C91","v":{"v":3360000,"d":"3,360,000"}},{"v":0.4,"d":"40.0%"},{"$f":"IF($F$4=\"보정\", 보정치!E87)","v":false}," 중도 휴학으로 인한 장학금 반환금"]
["8. 예비비",{"v":32750000,"d":"32,750,000"},0,{"$f":"'7월 지출 상세'!D92+'8월 지출 상세'!C92","v":{"v":7535670,"d":"7,535,670"}},{"v":0.23009679389312976,"d":"23.0%"},{"$f":"IF($F$4=\"보정\", 보정치!E90)","v":false}]
["9. 이웃사랑기금적립",0,{"v":1000000,"d":"1,000,000"},{"$f":"'7월 지출 상세'!D93+'8월 지출 상세'!C93","v":{"v":6387090,"d":"6,387,090"}},{"v":0,"d":"0.0%"},{"$f":"IF($F$4=\"보정\", 보정치!E91)","v":false}]
["일반 지출 소계",{"$f":"SUM(B5,B13,B22,B38,B50,B71,B86,B92,B93)","v":{"v":580000000,"d":"580,000,000"}},{"$f":"SUM(C5,C13,C22,C38,C50,C71,C86,C92,C93)","v":{"v":42167735,"d":"42,167,735"}},{"$f":"SUM(D5,D13,D22,D38,D50,D71,D86,D92,D93)","v":{"v":270502921,"d":"270,502,921"}},{"v":0.4663843465517241,"d":"46.6%"},{"$f":"SUM(F86,F71,F50,F38,F22,F13,F5)","v":0}]
["차월이월",null,{"$f":"'8월 수입 상세'!C24-'8월 지출 상세'!C94","v":{"v":-7704735,"d":"-7,704,735"}},{"$f":"'8월 수입 상세'!D25+'8월 수입 상세'!D27+'8월 지출 상세'!C95","v":{"v":32295265,"d":"32,295,265"}}]
["지출부 총액",{"$f":"B94+B95","v":{"v":580000000,"d":"580,000,000"}},{"$f":"C94+C95","v":{"v":34463000,"d":"34,463,000"}},{"$f":"D94+D95","v":{"v":302798186,"d":"302,798,186"}},{"v":0.5220658379310344,"d":"52.2%"}]

{"sheet":"9월 약식","index":19,"n_rows":30,"n_cols":11,"rows_kept":30,"merged":[[0,0,0,10],[1,8,1,10],[2,0,2,4],[2,5,2,10],[3,5,3,6],[13,5,13,6],[14,5,14,6],[18,5,18,6],[19,0,19,6],[20,0,20,2],[20,5,20,8],[21,0,21,1],[22,0,22,1],[23,0,23,1],[24,0,24,1],[24,5,24,8],[25,0,25,1],[26,0,26,1]],"headers":{"header":["[첨부1]"],"footer":["","페이지"]}}
["2023년 9월 결산보고서(약식) "]
["회계년도: 2023년도",{"$nulls":7},"(2023-09-30 현재)"]
["수입의 부",{"$nulls":4},"지출의 부"]
["항 목","예산","당월 수입","수입 누계","집행률(%)","항 목",null,"예산","당월 지출","지출 누계","집행률(%)"]
["1. 주일헌금",{"$f":"'9월 수입 상세'!B5","v":{"v":160000000,"d":"160,000,000"}},{"$f":"'9월 수입 상세'!C5","v":{"v":15048690,"d":"15,048,690"}},{"$f":"VLOOKUP(A5, '9월 수입 상세'!$A$4:$F$29, 4, FALSE)","v":{"v":87032324,"d":"87,032,324"}},{"$f":"D5/B5","v":{"v":0.543952025,"d":"54.4%"}},"1. 예배운영비",null,{"$f":"'9월 지출 상세'!B5","v":{"v":22700000,"d":"22,700,000"}},{"$f":"'9월 지출 상세'!C5","v":{"v":972650,"d":"972,650"}},{"$f":"VLOOKUP(F5, '9월 지출 상세'!$A$4:$G$96, 4, FALSE)","v":{"v":9448700,"d":"9,448,700"}},{"$f":"J5/H5","v":{"v":0.4162422907488987,"d":"41.6%"}}]
["2. 십일조",{"$f":"'9월 수입 상세'!B6","v":{"v":105000000,"d":"105,000,000"}},{"$f":"'9월 수입 상세'!C6","v":{"v":6866000,"d":"6,866,000"}},{"$f":"VLOOKUP(A6, '9월 수입 상세'!$A$4:$F$29, 4, FALSE)","v":{"v":59742437,"d":"59,742,437"}},{"v":0.5689755904761905,"d":"56.9%"},"2. 교육운영비",null,{"$f":"'9월 지출 상세'!B13","v":{"v":30500000,"d":"30,500,000"}},{"$f":"'9월 지출 상세'!C13","v":{"v":8265690,"d":"8,265,690"}},{"$f":"VLOOKUP(F6, '9월 지출 상세'!$A$4:$G$96, 4, FALSE)","v":{"v":20981205,"d":"20,981,205"}},{"v":0.6879083606557377,"d":"68.8%"}]
["3. 월정헌금",{"$f":"'9월 수입 상세'!B7","v":{"v":145000000,"d":"145,000,000"}},{"$f":"'9월 수입 상세'!C7","v":{"v":10870000,"d":"10,870,000"}},{"$f":"VLOOKUP(A7, '9월 수입 상세'!$A$4:$F$29, 4, FALSE)","v":{"v":84245000,"d":"84,245,000"}},{"v":0.581,"d":"58.1%"},"3. 선교비",null,{"$f":"'9월 지출 상세'!B22","v":{"v":94480000,"d":"94,480,000"}},{"$f":"'9월 지출 상세'!C22","v":{"v":2400000,"d":"2,400,000"}},{"$f":"VLOOKUP(F7, '9월 지출 상세'!$A$4:$G$96, 4, FALSE)","v":{"v":40521970,"d":"40,521,970"}},{"v":0.4288946867061812,"d":"42.9%"}]
["4. 감사헌금",{"$f":"'9월 수입 상세'!B8","v":{"v":35000000,"d":"35,000,000"}},{"$f":"'9월 수입 상세'!C8","v":{"v":2291000,"d":"2,291,000"}},{"$f":"VLOOKUP(A8, '9월 수입 상세'!$A$4:$F$29, 4, FALSE)","v":{"v":20949000,"d":"20,949,000"}},{"v":0.5985428571428572,"d":"59.9%"},"4. 친교행사운영비",null,{"$f":"'9월 지출 상세'!B38","v":{"v":27600000,"d":"27,600,000"}},{"$f":"'9월 지출 상세'!C38","v":{"v":907670,"d":"907,670"}},{"$f":"VLOOKUP(F8, '9월 지출 상세'!$A$4:$G$96, 4, FALSE)","v":{"v":8873210,"d":"8,873,210"}},{"v":0.321493115942029,"d":"32.1%"}]
["5. 교육부헌금",{"$f":"'9월 수입 상세'!B9","v":{"v":22000000,"d":"22,000,000"}},{"$f":"'9월 수입 상세'!C9","v":{"v":870000,"d":"870,000"}},{"$f":"VLOOKUP(A9, '9월 수입 상세'!$A$4:$F$29, 4, FALSE)","v":{"v":10324821,"d":"10,324,821"}},{"v":0.46931004545454547,"d":"46.9%"},"5. 사례비",null,{"$f":"'9월 지출 상세'!B50","v":{"v":266770000,"d":"266,770,000"}},{"$f":"'9월 지출 상세'!C50","v":{"v":21392000,"d":"21,392,000"}},{"$f":"VLOOKUP(F9, '9월 지출 상세'!$A$4:$G$96, 4, FALSE)","v":{"v":141203000,"d":"141,203,000"}},{"v":0.5293061438692507,"d":"52.9%"}]
["6. 절기헌금",{"$f":"'9월 수입 상세'!B15","v":{"v":35000000,"d":"35,000,000"}},{"$f":"'9월 수입 상세'!C15","v":0},{"$f":"VLOOKUP(A10, '9월 수입 상세'!$A$4:$F$29, 4, FALSE)","v":{"v":14256000,"d":"14,256,000"}},{"v":0.40731428571428574,"d":"40.7%"},"6. 행정운영비",null,{"$f":"'9월 지출 상세'!B71","v":{"v":91784670,"d":"91,784,670"}},{"$f":"'9월 지출 상세'!C71","v":{"v":6250970,"d":"6,250,970"}},{"$f":"VLOOKUP(F10, '9월 지출 상세'!$A$4:$G$96, 4, FALSE)","v":{"v":53501056,"d":"53,501,056"}},{"v":0.5828975143670506,"d":"58.3%"}]
["7. 선교헌금",{"$f":"'9월 수입 상세'!B19","v":{"v":5000000,"d":"5,000,000"}},{"$f":"'9월 수입 상세'!C19","v":{"v":202000,"d":"202,000"}},{"$f":"VLOOKUP(A11, '9월 수입 상세'!$A$4:$F$29, 4, FALSE)","v":{"v":2815000,"d":"2,815,000"}},{"v":0.563,"d":"56.3%"},"7. 장학금",null,{"$f":"'9월 지출 상세'!B86","v":{"v":66720000,"d":"66,720,000"}},{"$f":"'9월 지출 상세'!C86","v":0},{"$f":"VLOOKUP(F11, '9월 지출 상세'!$A$4:$G$96, 4, FALSE)","v":{"v":22240000,"d":"22,240,000"}},{"v":0.3333333333333333,"d":"33.3%"}]
["8. 지정헌금",{"$f":"'9월 수입 상세'!B22","v":{"v":20000000,"d":"20,000,000"}},{"$f":"'9월 수입 상세'!C22","v":{"v":490000,"d":"490,000"}},{"$f":"VLOOKUP(A12, '9월 수입 상세'!$A$4:$F$29, 4, FALSE)","v":{"v":8028000,"d":"8,028,000"}},{"v":0.4014,"d":"40.1%"},"8. 예비비",null,{"$f":"'9월 지출 상세'!B92","v":{"v":32750000,"d":"32,750,000"}},{"$f":"'9월 지출 상세'!C92","v":{"v":1000000,"d":"1,000,000"}},{"$f":"VLOOKUP(F12, '9월 지출 상세'!$A$4:$G$96, 4, FALSE)","v":{"v":8535670,"d":"8,535,670"}},{"v":0.2606311450381679,"d":"26.1%"}]
["9. 특별헌금(이웃사랑실천헌금 등)",{"$f":"'9월 수입 상세'!B23","v":{"v":13000000,"d":"13,000,000"}},{"$f":"'9월 수입 상세'!C23","v":{"v":24500000,"d":"24,500,000"}},{"$f":"VLOOKUP(A13, '9월 수입 상세'!$A$4:$F$29, 4, FALSE)","v":{"v":30737090,"d":"30,737,090"}},{"v":2.3643915384615384,"d":"236.4%"},"9. 이웃사랑기금적립",null,{"$f":"'9월 지출 상세'!B93","v":0},{"$f":"'9월 지출 상세'!C93","v":{"v":23600000,"d":"23,600,000"}},{"$f":"VLOOKUP(F13, '9월 지출 상세'!$A$4:$G$96, 4, FALSE)","v":{"v":29987090,"d":"29,987,090"}}]
["헌금 수입 소계",{"$f":"SUM(B5:B13)","v":{"v":540000000,"d":"540,000,000"}},{"$f":"SUM(C5:C13)","v":{"v":61137690,"d":"61,137,690"}},{"$f":"SUM(D5:D13)","v":{"v":318129672,"d":"318,129,672"}},{"v":0.5891290222222222,"d":"58.9%"},"  일반 지출 소계",null,{"$f":"SUM(H5:H13)","v":{"v":633304670,"d":"633,304,670"}},{"$f":"SUM(I5:I13)","v":{"v":64788980,"d":"64,788,980"}},{"$f":"SUM(J5:J13)","v":{"v":335291901,"d":"335,291,901"}},{"$f":"J14/H14","v":{"v":0.5294322257247842,"d":"52.9%"}}]
["전기이월금 전입",{"$f":"'9월 수입 상세'!B25","v":{"v":40000000,"d":"40,000,000"}},0,{"$f":"'3월 약식'!D15+'9월 약식'!C15","v":{"v":40000000,"d":"40,000,000"}},{"v":1,"d":"100.0%"},"  차월이월",null,null,{"$f":"C14-I14","v":{"v":-3651290,"d":"-3,651,290"}},{"$f":"D19-J14","v":{"v":77142441,"d":"77,142,441"}}]
["전기이월금 추가전입",{"$f":"'9월 수입 상세'!B26","v":{"v":53304670,"d":"53,304,670"}},{"$f":"'9월 수입 상세'!C26","v":{"v":31427770,"d":"31,427,770"}},{"$f":"'9월 수입 상세'!D26","v":{"v":53304670,"d":"53,304,670"}}]
["헌금외 기금",null,{"$f":"'9월 수입 상세'!C27","v":{"v":1000000,"d":"1,000,000"}},{"$f":"'9월 수입 상세'!D27","v":{"v":1000000,"d":"1,000,000"}}]
["전월이월금",null,{"$f":"'8월 약식'!J15","v":{"v":48365961,"d":"48,365,961"}}]
["수입부 총액",{"$f":"SUM(B14:B18)","v":{"v":633304670,"d":"633,304,670 "}},{"$f":"SUM(C14:C18)","v":{"v":141931421,"d":"141,931,421 "}},{"$f":"SUM(D14:D18)","v":{"v":412434342,"d":"412,434,342 "}},{"$f":"D19/B19","v":{"v":0.6512415927708223,"d":"65.1%"}},"  지출부 총액",null,{"$f":"SUM(H14:H18)","v":{"v":633304670,"d":"633,304,670 "}},{"$f":"SUM(I14:I18)","v":{"v":61137690,"d":"61,137,690 "}},{"$f":"SUM(J14:J18)","v":{"v":412434342,"d":"412,434,342 "}},{"$f":"J19/H19","v":{"v":0.6512415927708223,"d":"65.1%"}}]
["*지정헌금 내역(헌화헌금_49만 원) "]
["기금 및 이월금 현황 (2023.8.31 기준)",{"$nulls":4},"헌금 수입 및 지출 누계 비교"]
["기금명",null,"금액(이자포함)",{"$nulls":3},"2021년 9월","2022년 9월 ","2023년 9월"]
["박명윤이행자선교기금(FAA003023)",null,{"v":53656313,"d":"53,656,313"},null,null,"수입 누계",{"v":332099968,"d":"332,099,968"},{"v":307401975,"d":"307,401,975"},{"$f":"D14","v":{"v":318129672,"d":"318,129,672"}}]
["대학교회건축기금(FBA113041)",null,0,null,null,"지출 누계",{"v":292384326,"d":"292,384,326"},{"v":282528340,"d":"282,528,340"},{"$f":"J14","v":{"v":335291901,"d":"335,291,901"}}]
["국캠대학교회선교기금(FEA173001)",null,{"v":147405,"d":"147,405"}]
["이웃사랑기금(FEA183001)",null,{"v":90623173,"d":"90,623,173"}]
["유초등부발전기금(FAA213008)",null,{"v":18393529,"d":"18,393,529"}]
["기금 총액",null,{"$f":"SUM(C23:C27)","v":{"v":162820420,"d":"162,820,420 "}}]
[]
["*누적 이월금 (2023.3.1 기준 / 기금 및 전입금 제외)",null,{"v":453597137,"d":"453,597,137 "}]

{"sheet":"9월 수입 상세","index":20,"n_rows":29,"n_cols":6,"rows_kept":29,"merged":[[0,0,0,5]]}
["9월 수입 상세"]
["회계연도: 2023년도",{"$nulls":4},"(2023-09-30 현재)"]
[]
["분류항목","예산","당월","누계","집행률(%)","비고"]
["1. 주일헌금",{"v":160000000,"d":"160,000,000"},{"v":15048690,"d":"15,048,690"},{"$f":"SUM('8월 수입 상세'!D5+'9월 수입 상세'!C5)","v":{"v":87032324,"d":"87,032,324"}},{"$f":"D5/B5","v":{"v":0.543952025,"d":"54.4%"}}]
["2. 십일조",{"v":105000000,"d":"105,000,000"},{"v":6866000,"d":"6,866,000"},{"$f":"SUM('8월 수입 상세'!D6+'9월 수입 상세'!C6)","v":{"v":59742437,"d":"59,742,437"}},{"$f":"D6/B6","v":{"v":0.5689755904761905,"d":"56.9%"}}]
["3. 월정헌금",{"v":145000000,"d":"145,000,000"},{"v":10870000,"d":"10,870,000"},{"$f":"SUM('8월 수입 상세'!D7+'9월 수입 상세'!C7)","v":{"v":84245000,"d":"84,245,000"}},{"v":0.581,"d":"58.1%"}]
["4. 감사헌금",{"v":35000000,"d":"35,000,000"},{"v":2291000,"d":"2,291,000"},{"$f":"SUM('8월 수입 상세'!D8+'9월 수입 상세'!C8)","v":{"v":20949000,"d":"20,949,000"}},{"v":0.5985428571428572,"d":"59.9%"}]
["5. 교육부헌금",{"$f":"SUM(B10:B14)","v":{"v":22000000,"d":"22,000,000"}},{"$f":"SUM(C10:C14)","v":{"v":870000,"d":"870,000"}},{"$f":"SUM('8월 수입 상세'!D9+'9월 수입 상세'!C9)","v":{"v":10324821,"d":"10,324,821"}},{"v":0.46931004545454547,"d":"46.9%"}]
["   유치부",{"v":700000,"d":"700,000"},{"v":52000,"d":"52,000"},{"$f":"SUM('8월 수입 상세'!D10+'9월 수입 상세'!C10)","v":{"v":822049,"d":"822,049"}},{"v":1.1743557142857144,"d":"117.4%"}]
["   초등부",{"v":1000000,"d":"1,000,000"},{"v":136000,"d":"136,000"},{"$f":"SUM('8월 수입 상세'!D11+'9월 수입 상세'!C11)","v":{"v":839500,"d":"839,500"}},{"v":0.8395,"d":"84.0%"}]
["   중고등부",{"v":300000,"d":"300,000"},{"v":15000,"d":"15,000"},{"$f":"SUM('8월 수입 상세'!D12+'9월 수입 상세'!C12)","v":{"v":113722,"d":"113,722"}},{"v":0.3790733333333333,"d":"37.9%"}]
["   대학부(신촌)",{"v":7000000,"d":"7,000,000"},{"v":462000,"d":"462,000"},{"$f":"SUM('8월 수입 상세'!D13+'9월 수입 상세'!C13)","v":{"v":5605338,"d":"5,605,338"}},{"v":0.8007625714285714,"d":"80.1%"}]
["   대학부(국제)",{"v":13000000,"d":"13,000,000"},{"v":205000,"d":"205,000"},{"$f":"SUM('8월 수입 상세'!D14+'9월 수입 상세'!C14)","v":{"v":2944212,"d":"2,944,212"}},{"v":0.22647784615384614,"d":"22.6%"}]
["6. 절기헌금",{"$f":"SUM(B16:B18)","v":{"v":35000000,"d":"35,000,000"}},0,{"$f":"SUM('8월 수입 상세'!D15+'9월 수입 상세'!C15)","v":{"v":14256000,"d":"14,256,000"}},{"v":0.40731428571428574,"d":"40.7%"}]
["   부활절",{"v":10000000,"d":"10,000,000"},0,{"$f":"SUM('8월 수입 상세'!D16+'9월 수입 상세'!C16)","v":{"v":14256000,"d":"14,256,000"}},{"v":1.4256,"d":"142.6%"}]
["   추수감사절",{"v":10000000,"d":"10,000,000"},0,{"$f":"SUM('8월 수입 상세'!D17+'9월 수입 상세'!C17)","v":0},{"v":0,"d":"0.0%"}]
["   성탄절",{"v":15000000,"d":"15,000,000"},0,{"$f":"SUM('8월 수입 상세'!D18+'9월 수입 상세'!C18)","v":0},{"v":0,"d":"0.0%"}]
["7. 선교헌금",{"v":5000000,"d":"5,000,000"},{"$f":"SUM(C20:C21)","v":{"v":202000,"d":"202,000"}},{"$f":"SUM('8월 수입 상세'!D19+'9월 수입 상세'!C19)","v":{"v":2815000,"d":"2,815,000"}},{"v":0.563,"d":"56.3%"}]
["   선교헌금",{"v":2500000,"d":"2,500,000"},{"v":202000,"d":"202,000"},{"$f":"SUM('8월 수입 상세'!D20+'9월 수입 상세'!C20)","v":{"v":2815000,"d":"2,815,000"}},{"v":1.126,"d":"112.6%"}]
["   특별선교헌금",{"v":2500000,"d":"2,500,000"},0,{"$f":"SUM('8월 수입 상세'!D21+'9월 수입 상세'!C21)","v":0},{"v":0,"d":"0.0%"}]
["8. 지정헌금",{"v":20000000,"d":"20,000,000"},{"v":490000,"d":"490,000"},{"$f":"SUM('8월 수입 상세'!D22+'9월 수입 상세'!C22)","v":{"v":8028000,"d":"8,028,000"}},{"v":0.4014,"d":"40.1%"},"헌화헌금 49만 원"]
["9. 특별헌금(이웃사랑실천헌금 등)",{"v":13000000,"d":"13,000,000"},{"v":24500000,"d":"24,500,000"},{"$f":"SUM('8월 수입 상세'!D23+'9월 수입 상세'!C23)","v":{"v":30737090,"d":"30,737,090"}},{"v":2.3643915384615384,"d":"236.4%"}]
["헌금 수입 소계",{"$f":"SUM(B5,B6,B7,B8,B9,B15,B19,B22,B23)","v":{"v":540000000,"d":"540,000,000"}},{"$f":"SUM(C5,C6,C7,C8,C9,C15,C19,C22,C23)","v":{"v":61137690,"d":"61,137,690"}},{"$f":"SUM(D5,D6,D7,D8,D9,D15,D19,D22,D23)","v":{"v":318129672,"d":"318,129,672"}},{"v":0.5891290222222222,"d":"58.9%"}]
["전기이월금 전입",{"v":40000000,"d":"40,000,000"},0,{"v":40000000,"d":"40,000,000"},{"v":1,"d":"100.0%"}]
["전기이월금 추가전입",{"v":53304670,"d":"53,304,670"},{"v":31427770,"d":"31,427,770"},{"$f":"B26","v":{"v":53304670,"d":"53,304,670"}}]
["헌금외 기금",null,{"v":1000000,"d":"1,000,000"},{"$f":"C27","v":{"v":1000000,"d":"1,000,000"}}]
["전월이월금",null,{"$f":"'9월 약식'!C18","v":{"v":48365961,"d":"48,365,961"}}]
["수입부 총액",{"$f":"B24+B25+B26","v":{"v":633304670,"d":"633,304,670"}},{"$f":"SUM(C24:C28)","v":{"v":141931421,"d":"141,931,421"}},{"$f":"SUM(D24:D28)","v":{"v":412434342,"d":"412,434,342"}},{"v":0.6512415927708223,"d":"65.1%"}]

{"sheet":"9월 지출 상세","index":21,"n_rows":96,"n_cols":7,"rows_kept":96,"merged":[[0,0,0,6],[1,3,1,4]]}
["9월 지출 상세"]
["회계연도: 2023년도"]
[{"$nulls":6},"(2023-09-30 현재)"]
["분류항목","예산","당월","누계","집행률(%)",null,"비고"]
["1. 예배운영비",{"$f":"SUM(B6:B9)","v":{"v":22700000,"d":"22,700,000"}},{"$f":"SUM(C6:C9)","v":{"v":972650,"d":"972,650"}},{"$f":"'8월 지출 상세'!D5+'9월 지출 상세'!C5","v":{"v":9448700,"d":"9,448,700"}},{"$f":"D5/B5","v":{"v":0.4162422907488987,"d":"41.6%"}},{"$f":"SUM(F6:F9)","v":0}]
["   1.1 성례예식비",{"v":1200000,"d":"1,200,000"},0,{"$f":"'8월 지출 상세'!D6+'9월 지출 상세'!C6","v":{"v":497100,"d":"497,100"}},{"$f":"D6/B6","v":{"v":0.41425,"d":"41.4%"}},{"$f":"IF($F$4=\"보정\", 보정치!E4)","v":false}]
["   1.2 주보인쇄비",{"v":4000000,"d":"4,000,000"},{"v":150000,"d":"150,000"},{"$f":"'8월 지출 상세'!D7+'9월 지출 상세'!C7","v":{"v":1245000,"d":"1,245,000"}},{"v":0.31125,"d":"31.1%"},{"$f":"IF($F$4=\"보정\", 보정치!E5)","v":false}]
["   1.3 강사접대비",{"v":2500000,"d":"2,500,000"},{"v":20700,"d":"20,700"},{"$f":"'8월 지출 상세'!D8+'9월 지출 상세'!C8","v":{"v":1060200,"d":"1,060,200"}},{"v":0.42408,"d":"42.4%"},{"$f":"IF($F$4=\"보정\", 보정치!E6)","v":false}]
["   1.4 예배준비비",{"$f":"SUM(B10:B12)","v":{"v":15000000,"d":"15,000,000"}},{"$f":"SUM(C10:C12)","v":{"v":801950,"d":"801,950"}},{"$f":"'8월 지출 상세'!D9+'9월 지출 상세'!C9","v":{"v":6646400,"d":"6,646,400"}},{"v":0.44309333333333334,"d":"44.3%"},{"$f":"IF($F$4=\"보정\", 보정치!E7)","v":false}]
["      1.4.1 성전 꽃꽂이",{"v":10000000,"d":"10,000,000"},{"v":450000,"d":"450,000"},{"$f":"'8월 지출 상세'!D10+'9월 지출 상세'!C10","v":{"v":4600000,"d":"4,600,000"}},{"v":0.46,"d":"46.0%"},{"$f":"IF($F$4=\"보정\", 보정치!E8)","v":false}]
["      1.4.2 봉사자 식사",{"v":4000000,"d":"4,000,000"},{"v":351950,"d":"351,950"},{"$f":"'8월 지출 상세'!D11+'9월 지출 상세'!C11","v":{"v":1936600,"d":"1,936,600"}},{"v":0.48415,"d":"48.4%"},{"$f":"IF($F$4=\"보정\", 보정치!E9)","v":false}]
["      1.4.3 절기행사비",{"v":1000000,"d":"1,000,000"},0,{"$f":"'8월 지출 상세'!D12+'9월 지출 상세'!C12","v":{"v":109800,"d":"109,800"}},{"v":0.1098,"d":"11.0%"},{"$f":"IF($F$4=\"보정\", 보정치!E10)","v":false}]
["2. 교육운영비",{"$f":"SUM(B14:B21)","v":{"v":30500000,"d":"30,500,000"}},{"$f":"SUM(C14:C21)","v":{"v":8265690,"d":"8,265,690"}},{"$f":"'8월 지출 상세'!D13+'9월 지출 상세'!C13","v":{"v":20981205,"d":"20,981,205"}},{"v":0.6879083606557377,"d":"68.8%"},{"$f":"IF($F$4=\"보정\", 보정치!E11)","v":false}]
["   2.1 주일성서연구운영비",{"v":1000000,"d":"1,000,000"},0,{"$f":"'8월 지출 상세'!D14+'9월 지출 상세'!C14","v":0},{"v":0,"d":"0.0%"},{"$f":"IF($F$4=\"보정\", 보정치!E12)","v":false}]
["   2.2 도서 및 교재",{"v":2000000,"d":"2,000,000"},0,{"$f":"'8월 지출 상세'!D15+'9월 지출 상세'!C15","v":{"v":630900,"d":"630,900"}},{"v":0.31545,"d":"31.5%"},{"$f":"IF($F$4=\"보정\", 보정치!E13)","v":false}]
["   2.3 전교인수양회 행사비",{"v":14000000,"d":"14,000,000"},{"v":8243690,"d":"8,243,690"},{"$f":"'8월 지출 상세'!D16+'9월 지출 상세'!C16","v":{"v":16600990,"d":"16,600,990"}},{"v":1.185785,"d":"118.6%"},{"$f":"IF($F$4=\"보정\", 보정치!E14)","v":false}]
["   2.4 교목연수비",0,0,{"$f":"'8월 지출 상세'!D17+'9월 지출 상세'!C17","v":0},null,{"$f":"IF($F$4=\"보정\", 보정치!E15)","v":false}]
["   2.5 교역자 교육훈련비",{"v":3000000,"d":"3,000,000"},0,{"$f":"'8월 지출 상세'!D18+'9월 지출 상세'!C18","v":{"v":531040,"d":"531,040"}},{"v":0.17701333333333333,"d":"17.7%"},{"$f":"IF($F$4=\"보정\", 보정치!E16)","v":false}]
["   2.6 교사세미나/교역자workshop",{"v":3000000,"d":"3,000,000"},{"v":22000,"d":"22,000"},{"$f":"'8월 지출 상세'!D19+'9월 지출 상세'!C19","v":{"v":2166275,"d":"2,166,275"}},{"v":0.7220916666666667,"d":"72.2%"},{"$f":"IF($F$4=\"보정\", 보정치!E17)","v":false}]
["   2.7 교육부 운영비",{"v":7500000,"d":"7,500,000"},0,{"$f":"'8월 지출 상세'!D20+'9월 지출 상세'!C20","v":{"v":1052000,"d":"1,052,000"}},{"v":0.14026666666666668,"d":"14.0%"},{"$f":"IF($F$4=\"보정\", 보정치!E18)","v":false}]
["   2.8 교육운영 예비비",0,0,{"$f":"'8월 지출 상세'!D21+'9월 지출 상세'!C21","v":0},null,{"$f":"IF($F$4=\"보정\", 보정치!E19)","v":false}]
["3. 선교비",{"$f":"SUM(B23,B34,B35,B36,B37)","v":{"v":94480000,"d":"94,480,000"}},{"$f":"SUM(C23,C34:C37)","v":{"v":2400000,"d":"2,400,000"}},{"$f":"'8월 지출 상세'!D22+'9월 지출 상세'!C22","v":{"v":40521970,"d":"40,521,970"}},{"v":0.4288946867061812,"d":"42.9%"},{"$f":"SUM(F23,F32,F33,F34,F35)","v":0}]
["   3.1 학원선교",{"$f":"SUM(B24:B33)","v":{"v":50960000,"d":"50,960,000"}},{"$f":"SUM(C24:C33)","v":{"v":1000000,"d":"1,000,000"}},{"$f":"'8월 지출 상세'!D23+'9월 지출 상세'!C23","v":{"v":13464970,"d":"13,464,970"}},{"v":0.2642262558869702,"d":"26.4%"},{"$f":"SUM(F24:F31)","v":0}]
["      3.1.1 간식나눔행사(신촌)",{"v":2000000,"d":"2,000,000"},0,{"$f":"'8월 지출 상세'!D24+'9월 지출 상세'!C24","v":{"v":1464970,"d":"1,464,970"}},{"v":0.732485,"d":"73.2%"},{"$f":"IF($F$4=\"보정\", 보정치!E22)","v":false}]
["      3.1.2 간식나눔행사(국제)",{"v":1000000,"d":"1,000,000"},0,{"$f":"'8월 지출 상세'!D25+'9월 지출 상세'!C25","v":0},{"v":0,"d":"0.0%"},{"$f":"IF($F$4=\"보정\", 보정치!E23)","v":false}]
["      3.1.3 교목실 점심나눔 후원",{"v":27000000,"d":"27,000,000"},0,{"$f":"'8월 지출 상세'!D26+'9월 지출 상세'!C26","v":0},{"v":0,"d":"0.0%"},{"$f":"IF($F$4=\"보정\", 보정치!E24)","v":false}]
["      3.1.4 연세기독학생연합회 지원",{"v":3600000,"d":"3,600,000"},{"v":300000,"d":"300,000"},{"$f":"'8월 지출 상세'!D27+'9월 지출 상세'!C27","v":{"v":2100000,"d":"2,100,000"}},{"v":0.5833333333333334,"d":"58.3%"},{"$f":"IF($F$4=\"보정\", 보정치!E25)","v":false}]
["      3.1.5 연세기독학생회찬양팀 후원",{"v":2400000,"d":"2,400,000"},{"v":200000,"d":"200,000"},{"$f":"'8월 지출 상세'!D28+'9월 지출 상세'!C28","v":{"v":1400000,"d":"1,400,000"}},{"v":0.5833333333333334,"d":"58.3%"},{"$f":"IF($F$4=\"보정\", 보정치!E26)","v":false}]
["      3.1.6 YMK 후원",{"v":3600000,"d":"3,600,000"},{"v":300000,"d":"300,000"},{"$f":"'8월 지출 상세'!D29+'9월 지출 상세'!C29","v":{"v":2100000,"d":"2,100,000"}},{"v":0.5833333333333334,"d":"58.3%"},{"$f":"IF($F$4=\"보정\", 보정치!E27)","v":false}]
["      3.1.7 통일한마당",{"v":2400000,"d":"2,400,000"},{"v":200000,"d":"200,000"},{"$f":"'8월 지출 상세'!D30+'9월 지출 상세'!C30","v":{"v":1400000,"d":"1,400,000"}},{"v":0.5833333333333334,"d":"58.3%"},{"$f":"IF($F$4=\"보정\", 보정치!E28)","v":false}]
["      3.1.8 리틀언더우드 후원",{"v":5000000,"d":"5,000,000"},0,{"$f":"'8월 지출 상세'!D31+'9월 지출 상세'!C31","v":{"v":5000000,"d":"5,000,000"}},{"v":1,"d":"100.0%"},0]
["      3.1.9 멘토멘티프로그램",{"v":3960000,"d":"3,960,000"},0,{"$f":"'8월 지출 상세'!D32+'9월 지출 상세'!C32","v":0},{"v":0,"d":"0.0%"},0]
["      3.1.10 학원선교 기타",0,0,{"$f":"'8월 지출 상세'!D33+'9월 지출 상세'!C33","v":0},null,{"$f":"IF($F$4=\"보정\", 보정치!E31)","v":false}]
["   3.2 국외선교",{"v":4800000,"d":"4,800,000"},{"v":400000,"d":"400,000"},{"$f":"'8월 지출 상세'!D34+'9월 지출 상세'!C34","v":{"v":2800000,"d":"2,800,000"}},{"v":0.5833333333333334,"d":"58.3%"},{"$f":"IF($F$4=\"보정\", 보정치!E32)","v":false},"함정희, 노규래 "]
["   3.3 이웃사랑 실천헌금",{"v":9000000,"d":"9,000,000"},0,{"$f":"'8월 지출 상세'!D35+'9월 지출 상세'!C35","v":0},{"v":0,"d":"0.0%"},{"$f":"IF($F$4=\"보정\", 보정치!E33)","v":false}]
["   3.4 지정헌금",{"v":29720000,"d":"29,720,000"},{"v":1000000,"d":"1,000,000"},{"$f":"'8월 지출 상세'!D36+'9월 지출 상세'!C36","v":{"v":24257000,"d":"24,257,000"}},{"v":0.8161843876177658,"d":"81.6%"},{"$f":"IF($F$4=\"보정\", 보정치!E34)","v":false},"김명준학생 장학금"]
["   3.5 선교예비금",0,0,{"$f":"'8월 지출 상세'!D37+'9월 지출 상세'!C37","v":0},null,{"$f":"IF($F$4=\"보정\", 보정치!E35)","v":false}]
["4. 친교행사운영비",{"$f":"SUM(B39:B49)-B47","v":{"v":27600000,"d":"27,600,000"}},{"$f":"SUM(C39:C46,C48:C49)","v":{"v":907670,"d":"907,670"}},{"$f":"'8월 지출 상세'!D38+'9월 지출 상세'!C38","v":{"v":8873210,"d":"8,873,210"}},{"v":0.321493115942029,"d":"32.1%"},{"$f":"SUM(F39:F49)-F47","v":0}]
["   4.1 주일공동식사",{"v":7000000,"d":"7,000,000"},0,{"$f":"'8월 지출 상세'!D39+'9월 지출 상세'!C39","v":{"v":2228200,"d":"2,228,200"}},{"v":0.3183142857142857,"d":"31.8%"},{"$f":"IF($F$4=\"보정\", 보정치!E37)","v":false}]
["   4.2 야외예배 행사비",0,0,{"$f":"'8월 지출 상세'!D40+'9월 지출 상세'!C40","v":0},null,{"$f":"IF($F$4=\"보정\", 보정치!E38)","v":false}]
["   4.3 경로행사비",{"v":1500000,"d":"1,500,000"},0,{"$f":"'8월 지출 상세'!D41+'9월 지출 상세'!C41","v":{"v":1500000,"d":"1,500,000"}},{"v":1,"d":"100.0%"},{"$f":"IF($F$4=\"보정\", 보정치!E39)","v":false}]
["   4.4 성탄행사비",{"v":2100000,"d":"2,100,000"},0,{"$f":"'8월 지출 상세'!D42+'9월 지출 상세'!C42","v":0},{"v":0,"d":"0.0%"},{"$f":"IF($F$4=\"보정\", 보정치!E40)","v":false}]
["   4.5 주일다과비",{"v":5000000,"d":"5,000,000"},{"v":77880,"d":"77,880"},{"$f":"'8월 지출 상세'!D43+'9월 지출 상세'!C43","v":{"v":636780,"d":"636,780"}},{"v":0.127356,"d":"12.7%"},{"$f":"IF($F$4=\"보정\", 보정치!E41)","v":false}]
["   4.6 경조비",{"v":4000000,"d":"4,000,000"},{"v":200000,"d":"200,000"},{"$f":"'8월 지출 상세'!D44+'9월 지출 상세'!C44","v":{"v":1997000,"d":"1,997,000"}},{"v":0.49925,"d":"49.9%"},{"$f":"IF($F$4=\"보정\", 보정치!E42)","v":false}]
["   4.7 교우친교비",{"v":2000000,"d":"2,000,000"},0,{"$f":"'8월 지출 상세'!D45+'9월 지출 상세'!C45","v":{"v":881440,"d":"881,440"}},{"v":0.44072,"d":"44.1%"},{"$f":"IF($F$4=\"보정\", 보정치!E43)","v":false}]
["   4.8 홍보출판비",{"v":4000000,"d":"4,000,000"},{"$f":"C47","v":0},{"$f":"'8월 지출 상세'!D46+'9월 지출 상세'!C46","v":{"v":1000000,"d":"1,000,000"}},{"v":0.25,"d":"25.0%"},{"$f":"IF($F$4=\"보정\", 보정치!E44)","v":false}]
["      4.8.1 대학교회 회지",{"v":4000000,"d":"4,000,000"},0,{"$f":"'8월 지출 상세'!D47+'9월 지출 상세'!C47","v":{"v":1000000,"d":"1,000,000"}},{"v":0.25,"d":"25.0%"},{"$f":"IF($F$4=\"보정\", 보정치!E45)","v":false}]
["   4.9 교회봉사자 선물",{"v":2000000,"d":"2,000,000"},{"v":629790,"d":"629,790"},{"$f":"'8월 지출 상세'!D48+'9월 지출 상세'!C48","v":{"v":629790,"d":"629,790"}},{"v":0.314895,"d":"31.5%"},{"$f":"IF($F$4=\"보정\", 보정치!E46)","v":false}]
["   4.10 친교행사 예비비",0,0,{"$f":"'8월 지출 상세'!D49+'9월 지출 상세'!C49","v":0},null,{"$f":"IF($F$4=\"보정\", 보정치!E47)","v":false}]
["5. 사례비",{"$f":"SUM(B51:B66,B69,B70)","v":{"v":266770000,"d":"266,770,000"}},{"$f":"SUM(C51:C66,C69:C70)","v":{"v":21392000,"d":"21,392,000"}},{"$f":"'8월 지출 상세'!D50+'9월 지출 상세'!C50","v":{"v":141203000,"d":"141,203,000"}},{"v":0.5293061438692507,"d":"52.9%"},{"$f":"SUM(F51:F70)","v":0}]
["   5.1 외부강사 설교 사례",{"v":12000000,"d":"12,000,000"},{"v":1700000,"d":"1,700,000"},{"$f":"'8월 지출 상세'!D51+'9월 지출 상세'!C51","v":{"v":7500000,"d":"7,500,000"}},{"v":0.625,"d":"62.5%"},{"$f":"IF($F$4=\"보정\", 보정치!E47)","v":false}]
["   5.2 외부강사 설교 사례(대학부-국제)",{"v":2400000,"d":"2,400,000"},0,{"$f":"'8월 지출 상세'!D52+'9월 지출 상세'!C52","v":0},{"v":0,"d":"0.0%"},{"$f":"IF($F$4=\"보정\", 보정치!E48)","v":false}]
["   5.3 절기 예배 연주자",{"v":800000,"d":"800,000"},0,{"$f":"'8월 지출 상세'!D53+'9월 지출 상세'!C53","v":0},{"v":0,"d":"0.0%"},{"$f":"IF($F$4=\"보정\", 보정치!E49)","v":false}]
["   5.4 국악 예배 연주자",{"v":1800000,"d":"1,800,000"},0,{"$f":"'8월 지출 상세'!D54+'9월 지출 상세'!C54","v":0},{"v":0,"d":"0.0%"},{"$f":"IF($F$4=\"보정\", 보정치!E50)","v":false}]
["   5.5 봉헌송 사례",{"v":450000,"d":"450,000"},{"v":150000,"d":"150,000"},{"$f":"'8월 지출 상세'!D55+'9월 지출 상세'!C55","v":{"v":150000,"d":"150,000"}},{"v":0.3333333333333333,"d":"33.3%"},{"$f":"IF($F$4=\"보정\", 보정치!E51)","v":false}]
["   5.6 주일성서연구 강사사례",{"v":4000000,"d":"4,000,000"},{"v":1000000,"d":"1,000,000"},{"$f":"'8월 지출 상세'!D56+'9월 지출 상세'!C56","v":{"v":3000000,"d":"3,000,000"}},{"v":0.75,"d":"75.0%"},{"$f":"IF($F$4=\"보정\", 보정치!E52)","v":false}]
["   5.8 담임목사 ",{"v":14400000,"d":"14,400,000"},{"v":1200000,"d":"1,200,000"},{"$f":"'8월 지출 상세'!D57+'9월 지출 상세'!C57","v":{"v":8400000,"d":"8,400,000"}},{"v":0.5833333333333334,"d":"58.3%"},{"$f":"IF($F$4=\"보정\", 보정치!E53)","v":false}]
["   5.9 동역목사",{"v":12000000,"d":"12,000,000"},{"v":600000,"d":"600,000"},{"$f":"'8월 지출 상세'!D58+'9월 지출 상세'!C58","v":{"v":3000000,"d":"3,000,000"}},{"v":0.25,"d":"25.0%"},{"$f":"IF($F$4=\"보정\", 보정치!E54)","v":false}]
["   5.10 전임교역자",{"v":100000000,"d":"100,000,000"},{"v":7500000,"d":"7,500,000"},{"$f":"'8월 지출 상세'!D59+'9월 지출 상세'!C59","v":{"v":54900000,"d":"54,900,000"}},{"v":0.549,"d":"54.9%"},{"$f":"IF($F$4=\"보정\", 보정치!E55)","v":false}]
["   5.11 성가대지휘자",{"v":12000000,"d":"12,000,000"},{"v":1000000,"d":"1,000,000"},{"$f":"'8월 지출 상세'!D60+'9월 지출 상세'!C60","v":{"v":7000000,"d":"7,000,000"}},{"v":0.5833333333333334,"d":"58.3%"},{"$f":"IF($F$4=\"보정\", 보정치!E56)","v":false}]
["   5.12 오르가니스트",{"v":12000000,"d":"12,000,000"},{"v":1000000,"d":"1,000,000"},{"$f":"'8월 지출 상세'!D61+'9월 지출 상세'!C61","v":{"v":7000000,"d":"7,000,000"}},{"v":0.5833333333333334,"d":"58.3%"},{"$f":"IF($F$4=\"보정\", 보정치!E57)","v":false}]
["   5.13 교육부서 담당교역자",{"v":38400000,"d":"38,400,000"},{"v":3200000,"d":"3,200,000"},{"$f":"'8월 지출 상세'!D62+'9월 지출 상세'!C62","v":{"v":20000000,"d":"20,000,000"}},{"v":0.5208333333333334,"d":"52.1%"},{"$f":"IF($F$4=\"보정\", 보정치!E58)","v":false}]
["   5.14 성인 솔리스트",{"v":23520000,"d":"23,520,000"},{"v":1960000,"d":"1,960,000"},{"$f":"'8월 지출 상세'!D63+'9월 지출 상세'!C63","v":{"v":13380000,"d":"13,380,000"}},{"v":0.5688775510204082,"d":"56.9%"},{"$f":"IF($F$4=\"보정\", 보정치!E59)","v":false}]
["   5.15 통역자",{"v":4000000,"d":"4,000,000"},{"v":300000,"d":"300,000"},{"$f":"'8월 지출 상세'!D64+'9월 지출 상세'!C64","v":{"v":2250000,"d":"2,250,000"}},{"v":0.5625,"d":"56.3%"},{"$f":"IF($F$4=\"보정\", 보정치!E60)","v":false}]
["   5.16 방송담당",{"v":12000000,"d":"12,000,000"},{"v":1050000,"d":"1,050,000"},{"$f":"'8월 지출 상세'!D65+'9월 지출 상세'!C65","v":{"v":6750000,"d":"6,750,000"}},{"v":0.5625,"d":"56.3%"},{"$f":"IF($F$4=\"보정\", 보정치!E61)","v":false}]
["   5.17 용원 사례비 ",{"$f":"SUM(B67:B68)","v":{"v":11000000,"d":"11,000,000"}},{"$f":"SUM(C67:C68)","v":{"v":732000,"d":"732,000"}},{"$f":"'8월 지출 상세'!D66+'9월 지출 상세'!C66","v":{"v":5673000,"d":"5,673,000"}},{"v":0.5157272727272727,"d":"51.6%"},{"$f":"IF($F$4=\"보정\", 보정치!E62)","v":false}]
["      5.17.1 관리실 여사",{"v":6000000,"d":"6,000,000"},{"v":408000,"d":"408,000"},{"$f":"'8월 지출 상세'!D67+'9월 지출 상세'!C67","v":{"v":3486000,"d":"3,486,000"}},{"v":0.581,"d":"58.1%"},{"$f":"IF($F$4=\"보정\", 보정치!E63)","v":false}]
["      5.17.2 관리실 반장",{"v":5000000,"d":"5,000,000"},{"v":324000,"d":"324,000"},{"$f":"'8월 지출 상세'!D68+'9월 지출 상세'!C68","v":{"v":2187000,"d":"2,187,000"}},{"v":0.4374,"d":"43.7%"},{"$f":"IF($F$4=\"보정\", 보정치!E64)","v":false}]
["   5.18 퇴직위로금",{"v":3000000,"d":"3,000,000"},0,{"$f":"'8월 지출 상세'!D69+'9월 지출 상세'!C69","v":0},{"v":0,"d":"0.0%"},{"$f":"IF($F$4=\"보정\", 보정치!E65)","v":false}]
["   5.19 기타(교역자휴가 및 기타인건비)",{"v":3000000,"d":"3,000,000"},0,{"$f":"'8월 지출 상세'!D70+'9월 지출 상세'!C70","v":{"v":2200000,"d":"2,200,000"}},{"v":0.7333333333333333,"d":"73.3%"},{"$f":"IF($F$4=\"보정\", 보정치!E66)","v":false}]
["6. 행정운영비",{"$f":"SUM(B72:B74,B81,B82,B83,B84,B85)","v":{"v":91784670,"d":"91,784,670"}},{"$f":"SUM(C72:C74,C81:C85)","v":{"v":6250970,"d":"6,250,970"}},{"$f":"'8월 지출 상세'!D71+'9월 지출 상세'!C71","v":{"v":53501056,"d":"53,501,056"}},{"v":0.5828975143670506,"d":"58.3%"},{"$f":"SUM(F72:F74,F81,F82,F83,F84,F85)","v":0}]
["   6.1 회의 및 교회위원회",{"v":6131500,"d":"6,131,500"},{"v":325700,"d":"325,700"},{"$f":"'8월 지출 상세'!D72+'9월 지출 상세'!C72","v":{"v":3671000,"d":"3,671,000"}},{"v":0.5987115713936231,"d":"59.9%"},{"$f":"IF($F$4=\"보정\", 보정치!E70)","v":false}]
["   6.2 사무운영비",{"v":13377270,"d":"13,377,270"},{"v":880350,"d":"880,350"},{"$f":"'8월 지출 상세'!D73+'9월 지출 상세'!C73","v":{"v":5922406,"d":"5,922,406"}},{"$f":"D73/B73","v":{"v":0.4427215717407214,"d":"44.3%"}},{"$f":"IF($F$4=\"보정\", 보정치!E71)","v":false}]
["   6.3 부서운영비",{"$f":"SUM(B75:B80)","v":{"v":52204200,"d":"52,204,200"}},{"$f":"SUM(C75:C80)","v":{"v":4339240,"d":"4,339,240"}},{"$f":"'8월 지출 상세'!D74+'9월 지출 상세'!C74","v":{"v":31988580,"d":"31,988,580"}},{"v":0.6127587435493695,"d":"61.3%"},{"$f":"IF($F$4=\"보정\", 보정치!E72)","v":false}]
["      6.3.1 성가대",{"v":14504200,"d":"14,504,200"},{"v":1100000,"d":"1,100,000"},{"$f":"'8월 지출 상세'!D75+'9월 지출 상세'!C75","v":{"v":8963200,"d":"8,963,200"}},{"v":0.6179727251416831,"d":"61.8%"},{"$f":"IF($F$4=\"보정\", 보정치!E73)","v":false}]
["      6.3.2 유치부",{"v":4500000,"d":"4,500,000"},{"v":400000,"d":"400,000"},{"$f":"'8월 지출 상세'!D76+'9월 지출 상세'!C76","v":{"v":2900000,"d":"2,900,000"}},{"v":0.6444444444444445,"d":"64.4%"},{"$f":"IF($F$4=\"보정\", 보정치!E74)","v":false}]
["      6.3.3 초등부",{"v":7100000,"d":"7,100,000"},{"v":600000,"d":"600,000"},{"$f":"'8월 지출 상세'!D77+'9월 지출 상세'!C77","v":{"v":4700000,"d":"4,700,000"}},{"v":0.6619718309859155,"d":"66.2%"},{"$f":"IF($F$4=\"보정\", 보정치!E75)","v":false}]
["      6.3.4 중고등부",{"v":5100000,"d":"5,100,000"},{"v":500000,"d":"500,000"},{"$f":"'8월 지출 상세'!D78+'9월 지출 상세'!C78","v":{"v":3600000,"d":"3,600,000"}},{"v":0.7058823529411765,"d":"70.6%"},{"$f":"IF($F$4=\"보정\", 보정치!E76)","v":false}]
["      6.3.5 대학부(신촌)",{"v":12000000,"d":"12,000,000"},{"v":839240,"d":"839,240"},{"$f":"'8월 지출 상세'!D79+'9월 지출 상세'!C79","v":{"v":6425380,"d":"6,425,380"}},{"v":0.5354483333333333,"d":"53.5%"},{"$f":"IF($F$4=\"보정\", 보정치!E77)","v":false}]
["      6.3.6 대학부(국제)",{"v":9000000,"d":"9,000,000"},{"v":900000,"d":"900,000"},{"$f":"'8월 지출 상세'!D80+'9월 지출 상세'!C80","v":{"v":5400000,"d":"5,400,000"}},{"v":0.6,"d":"60.0%"},{"$f":"IF($F$4=\"보정\", 보정치!E78)","v":false}]
["   6.4 목회활동비",{"v":7571700,"d":"7,571,700"},{"v":416000,"d":"416,000"},{"$f":"'8월 지출 상세'!D81+'9월 지출 상세'!C81","v":{"v":5239040,"d":"5,239,040"}},{"v":0.6919238744271432,"d":"69.2%"},{"$f":"IF($F$4=\"보정\", 보정치!E79)","v":false}]
["   6.5 용품 및 수리비",{"v":5000000,"d":"5,000,000"},0,{"$f":"'8월 지출 상세'!D82+'9월 지출 상세'!C82","v":{"v":4504080,"d":"4,504,080"}},{"v":0.900816,"d":"90.1%"},{"$f":"IF($F$4=\"보정\", 보정치!E80)","v":false}]
["   6.6 연료비 및 통신비",{"v":4000000,"d":"4,000,000"},{"v":209680,"d":"209,680"},{"$f":"'8월 지출 상세'!D83+'9월 지출 상세'!C83","v":{"v":1525950,"d":"1,525,950"}},{"$f":"D83/B83","v":{"v":0.3814875,"d":"38.1%"}},{"$f":"IF($F$4=\"보정\", 보정치!E81)","v":false}]
["   6.7 악기구입 및 보수",{"v":3500000,"d":"3,500,000"},{"v":80000,"d":"80,000"},{"$f":"'8월 지출 상세'!D84+'9월 지출 상세'!C84","v":{"v":650000,"d":"650,000"}},{"$f":"D84/B84","v":{"v":0.18571428571428572,"d":"18.6%"}},{"$f":"IF($F$4=\"보정\", 보정치!E82)","v":false}]
["   6.8 행정운영 예비비",0,0,{"$f":"'8월 지출 상세'!D85+'9월 지출 상세'!C85","v":0},null,{"$f":"IF($F$4=\"보정\", 보정치!E83)","v":false}]
["7. 장학금",{"$f":"SUM(B87:B91)","v":{"v":66720000,"d":"66,720,000"}},{"$f":"SUM(C87:C91)","v":0},{"$f":"'8월 지출 상세'!D86+'9월 지출 상세'!C86","v":{"v":22240000,"d":"22,240,000"}},{"v":0.3333333333333333,"d":"33.3%"},{"$f":"SUM(F87:F91)","v":0}]
["   7.1 교회학교 교사",{"v":21000000,"d":"21,000,000"},0,{"$f":"'8월 지출 상세'!D87+'9월 지출 상세'!C87","v":{"v":2400000,"d":"2,400,000"}},{"v":0.11428571428571428,"d":"11.4%"},{"$f":"IF($F$4=\"보정\", 보정치!E83)","v":false}]
["   7.2 신촌 대학청년부",{"v":12000000,"d":"12,000,000"},0,{"$f":"'8월 지출 상세'!D88+'9월 지출 상세'!C88","v":{"v":5400000,"d":"5,400,000"}},{"v":0.45,"d":"45.0%"},{"$f":"IF($F$4=\"보정\", 보정치!E84)","v":false}]
["   7.3 국제 대학부",{"v":9000000,"d":"9,000,000"},0,{"$f":"'8월 지출 상세'!D89+'9월 지출 상세'!C89","v":{"v":3600000,"d":"3,600,000"}},{"v":0.4,"d":"40.0%"},{"$f":"IF($F$4=\"보정\", 보정치!E85)","v":false}]
["   7.4 학생 솔리스트",{"v":16320000,"d":"16,320,000"},0,{"$f":"'8월 지출 상세'!D90+'9월 지출 상세'!C90","v":{"v":7480000,"d":"7,480,000"}},{"v":0.4583333333333333,"d":"45.8%"},{"$f":"IF($F$4=\"보정\", 보정치!E86)","v":false}]
["   7.5 기숙사지원",{"v":8400000,"d":"8,400,000"},0,{"$f":"'8월 지출 상세'!D91+'9월 지출 상세'!C91","v":{"v":3360000,"d":"3,360,000"}},{"v":0.4,"d":"40.0%"},{"$f":"IF($F$4=\"보정\", 보정치!E87)","v":false}]
["8. 예비비",{"v":32750000,"d":"32,750,000"},{"v":1000000,"d":"1,000,000"},{"$f":"'8월 지출 상세'!D92+'9월 지출 상세'!C92","v":{"v":8535670,"d":"8,535,670"}},{"v":0.2606311450381679,"d":"26.1%"},{"$f":"IF($F$4=\"보정\", 보정치!E90)","v":false},"바로크협회 후원금"]
["9. 이웃사랑기금적립",0,{"v":23600000,"d":"23,600,000"},{"$f":"'8월 지출 상세'!D93+'9월 지출 상세'!C93","v":{"v":29987090,"d":"29,987,090"}},{"v":0,"d":"0.0%"},{"$f":"IF($F$4=\"보정\", 보정치!E91)","v":false}]
["일반 지출 소계",{"$f":"SUM(B5,B13,B22,B38,B50,B71,B86,B92,B93)","v":{"v":633304670,"d":"633,304,670"}},{"$f":"SUM(C5,C13,C22,C38,C50,C71,C86,C92,C93)","v":{"v":64788980,"d":"64,788,980"}},{"$f":"SUM(D5,D13,D22,D38,D50,D71,D86,D92,D93)","v":{"v":335291901,"d":"335,291,901"}},{"v":0.5294322257247842,"d":"52.9%"},{"$f":"SUM(F86,F71,F50,F38,F22,F13,F5)","v":0}]
["차월이월",null,{"$f":"'9월 수입 상세'!C24-'9월 지출 상세'!C94","v":{"v":-3651290,"d":"-3,651,290"}},{"$f":"'9월 수입 상세'!D29-'9월 지출 상세'!D94","v":{"v":77142441,"d":"77,142,441"}}]
["지출부 총액",{"$f":"B94+B95","v":{"v":633304670,"d":"633,304,670"}},{"$f":"C94+C95","v":{"v":61137690,"d":"61,137,690"}},{"$f":"D94+D95","v":{"v":412434342,"d":"412,434,342"}},{"v":0.6512415927708223,"d":"65.1%"}]

{"sheet":"10월 약식","index":22,"n_rows":30,"n_cols":11,"rows_kept":30,"merged":[[0,0,0,10],[1,8,1,10],[2,0,2,4],[2,5,2,10],[3,5,3,6],[13,5,13,6],[14,5,14,6],[18,5,18,6],[19,0,19,6],[20,0,20,2],[20,5,20,8],[21,0,21,1],[22,0,22,1],[23,0,23,1],[24,0,24,1],[24,5,24,8],[25,0,25,1],[26,0,26,1]],"headers":{"header":["[첨부1]"],"footer":["","페이지"]}}
["2023년 10월 결산보고서(약식) "]
["회계년도: 2023년도",{"$nulls":7},"(2023-10-31 현재)"]
["수입의 부",{"$nulls":4},"지출의 부"]
["항 목","예산","당월 수입","수입 누계","집행률(%)","항 목",null,"예산","당월 지출","지출 누계","집행률(%)"]
["1. 주일헌금",{"$f":"'9월 수입 상세'!B5","v":{"v":160000000,"d":"160,000,000"}},{"$f":"'10월 수입 상세'!C5","v":{"v":16042000,"d":"16,042,000"}},{"$f":"VLOOKUP(A5, '10월 수입 상세'!$A$4:$F$29, 4, FALSE)","v":{"v":103074324,"d":"103,074,324"}},{"$f":"D5/B5","v":{"v":0.644214525,"d":"64.4%"}},"1. 예배운영비",null,{"$f":"'10월 지출 상세'!B5","v":{"v":22700000,"d":"22,700,000"}},{"$f":"'10월 지출 상세'!C5","v":{"v":1225050,"d":"1,225,050"}},{"$f":"VLOOKUP(F5, '10월 지출 상세'!$A$4:$G$96, 4, FALSE)","v":{"v":10673750,"d":"10,673,750"}},{"$f":"J5/H5","v":{"v":0.4702092511013216,"d":"47.0%"}}]
["2. 십일조",{"$f":"'9월 수입 상세'!B6","v":{"v":105000000,"d":"105,000,000"}},{"$f":"'10월 수입 상세'!C6","v":{"v":10409000,"d":"10,409,000"}},{"$f":"VLOOKUP(A6, '10월 수입 상세'!$A$4:$F$29, 4, FALSE)","v":{"v":70151437,"d":"70,151,437"}},{"v":0.6681089238095238,"d":"66.8%"},"2. 교육운영비",null,{"$f":"'10월 지출 상세'!B13","v":{"v":30500000,"d":"30,500,000"}},{"$f":"'10월 지출 상세'!C13","v":{"v":152100,"d":"152,100"}},{"$f":"VLOOKUP(F6, '10월 지출 상세'!$A$4:$G$96, 4, FALSE)","v":{"v":21133305,"d":"21,133,305"}},{"v":0.6928952459016393,"d":"69.3%"}]
["3. 월정헌금",{"$f":"'9월 수입 상세'!B7","v":{"v":145000000,"d":"145,000,000"}},{"$f":"'10월 수입 상세'!C7","v":{"v":12090000,"d":"12,090,000"}},{"$f":"VLOOKUP(A7, '10월 수입 상세'!$A$4:$F$29, 4, FALSE)","v":{"v":96335000,"d":"96,335,000"}},{"v":0.6643793103448276,"d":"66.4%"},"3. 선교비",null,{"$f":"'10월 지출 상세'!B22","v":{"v":94480000,"d":"94,480,000"}},{"$f":"'10월 지출 상세'!C22","v":{"v":4970350,"d":"4,970,350"}},{"$f":"VLOOKUP(F7, '10월 지출 상세'!$A$4:$G$96, 4, FALSE)","v":{"v":45492320,"d":"45,492,320"}},{"v":0.481502116850127,"d":"48.2%"}]
["4. 감사헌금",{"$f":"'9월 수입 상세'!B8","v":{"v":35000000,"d":"35,000,000"}},{"$f":"'10월 수입 상세'!C8","v":{"v":3272000,"d":"3,272,000"}},{"$f":"VLOOKUP(A8, '10월 수입 상세'!$A$4:$F$29, 4, FALSE)","v":{"v":24221000,"d":"24,221,000"}},{"v":0.6920285714285714,"d":"69.2%"},"4. 친교행사운영비",null,{"$f":"'10월 지출 상세'!B38","v":{"v":27600000,"d":"27,600,000"}},{"$f":"'10월 지출 상세'!C38","v":{"v":2485610,"d":"2,485,610"}},{"$f":"VLOOKUP(F8, '10월 지출 상세'!$A$4:$G$96, 4, FALSE)","v":{"v":11358820,"d":"11,358,820"}},{"v":0.4115514492753623,"d":"41.2%"}]
["5. 교육부헌금",{"$f":"'9월 수입 상세'!B9","v":{"v":22000000,"d":"22,000,000"}},{"$f":"'10월 수입 상세'!C9","v":{"v":2120000,"d":"2,120,000"}},{"$f":"VLOOKUP(A9, '10월 수입 상세'!$A$4:$F$29, 4, FALSE)","v":{"v":12444821,"d":"12,444,821"}},{"v":0.5656736818181818,"d":"56.6%"},"5. 사례비",null,{"$f":"'10월 지출 상세'!B50","v":{"v":266770000,"d":"266,770,000"}},{"$f":"'10월 지출 상세'!C50","v":{"v":21889000,"d":"21,889,000"}},{"$f":"VLOOKUP(F9, '10월 지출 상세'!$A$4:$G$96, 4, FALSE)","v":{"v":163092000,"d":"163,092,000"}},{"v":0.6113580987367395,"d":"61.1%"}]
["6. 절기헌금",{"$f":"'9월 수입 상세'!B15","v":{"v":35000000,"d":"35,000,000"}},{"$f":"'10월 수입 상세'!C15","v":{"v":8859000,"d":"8,859,000"}},{"$f":"VLOOKUP(A10, '10월 수입 상세'!$A$4:$F$29, 4, FALSE)","v":{"v":23115000,"d":"23,115,000"}},{"v":0.6604285714285715,"d":"66.0%"},"6. 행정운영비",null,{"$f":"'10월 지출 상세'!B71","v":{"v":91784670,"d":"91,784,670"}},{"$f":"'10월 지출 상세'!C71","v":{"v":6439000,"d":"6,439,000"}},{"$f":"VLOOKUP(F10, '10월 지출 상세'!$A$4:$G$96, 4, FALSE)","v":{"v":59940056,"d":"59,940,056"}},{"v":0.6530508417146349,"d":"65.3%"}]
["7. 선교헌금",{"$f":"'9월 수입 상세'!B19","v":{"v":5000000,"d":"5,000,000"}},{"$f":"'10월 수입 상세'!C19","v":{"v":1055000,"d":"1,055,000"}},{"$f":"VLOOKUP(A11, '10월 수입 상세'!$A$4:$F$29, 4, FALSE)","v":{"v":3870000,"d":"3,870,000"}},{"v":0.774,"d":"77.4%"},"7. 장학금",null,{"$f":"'10월 지출 상세'!B86","v":{"v":66720000,"d":"66,720,000"}},{"$f":"'10월 지출 상세'!C86","v":{"v":26220000,"d":"26,220,000"}},{"$f":"VLOOKUP(F11, '10월 지출 상세'!$A$4:$G$96, 4, FALSE)","v":{"v":48460000,"d":"48,460,000"}},{"v":0.7263189448441247,"d":"72.6%"}]
["8. 지정헌금",{"$f":"'9월 수입 상세'!B22","v":{"v":20000000,"d":"20,000,000"}},{"$f":"'10월 수입 상세'!C22","v":{"v":4672000,"d":"4,672,000"}},{"$f":"VLOOKUP(A12, '10월 수입 상세'!$A$4:$F$29, 4, FALSE)","v":{"v":12700000,"d":"12,700,000"}},{"v":0.635,"d":"63.5%"},"8. 예비비",null,{"$f":"'10월 지출 상세'!B92","v":{"v":32750000,"d":"32,750,000"}},{"$f":"'10월 지출 상세'!C92","v":{"v":500000,"d":"500,000"}},{"$f":"VLOOKUP(F12, '10월 지출 상세'!$A$4:$G$96, 4, FALSE)","v":{"v":9035670,"d":"9,035,670"}},{"v":0.27589832061068703,"d":"27.6%"}]
["9. 특별헌금(이웃사랑실천헌금 등)",{"$f":"'9월 수입 상세'!B23","v":{"v":13000000,"d":"13,000,000"}},{"$f":"'10월 수입 상세'!C23","v":{"v":5000000,"d":"5,000,000"}},{"$f":"VLOOKUP(A13, '10월 수입 상세'!$A$4:$F$29, 4, FALSE)","v":{"v":35737090,"d":"35,737,090"}},{"v":2.749006923076923,"d":"274.9%"},"9. 이웃사랑기금적립",null,{"$f":"'10월 지출 상세'!B93","v":0},{"$f":"'10월 지출 상세'!C93","v":{"v":6218000,"d":"6,218,000"}},{"$f":"VLOOKUP(F13, '10월 지출 상세'!$A$4:$G$96, 4, FALSE)","v":{"v":36205090,"d":"36,205,090"}}]
["헌금 수입 소계",{"$f":"SUM(B5:B13)","v":{"v":540000000,"d":"540,000,000"}},{"$f":"SUM(C5:C13)","v":{"v":63519000,"d":"63,519,000"}},{"$f":"SUM(D5:D13)","v":{"v":381648672,"d":"381,648,672"}},{"v":0.7067568,"d":"70.7%"},"  일반 지출 소계",null,{"$f":"SUM(H5:H13)","v":{"v":633304670,"d":"633,304,670"}},{"$f":"SUM(I5:I13)","v":{"v":70099110,"d":"70,099,110"}},{"$f":"SUM(J5:J13)","v":{"v":405391011,"d":"405,391,011"}},{"$f":"J14/H14","v":{"v":0.6401200404854113,"d":"64.0%"}}]
["전기이월금 전입",{"$f":"'9월 수입 상세'!B25","v":{"v":40000000,"d":"40,000,000"}},0,{"v":40000000,"d":"40,000,000"},{"v":1,"d":"100.0%"},"  차월이월",null,null,{"$f":"C14-I14","v":{"v":-6580110,"d":"-6,580,110"}},{"$f":"D19-J14","v":{"v":71562331,"d":"71,562,331"}}]
["전기이월금 추가전입",{"$f":"'9월 수입 상세'!B26","v":{"v":53304670,"d":"53,304,670"}},0,{"v":53304670,"d":"53,304,670"}]
["헌금외 기금",null,{"$f":"'9월 수입 상세'!C27","v":{"v":1000000,"d":"1,000,000"}},{"v":2000000,"d":"2,000,000"}]
["전월이월금",null,{"$f":"'9월 약식'!J15","v":{"v":77142441,"d":"77,142,441"}}]
["수입부 총액",{"$f":"SUM(B14:B18)","v":{"v":633304670,"d":"633,304,670 "}},{"$f":"SUM(C14:C18)","v":{"v":141661441,"d":"141,661,441 "}},{"$f":"SUM(D14:D18)","v":{"v":476953342,"d":"476,953,342 "}},{"$f":"D19/B19","v":{"v":0.7531183087596686,"d":"75.3%"}},"  지출부 총액",null,{"$f":"SUM(H14:H18)","v":{"v":633304670,"d":"633,304,670 "}},{"$f":"SUM(I14:I18)","v":{"v":63519000,"d":"63,519,000 "}},{"$f":"SUM(J14:J18)","v":{"v":476953342,"d":"476,953,342 "}},{"$f":"J19/H19","v":{"v":0.7531183087596686,"d":"75.3%"}}]
["*지정헌금 내역(윤종규지정장학금_3,564,000원, GIT 후원금_300,000원, 헌화헌금_808,000원) "]
["기금 및 이월금 현황 (2023.8.31 기준)",{"$nulls":4},"헌금 수입 및 지출 누계 비교"]
["기금명",null,"금액(이자포함)",{"$nulls":3},"2021년 10월","2022년 10월 ","2023년 10월"]
["박명윤이행자선교기금(FAA003023)",null,{"v":53656313,"d":"53,656,313"},null,null,"수입 누계",{"v":382691768,"d":"382,691,768"},{"v":370233275,"d":"370,233,275"},{"$f":"D14","v":{"v":381648672,"d":"381,648,672"}}]
["대학교회건축기금(FBA113041)",null,0,null,null,"지출 누계",{"v":315676185,"d":"315,676,185"},{"v":389274961,"d":"389,274,961"},{"$f":"J14","v":{"v":405391011,"d":"405,391,011"}}]
["국캠대학교회선교기금(FEA173001)",null,{"v":147405,"d":"147,405"}]
["이웃사랑기금(FEA183001)",null,{"v":90623173,"d":"90,623,173"}]
["유초등부발전기금(FAA213008)",null,{"v":18393529,"d":"18,393,529"}]
["기금 총액",null,{"$f":"SUM(C23:C27)","v":{"v":162820420,"d":"162,820,420 "}}]
[]
["*누적 이월금 (2023.3.1 기준 / 기금 및 전입금 제외)",null,{"v":453597137,"d":"453,597,137 "}]

{"sheet":"10월 수입 상세","index":23,"n_rows":29,"n_cols":6,"rows_kept":29,"merged":[[0,0,0,5]]}
["10월 수입 상세"]
["회계연도: 2023년도",{"$nulls":4},"(2023-10-31 현재)"]
[]
["분류항목","예산","당월","누계","집행률(%)","비고"]
["1. 주일헌금",{"v":160000000,"d":"160,000,000"},{"v":16042000,"d":"16,042,000"},{"$f":"SUM('9월 수입 상세'!D5+'10월 수입 상세'!C5)","v":{"v":103074324,"d":"103,074,324"}},{"$f":"D5/B5","v":{"v":0.644214525,"d":"64.4%"}}]
["2. 십일조",{"v":105000000,"d":"105,000,000"},{"v":10409000,"d":"10,409,000"},{"$f":"SUM('9월 수입 상세'!D6+'10월 수입 상세'!C6)","v":{"v":70151437,"d":"70,151,437"}},{"$f":"D6/B6","v":{"v":0.6681089238095238,"d":"66.8%"}}]
["3. 월정헌금",{"v":145000000,"d":"145,000,000"},{"v":12090000,"d":"12,090,000"},{"$f":"SUM('9월 수입 상세'!D7+'10월 수입 상세'!C7)","v":{"v":96335000,"d":"96,335,000"}},{"v":0.6643793103448276,"d":"66.4%"}]
["4. 감사헌금",{"v":35000000,"d":"35,000,000"},{"v":3272000,"d":"3,272,000"},{"$f":"SUM('9월 수입 상세'!D8+'10월 수입 상세'!C8)","v":{"v":24221000,"d":"24,221,000"}},{"v":0.6920285714285714,"d":"69.2%"}]
["5. 교육부헌금",{"$f":"SUM(B10:B14)","v":{"v":22000000,"d":"22,000,000"}},{"$f":"SUM(C10:C14)","v":{"v":2120000,"d":"2,120,000"}},{"$f":"SUM('9월 수입 상세'!D9+'10월 수입 상세'!C9)","v":{"v":12444821,"d":"12,444,821"}},{"v":0.5656736818181818,"d":"56.6%"}]
["   유치부",{"v":700000,"d":"700,000"},{"v":89000,"d":"89,000"},{"$f":"SUM('9월 수입 상세'!D10+'10월 수입 상세'!C10)","v":{"v":911049,"d":"911,049"}},{"v":1.3014985714285714,"d":"130.1%"}]
["   초등부",{"v":1000000,"d":"1,000,000"},{"v":207000,"d":"207,000"},{"$f":"SUM('9월 수입 상세'!D11+'10월 수입 상세'!C11)","v":{"v":1046500,"d":"1,046,500"}},{"v":1.0465,"d":"104.7%"}]
["   중고등부",{"v":300000,"d":"300,000"},{"v":23000,"d":"23,000"},{"$f":"SUM('9월 수입 상세'!D12+'10월 수입 상세'!C12)","v":{"v":136722,"d":"136,722"}},{"v":0.45574,"d":"45.6%"}]
["   대학부(신촌)",{"v":7000000,"d":"7,000,000"},{"v":1513000,"d":"1,513,000"},{"$f":"SUM('9월 수입 상세'!D13+'10월 수입 상세'!C13)","v":{"v":7118338,"d":"7,118,338"}},{"v":1.0169054285714285,"d":"101.7%"}]
["   대학부(국제)",{"v":13000000,"d":"13,000,000"},{"v":288000,"d":"288,000"},{"$f":"SUM('9월 수입 상세'!D14+'10월 수입 상세'!C14)","v":{"v":3232212,"d":"3,232,212"}},{"v":0.2486316923076923,"d":"24.9%"}]
["6. 절기헌금",{"$f":"SUM(B16:B18)","v":{"v":35000000,"d":"35,000,000"}},{"$f":"SUM(C16:C18)","v":{"v":8859000,"d":"8,859,000"}},{"$f":"SUM('9월 수입 상세'!D15+'10월 수입 상세'!C15)","v":{"v":23115000,"d":"23,115,000"}},{"v":0.6604285714285715,"d":"66.0%"}]
["   부활절",{"v":10000000,"d":"10,000,000"},0,{"$f":"SUM('9월 수입 상세'!D16+'10월 수입 상세'!C16)","v":{"v":14256000,"d":"14,256,000"}},{"v":1.4256,"d":"142.6%"}]
["   추수감사절",{"v":10000000,"d":"10,000,000"},{"v":8859000,"d":"8,859,000"},{"$f":"SUM('9월 수입 상세'!D17+'10월 수입 상세'!C17)","v":{"v":8859000,"d":"8,859,000"}},{"v":0.8859,"d":"88.6%"}]
["   성탄절",{"v":15000000,"d":"15,000,000"},0,{"$f":"SUM('9월 수입 상세'!D18+'10월 수입 상세'!C18)","v":0},{"v":0,"d":"0.0%"}]
["7. 선교헌금",{"v":5000000,"d":"5,000,000"},{"$f":"SUM(C20:C21)","v":{"v":1055000,"d":"1,055,000"}},{"$f":"SUM('9월 수입 상세'!D19+'10월 수입 상세'!C19)","v":{"v":3870000,"d":"3,870,000"}},{"v":0.774,"d":"77.4%"}]
["   선교헌금",{"v":2500000,"d":"2,500,000"},{"v":1055000,"d":"1,055,000"},{"$f":"SUM('9월 수입 상세'!D20+'10월 수입 상세'!C20)","v":{"v":3870000,"d":"3,870,000"}},{"v":1.548,"d":"154.8%"}]
["   특별선교헌금",{"v":2500000,"d":"2,500,000"},0,{"$f":"SUM('9월 수입 상세'!D21+'10월 수입 상세'!C21)","v":0},{"v":0,"d":"0.0%"}]
["8. 지정헌금",{"v":20000000,"d":"20,000,000"},{"v":4672000,"d":"4,672,000"},{"$f":"SUM('9월 수입 상세'!D22+'10월 수입 상세'!C22)","v":{"v":12700000,"d":"12,700,000"}},{"v":0.635,"d":"63.5%"},"윤종규 지정장학금 3,564,000원\nGIT 후원 300,000원\n헌화헌금 808,000원"]
["9. 특별헌금(이웃사랑실천헌금 등)",{"v":13000000,"d":"13,000,000"},{"v":5000000,"d":"5,000,000"},{"$f":"SUM('9월 수입 상세'!D23+'10월 수입 상세'!C23)","v":{"v":35737090,"d":"35,737,090"}},{"v":2.749006923076923,"d":"274.9%"}]
["헌금 수입 소계",{"$f":"SUM(B5,B6,B7,B8,B9,B15,B19,B22,B23)","v":{"v":540000000,"d":"540,000,000"}},{"$f":"SUM(C5,C6,C7,C8,C9,C15,C19,C22,C23)","v":{"v":63519000,"d":"63,519,000"}},{"$f":"SUM('9월 수입 상세'!D24+'10월 수입 상세'!C24)","v":{"v":381648672,"d":"381,648,672"}},{"v":0.7067568,"d":"70.7%"}]
["전기이월금 전입",{"v":40000000,"d":"40,000,000"},0,{"v":40000000,"d":"40,000,000"},{"v":1,"d":"100.0%"}]
["전기이월금 추가전입",{"v":53304670,"d":"53,304,670"},0,{"v":53304670,"d":"53,304,670"}]
["헌금외 기금",null,{"v":1000000,"d":"1,000,000"},{"v":2000000,"d":"2,000,000"}]
["전월이월금",null,{"$f":"'10월 약식'!C18","v":{"v":77142441,"d":"77,142,441"}}]
["수입부 총액",{"$f":"B24+B25+B26","v":{"v":633304670,"d":"633,304,670"}},{"$f":"SUM(C24:C28)","v":{"v":141661441,"d":"141,661,441"}},{"$f":"SUM(D24:D28)","v":{"v":476953342,"d":"476,953,342"}},{"v":0.7531183087596686,"d":"75.3%"}]

{"sheet":"10월 지출 상세","index":24,"n_rows":96,"n_cols":7,"rows_kept":96,"merged":[[0,0,0,6],[1,3,1,4]]}
["10월 지출 상세"]
["회계연도: 2023년도"]
[{"$nulls":6},"(2023-10-31 현재)"]
["분류항목","예산","당월","누계","집행률(%)",null,"비고"]
["1. 예배운영비",{"$f":"SUM(B6:B9)","v":{"v":22700000,"d":"22,700,000"}},{"$f":"SUM(C6:C9)","v":{"v":1225050,"d":"1,225,050"}},{"$f":"'9월 지출 상세'!D5+'10월 지출 상세'!C5","v":{"v":10673750,"d":"10,673,750"}},{"$f":"D5/B5","v":{"v":0.4702092511013216,"d":"47.0%"}},{"$f":"SUM(F6:F9)","v":0}]
["   1.1 성례예식비",{"v":1200000,"d":"1,200,000"},{"v":91850,"d":"91,850"},{"$f":"'9월 지출 상세'!D6+'10월 지출 상세'!C6","v":{"v":588950,"d":"588,950"}},{"$f":"D6/B6","v":{"v":0.4907916666666667,"d":"49.1%"}},{"$f":"IF($F$4=\"보정\", 보정치!E4)","v":false}]
["   1.2 주보인쇄비",{"v":4000000,"d":"4,000,000"},{"v":130000,"d":"130,000"},{"$f":"'9월 지출 상세'!D7+'10월 지출 상세'!C7","v":{"v":1375000,"d":"1,375,000"}},{"v":0.34375,"d":"34.4%"},{"$f":"IF($F$4=\"보정\", 보정치!E5)","v":false}]
["   1.3 강사접대비",{"v":2500000,"d":"2,500,000"},{"v":48500,"d":"48,500"},{"$f":"'9월 지출 상세'!D8+'10월 지출 상세'!C8","v":{"v":1108700,"d":"1,108,700"}},{"v":0.44348,"d":"44.3%"},{"$f":"IF($F$4=\"보정\", 보정치!E6)","v":false}]
["   1.4 예배준비비",{"$f":"SUM(B10:B12)","v":{"v":15000000,"d":"15,000,000"}},{"$f":"SUM(C10:C12)","v":{"v":954700,"d":"954,700"}},{"$f":"'9월 지출 상세'!D9+'10월 지출 상세'!C9","v":{"v":7601100,"d":"7,601,100"}},{"v":0.50674,"d":"50.7%"},{"$f":"IF($F$4=\"보정\", 보정치!E7)","v":false}]
["      1.4.1 성전 꽃꽂이",{"v":10000000,"d":"10,000,000"},{"v":750000,"d":"750,000"},{"$f":"'9월 지출 상세'!D10+'10월 지출 상세'!C10","v":{"v":5350000,"d":"5,350,000"}},{"v":0.535,"d":"53.5%"},{"$f":"IF($F$4=\"보정\", 보정치!E8)","v":false}]
["      1.4.2 봉사자 식사",{"v":4000000,"d":"4,000,000"},{"v":204700,"d":"204,700"},{"$f":"'9월 지출 상세'!D11+'10월 지출 상세'!C11","v":{"v":2141300,"d":"2,141,300"}},{"v":0.535325,"d":"53.5%"},{"$f":"IF($F$4=\"보정\", 보정치!E9)","v":false}]
["      1.4.3 절기행사비",{"v":1000000,"d":"1,000,000"},0,{"$f":"'9월 지출 상세'!D12+'10월 지출 상세'!C12","v":{"v":109800,"d":"109,800"}},{"v":0.1098,"d":"11.0%"},{"$f":"IF($F$4=\"보정\", 보정치!E10)","v":false}]
["2. 교육운영비",{"$f":"SUM(B14:B21)","v":{"v":30500000,"d":"30,500,000"}},{"$f":"SUM(C14:C21)","v":{"v":152100,"d":"152,100"}},{"$f":"'9월 지출 상세'!D13+'10월 지출 상세'!C13","v":{"v":21133305,"d":"21,133,305"}},{"v":0.6928952459016393,"d":"69.3%"},{"$f":"IF($F$4=\"보정\", 보정치!E11)","v":false}]
["   2.1 주일성서연구운영비",{"v":1000000,"d":"1,000,000"},0,{"$f":"'9월 지출 상세'!D14+'10월 지출 상세'!C14","v":0},{"v":0,"d":"0.0%"},{"$f":"IF($F$4=\"보정\", 보정치!E12)","v":false}]
["   2.2 도서 및 교재",{"v":2000000,"d":"2,000,000"},0,{"$f":"'9월 지출 상세'!D15+'10월 지출 상세'!C15","v":{"v":630900,"d":"630,900"}},{"v":0.31545,"d":"31.5%"},{"$f":"IF($F$4=\"보정\", 보정치!E13)","v":false}]
["   2.3 전교인수양회 행사비",{"v":14000000,"d":"14,000,000"},0,{"$f":"'9월 지출 상세'!D16+'10월 지출 상세'!C16","v":{"v":16600990,"d":"16,600,990"}},{"v":1.185785,"d":"118.6%"},{"$f":"IF($F$4=\"보정\", 보정치!E14)","v":false}]
["   2.4 교목연수비",0,0,{"$f":"'9월 지출 상세'!D17+'10월 지출 상세'!C17","v":0},null,{"$f":"IF($F$4=\"보정\", 보정치!E15)","v":false}]
["   2.5 교역자 교육훈련비",{"v":3000000,"d":"3,000,000"},{"v":152100,"d":"152,100"},{"$f":"'9월 지출 상세'!D18+'10월 지출 상세'!C18","v":{"v":683140,"d":"683,140"}},{"v":0.22771333333333332,"d":"22.8%"},{"$f":"IF($F$4=\"보정\", 보정치!E16)","v":false}]
["   2.6 교사세미나/교역자workshop",{"v":3000000,"d":"3,000,000"},0,{"$f":"'9월 지출 상세'!D19+'10월 지출 상세'!C19","v":{"v":2166275,"d":"2,166,275"}},{"v":0.7220916666666667,"d":"72.2%"},{"$f":"IF($F$4=\"보정\", 보정치!E17)","v":false}]
["   2.7 교육부 운영비",{"v":7500000,"d":"7,500,000"},0,{"$f":"'9월 지출 상세'!D20+'10월 지출 상세'!C20","v":{"v":1052000,"d":"1,052,000"}},{"v":0.14026666666666668,"d":"14.0%"},{"$f":"IF($F$4=\"보정\", 보정치!E18)","v":false}]
["   2.8 교육운영 예비비",0,0,{"$f":"'9월 지출 상세'!D21+'10월 지출 상세'!C21","v":0},null,{"$f":"IF($F$4=\"보정\", 보정치!E19)","v":false}]
["3. 선교비",{"$f":"SUM(B23,B34,B35,B36,B37)","v":{"v":94480000,"d":"94,480,000"}},{"$f":"SUM(C23,C34:C37)","v":{"v":4970350,"d":"4,970,350"}},{"$f":"'9월 지출 상세'!D22+'10월 지출 상세'!C22","v":{"v":45492320,"d":"45,492,320"}},{"v":0.481502116850127,"d":"48.2%"},{"$f":"SUM(F23,F32,F33,F34,F35)","v":0}]
["   3.1 학원선교",{"$f":"SUM(B24:B33)","v":{"v":50960000,"d":"50,960,000"}},{"$f":"SUM(C24:C33)","v":{"v":1006350,"d":"1,006,350"}},{"$f":"'9월 지출 상세'!D23+'10월 지출 상세'!C23","v":{"v":14471320,"d":"14,471,320"}},{"v":0.2839740973312402,"d":"28.4%"},{"$f":"SUM(F24:F31)","v":0}]
["      3.1.1 간식나눔행사(신촌)",{"v":2000000,"d":"2,000,000"},{"v":6350,"d":"6,350"},{"$f":"'9월 지출 상세'!D24+'10월 지출 상세'!C24","v":{"v":1471320,"d":"1,471,320"}},{"v":0.73566,"d":"73.6%"},{"$f":"IF($F$4=\"보정\", 보정치!E22)","v":false}]
["      3.1.2 간식나눔행사(국제)",{"v":1000000,"d":"1,000,000"},0,{"$f":"'9월 지출 상세'!D25+'10월 지출 상세'!C25","v":0},{"v":0,"d":"0.0%"},{"$f":"IF($F$4=\"보정\", 보정치!E23)","v":false}]
["      3.1.3 교목실 점심나눔 후원",{"v":27000000,"d":"27,000,000"},0,{"$f":"'9월 지출 상세'!D26+'10월 지출 상세'!C26","v":0},{"v":0,"d":"0.0%"},{"$f":"IF($F$4=\"보정\", 보정치!E24)","v":false}]
["      3.1.4 연세기독학생연합회 지원",{"v":3600000,"d":"3,600,000"},{"v":300000,"d":"300,000"},{"$f":"'9월 지출 상세'!D27+'10월 지출 상세'!C27","v":{"v":2400000,"d":"2,400,000"}},{"v":0.6666666666666666,"d":"66.7%"},{"$f":"IF($F$4=\"보정\", 보정치!E25)","v":false}]
["      3.1.5 연세기독학생회찬양팀 후원",{"v":2400000,"d":"2,400,000"},{"v":200000,"d":"200,000"},{"$f":"'9월 지출 상세'!D28+'10월 지출 상세'!C28","v":{"v":1600000,"d":"1,600,000"}},{"v":0.6666666666666666,"d":"66.7%"},{"$f":"IF($F$4=\"보정\", 보정치!E26)","v":false}]
["      3.1.6 YMK 후원",{"v":3600000,"d":"3,600,000"},{"v":300000,"d":"300,000"},{"$f":"'9월 지출 상세'!D29+'10월 지출 상세'!C29","v":{"v":2400000,"d":"2,400,000"}},{"v":0.6666666666666666,"d":"66.7%"},{"$f":"IF($F$4=\"보정\", 보정치!E27)","v":false}]
["      3.1.7 통일한마당",{"v":2400000,"d":"2,400,000"},{"v":200000,"d":"200,000"},{"$f":"'9월 지출 상세'!D30+'10월 지출 상세'!C30","v":{"v":1600000,"d":"1,600,000"}},{"v":0.6666666666666666,"d":"66.7%"},{"$f":"IF($F$4=\"보정\", 보정치!E28)","v":false}]
["      3.1.8 리틀언더우드 후원",{"v":5000000,"d":"5,000,000"},0,{"$f":"'9월 지출 상세'!D31+'10월 지출 상세'!C31","v":{"v":5000000,"d":"5,000,000"}},{"v":1,"d":"100.0%"},0]
["      3.1.9 멘토멘티프로그램",{"v":3960000,"d":"3,960,000"},0,{"$f":"'9월 지출 상세'!D32+'10월 지출 상세'!C32","v":0},{"v":0,"d":"0.0%"},0]
["      3.1.10 학원선교 기타",0,0,{"$f":"'9월 지출 상세'!D33+'10월 지출 상세'!C33","v":0},null,{"$f":"IF($F$4=\"보정\", 보정치!E31)","v":false}]
["   3.2 국외선교",{"v":4800000,"d":"4,800,000"},{"v":400000,"d":"400,000"},{"$f":"'9월 지출 상세'!D34+'10월 지출 상세'!C34","v":{"v":3200000,"d":"3,200,000"}},{"v":0.6666666666666666,"d":"66.7%"},{"$f":"IF($F$4=\"보정\", 보정치!E32)","v":false},"함정희, 노규래 "]
["   3.3 이웃사랑 실천헌금",{"v":9000000,"d":"9,000,000"},0,{"$f":"'9월 지출 상세'!D35+'10월 지출 상세'!C35","v":0},{"v":0,"d":"0.0%"},{"$f":"IF($F$4=\"보정\", 보정치!E33)","v":false}]
["   3.4 지정헌금",{"v":29720000,"d":"29,720,000"},{"v":3564000,"d":"3,564,000"},{"$f":"'9월 지출 상세'!D36+'10월 지출 상세'!C36","v":{"v":27821000,"d":"27,821,000"}},{"v":0.9361036339165545,"d":"93.6%"},{"$f":"IF($F$4=\"보정\", 보정치!E34)","v":false},"윤종규 지정장학금"]
["   3.5 선교예비금",0,0,{"$f":"'9월 지출 상세'!D37+'10월 지출 상세'!C37","v":0},null,{"$f":"IF($F$4=\"보정\", 보정치!E35)","v":false}]
["4. 친교행사운영비",{"$f":"SUM(B39:B49)-B47","v":{"v":27600000,"d":"27,600,000"}},{"$f":"SUM(C39:C46,C48:C49)","v":{"v":2485610,"d":"2,485,610"}},{"$f":"'9월 지출 상세'!D38+'10월 지출 상세'!C38","v":{"v":11358820,"d":"11,358,820"}},{"v":0.4115514492753623,"d":"41.2%"},{"$f":"SUM(F39:F49)-F47","v":0}]
["   4.1 주일공동식사",{"v":7000000,"d":"7,000,000"},{"v":1680000,"d":"1,680,000"},{"$f":"'9월 지출 상세'!D39+'10월 지출 상세'!C39","v":{"v":3908200,"d":"3,908,200"}},{"v":0.5583142857142858,"d":"55.8%"},{"$f":"IF($F$4=\"보정\", 보정치!E37)","v":false}]
["   4.2 야외예배 행사비",0,0,{"$f":"'9월 지출 상세'!D40+'10월 지출 상세'!C40","v":0},null,{"$f":"IF($F$4=\"보정\", 보정치!E38)","v":false}]
["   4.3 경로행사비",{"v":1500000,"d":"1,500,000"},0,{"$f":"'9월 지출 상세'!D41+'10월 지출 상세'!C41","v":{"v":1500000,"d":"1,500,000"}},{"v":1,"d":"100.0%"},{"$f":"IF($F$4=\"보정\", 보정치!E39)","v":false}]
["   4.4 성탄행사비",{"v":2100000,"d":"2,100,000"},0,{"$f":"'9월 지출 상세'!D42+'10월 지출 상세'!C42","v":0},{"v":0,"d":"0.0%"},{"$f":"IF($F$4=\"보정\", 보정치!E40)","v":false}]
["   4.5 주일다과비",{"v":5000000,"d":"5,000,000"},{"v":75610,"d":"75,610"},{"$f":"'9월 지출 상세'!D43+'10월 지출 상세'!C43","v":{"v":712390,"d":"712,390"}},{"v":0.142478,"d":"14.2%"},{"$f":"IF($F$4=\"보정\", 보정치!E41)","v":false}]
["   4.6 경조비",{"v":4000000,"d":"4,000,000"},{"v":400000,"d":"400,000"},{"$f":"'9월 지출 상세'!D44+'10월 지출 상세'!C44","v":{"v":2397000,"d":"2,397,000"}},{"v":0.59925,"d":"59.9%"},{"$f":"IF($F$4=\"보정\", 보정치!E42)","v":false}]
["   4.7 교우친교비",{"v":2000000,"d":"2,000,000"},0,{"$f":"'9월 지출 상세'!D45+'10월 지출 상세'!C45","v":{"v":881440,"d":"881,440"}},{"v":0.44072,"d":"44.1%"},{"$f":"IF($F$4=\"보정\", 보정치!E43)","v":false}]
["   4.8 홍보출판비",{"v":4000000,"d":"4,000,000"},{"$f":"C47","v":0},{"$f":"'9월 지출 상세'!D46+'10월 지출 상세'!C46","v":{"v":1000000,"d":"1,000,000"}},{"v":0.25,"d":"25.0%"},{"$f":"IF($F$4=\"보정\", 보정치!E44)","v":false}]
["      4.8.1 대학교회 회지",{"v":4000000,"d":"4,000,000"},0,{"$f":"'9월 지출 상세'!D47+'10월 지출 상세'!C47","v":{"v":1000000,"d":"1,000,000"}},{"v":0.25,"d":"25.0%"},{"$f":"IF($F$4=\"보정\", 보정치!E45)","v":false}]
["   4.9 교회봉사자 선물",{"v":2000000,"d":"2,000,000"},{"v":330000,"d":"330,000"},{"$f":"'9월 지출 상세'!D48+'10월 지출 상세'!C48","v":{"v":959790,"d":"959,790"}},{"v":0.479895,"d":"48.0%"},{"$f":"IF($F$4=\"보정\", 보정치!E46)","v":false}]
["   4.10 친교행사 예비비",0,0,{"$f":"'9월 지출 상세'!D49+'10월 지출 상세'!C49","v":0},null,{"$f":"IF($F$4=\"보정\", 보정치!E47)","v":false}]
["5. 사례비",{"$f":"SUM(B51:B66,B69,B70)","v":{"v":266770000,"d":"266,770,000"}},{"$f":"SUM(C51:C66,C69:C70)","v":{"v":21889000,"d":"21,889,000"}},{"$f":"'9월 지출 상세'!D50+'10월 지출 상세'!C50","v":{"v":163092000,"d":"163,092,000"}},{"v":0.6113580987367395,"d":"61.1%"},{"$f":"SUM(F51:F70)","v":0}]
["   5.1 외부강사 설교 사례",{"v":12000000,"d":"12,000,000"},{"v":1200000,"d":"1,200,000"},{"$f":"'9월 지출 상세'!D51+'10월 지출 상세'!C51","v":{"v":8700000,"d":"8,700,000"}},{"v":0.725,"d":"72.5%"},{"$f":"IF($F$4=\"보정\", 보정치!E47)","v":false}]
["   5.2 외부강사 설교 사례(대학부-국제)",{"v":2400000,"d":"2,400,000"},0,{"$f":"'9월 지출 상세'!D52+'10월 지출 상세'!C52","v":0},{"v":0,"d":"0.0%"},{"$f":"IF($F$4=\"보정\", 보정치!E48)","v":false}]
["   5.3 절기 예배 연주자",{"v":800000,"d":"800,000"},0,{"$f":"'9월 지출 상세'!D53+'10월 지출 상세'!C53","v":0},{"v":0,"d":"0.0%"},{"$f":"IF($F$4=\"보정\", 보정치!E49)","v":false}]
["   5.4 국악 예배 연주자",{"v":1800000,"d":"1,800,000"},{"v":1800000,"d":"1,800,000"},{"$f":"'9월 지출 상세'!D54+'10월 지출 상세'!C54","v":{"v":1800000,"d":"1,800,000"}},{"v":1,"d":"100.0%"},{"$f":"IF($F$4=\"보정\", 보정치!E50)","v":false}]
["   5.5 봉헌송 사례",{"v":450000,"d":"450,000"},{"v":150000,"d":"150,000"},{"$f":"'9월 지출 상세'!D55+'10월 지출 상세'!C55","v":{"v":300000,"d":"300,000"}},{"v":0.6666666666666666,"d":"66.7%"},{"$f":"IF($F$4=\"보정\", 보정치!E51)","v":false}]
["   5.6 주일성서연구 강사사례",{"v":4000000,"d":"4,000,000"},0,{"$f":"'9월 지출 상세'!D56+'10월 지출 상세'!C56","v":{"v":3000000,"d":"3,000,000"}},{"v":0.75,"d":"75.0%"},{"$f":"IF($F$4=\"보정\", 보정치!E52)","v":false}]
["   5.8 담임목사 ",{"v":14400000,"d":"14,400,000"},{"v":1200000,"d":"1,200,000"},{"$f":"'9월 지출 상세'!D57+'10월 지출 상세'!C57","v":{"v":9600000,"d":"9,600,000"}},{"v":0.6666666666666666,"d":"66.7%"},{"$f":"IF($F$4=\"보정\", 보정치!E53)","v":false}]
["   5.9 동역목사",{"v":12000000,"d":"12,000,000"},{"v":200000,"d":"200,000"},{"$f":"'9월 지출 상세'!D58+'10월 지출 상세'!C58","v":{"v":3200000,"d":"3,200,000"}},{"v":0.26666666666666666,"d":"26.7%"},{"$f":"IF($F$4=\"보정\", 보정치!E54)","v":false}]
["   5.10 전임교역자",{"v":100000000,"d":"100,000,000"},{"v":7500000,"d":"7,500,000"},{"$f":"'9월 지출 상세'!D59+'10월 지출 상세'!C59","v":{"v":62400000,"d":"62,400,000"}},{"v":0.624,"d":"62.4%"},{"$f":"IF($F$4=\"보정\", 보정치!E55)","v":false}]
["   5.11 성가대지휘자",{"v":12000000,"d":"12,000,000"},{"v":1000000,"d":"1,000,000"},{"$f":"'9월 지출 상세'!D60+'10월 지출 상세'!C60","v":{"v":8000000,"d":"8,000,000"}},{"v":0.6666666666666666,"d":"66.7%"},{"$f":"IF($F$4=\"보정\", 보정치!E56)","v":false}]
["   5.12 오르가니스트",{"v":12000000,"d":"12,000,000"},{"v":1000000,"d":"1,000,000"},{"$f":"'9월 지출 상세'!D61+'10월 지출 상세'!C61","v":{"v":8000000,"d":"8,000,000"}},{"v":0.6666666666666666,"d":"66.7%"},{"$f":"IF($F$4=\"보정\", 보정치!E57)","v":false}]
["   5.13 교육부서 담당교역자",{"v":38400000,"d":"38,400,000"},{"v":3200000,"d":"3,200,000"},{"$f":"'9월 지출 상세'!D62+'10월 지출 상세'!C62","v":{"v":23200000,"d":"23,200,000"}},{"v":0.6041666666666666,"d":"60.4%"},{"$f":"IF($F$4=\"보정\", 보정치!E58)","v":false}]
["   5.14 성인 솔리스트",{"v":23520000,"d":"23,520,000"},{"v":1960000,"d":"1,960,000"},{"$f":"'9월 지출 상세'!D63+'10월 지출 상세'!C63","v":{"v":15340000,"d":"15,340,000"}},{"v":0.6522108843537415,"d":"65.2%"},{"$f":"IF($F$4=\"보정\", 보정치!E59)","v":false}]
["   5.15 통역자",{"v":4000000,"d":"4,000,000"},{"v":375000,"d":"375,000"},{"$f":"'9월 지출 상세'!D64+'10월 지출 상세'!C64","v":{"v":2625000,"d":"2,625,000"}},{"v":0.65625,"d":"65.6%"},{"$f":"IF($F$4=\"보정\", 보정치!E60)","v":false}]
["   5.16 방송담당",{"v":12000000,"d":"12,000,000"},{"v":1125000,"d":"1,125,000"},{"$f":"'9월 지출 상세'!D65+'10월 지출 상세'!C65","v":{"v":7875000,"d":"7,875,000"}},{"v":0.65625,"d":"65.6%"},{"$f":"IF($F$4=\"보정\", 보정치!E61)","v":false}]
["   5.17 용원 사례비 ",{"$f":"SUM(B67:B68)","v":{"v":11000000,"d":"11,000,000"}},{"$f":"SUM(C67:C68)","v":{"v":1179000,"d":"1,179,000"}},{"$f":"'9월 지출 상세'!D66+'10월 지출 상세'!C66","v":{"v":6852000,"d":"6,852,000"}},{"v":0.6229090909090909,"d":"62.3%"},{"$f":"IF($F$4=\"보정\", 보정치!E62)","v":false}]
["      5.17.1 관리실 여사",{"v":6000000,"d":"6,000,000"},{"v":612000,"d":"612,000"},{"$f":"'9월 지출 상세'!D67+'10월 지출 상세'!C67","v":{"v":4098000,"d":"4,098,000"}},{"v":0.683,"d":"68.3%"},{"$f":"IF($F$4=\"보정\", 보정치!E63)","v":false}]
["      5.17.2 관리실 반장",{"v":5000000,"d":"5,000,000"},{"v":567000,"d":"567,000"},{"$f":"'9월 지출 상세'!D68+'10월 지출 상세'!C68","v":{"v":2754000,"d":"2,754,000"}},{"v":0.5508,"d":"55.1%"},{"$f":"IF($F$4=\"보정\", 보정치!E64)","v":false}]
["   5.18 퇴직위로금",{"v":3000000,"d":"3,000,000"},0,{"$f":"'9월 지출 상세'!D69+'10월 지출 상세'!C69","v":0},{"v":0,"d":"0.0%"},{"$f":"IF($F$4=\"보정\", 보정치!E65)","v":false}]
["   5.19 기타(교역자휴가 및 기타인건비)",{"v":3000000,"d":"3,000,000"},0,{"$f":"'9월 지출 상세'!D70+'10월 지출 상세'!C70","v":{"v":2200000,"d":"2,200,000"}},{"v":0.7333333333333333,"d":"73.3%"},{"$f":"IF($F$4=\"보정\", 보정치!E66)","v":false}]
["6. 행정운영비",{"$f":"SUM(B72:B74,B81,B82,B83,B84,B85)","v":{"v":91784670,"d":"91,784,670"}},{"$f":"SUM(C72:C74,C81:C85)","v":{"v":6439000,"d":"6,439,000"}},{"$f":"'9월 지출 상세'!D71+'10월 지출 상세'!C71","v":{"v":59940056,"d":"59,940,056"}},{"v":0.6530508417146349,"d":"65.3%"},{"$f":"SUM(F72:F74,F81,F82,F83,F84,F85)","v":0}]
["   6.1 회의 및 교회위원회",{"v":6131500,"d":"6,131,500"},{"v":99850,"d":"99,850"},{"$f":"'9월 지출 상세'!D72+'10월 지출 상세'!C72","v":{"v":3770850,"d":"3,770,850"}},{"v":0.6149963304248552,"d":"61.5%"},{"$f":"IF($F$4=\"보정\", 보정치!E70)","v":false}]
["   6.2 사무운영비",{"v":13377270,"d":"13,377,270"},{"v":568680,"d":"568,680"},{"$f":"'9월 지출 상세'!D73+'10월 지출 상세'!C73","v":{"v":6491086,"d":"6,491,086"}},{"$f":"D73/B73","v":{"v":0.48523248764508753,"d":"48.5%"}},{"$f":"IF($F$4=\"보정\", 보정치!E71)","v":false}]
["   6.3 부서운영비",{"$f":"SUM(B75:B80)","v":{"v":52204200,"d":"52,204,200"}},{"$f":"SUM(C75:C80)","v":{"v":4685000,"d":"4,685,000"}},{"$f":"'9월 지출 상세'!D74+'10월 지출 상세'!C74","v":{"v":36673580,"d":"36,673,580"}},{"v":0.7025024806433199,"d":"70.3%"},{"$f":"IF($F$4=\"보정\", 보정치!E72)","v":false}]
["      6.3.1 성가대",{"v":14504200,"d":"14,504,200"},{"v":1375000,"d":"1,375,000"},{"$f":"'9월 지출 상세'!D75+'10월 지출 상세'!C75","v":{"v":10338200,"d":"10,338,200"}},{"v":0.7127728520014892,"d":"71.3%"},{"$f":"IF($F$4=\"보정\", 보정치!E73)","v":false}]
["      6.3.2 유치부",{"v":4500000,"d":"4,500,000"},{"v":400000,"d":"400,000"},{"$f":"'9월 지출 상세'!D76+'10월 지출 상세'!C76","v":{"v":3300000,"d":"3,300,000"}},{"v":0.7333333333333333,"d":"73.3%"},{"$f":"IF($F$4=\"보정\", 보정치!E74)","v":false}]
["      6.3.3 초등부",{"v":7100000,"d":"7,100,000"},{"v":600000,"d":"600,000"},{"$f":"'9월 지출 상세'!D77+'10월 지출 상세'!C77","v":{"v":5300000,"d":"5,300,000"}},{"v":0.7464788732394366,"d":"74.6%"},{"$f":"IF($F$4=\"보정\", 보정치!E75)","v":false}]
["      6.3.4 중고등부",{"v":5100000,"d":"5,100,000"},{"v":500000,"d":"500,000"},{"$f":"'9월 지출 상세'!D78+'10월 지출 상세'!C78","v":{"v":4100000,"d":"4,100,000"}},{"v":0.803921568627451,"d":"80.4%"},{"$f":"IF($F$4=\"보정\", 보정치!E76)","v":false}]
["      6.3.5 대학부(신촌)",{"v":12000000,"d":"12,000,000"},{"v":910000,"d":"910,000"},{"$f":"'9월 지출 상세'!D79+'10월 지출 상세'!C79","v":{"v":7335380,"d":"7,335,380"}},{"v":0.6112816666666666,"d":"61.1%"},{"$f":"IF($F$4=\"보정\", 보정치!E77)","v":false}]
["      6.3.6 대학부(국제)",{"v":9000000,"d":"9,000,000"},{"v":900000,"d":"900,000"},{"$f":"'9월 지출 상세'!D80+'10월 지출 상세'!C80","v":{"v":6300000,"d":"6,300,000"}},{"v":0.7,"d":"70.0%"},{"$f":"IF($F$4=\"보정\", 보정치!E78)","v":false}]
["   6.4 목회활동비",{"v":7571700,"d":"7,571,700"},{"v":391000,"d":"391,000"},{"$f":"'9월 지출 상세'!D81+'10월 지출 상세'!C81","v":{"v":5630040,"d":"5,630,040"}},{"v":0.7435635326280756,"d":"74.4%"},{"$f":"IF($F$4=\"보정\", 보정치!E79)","v":false}]
["   6.5 용품 및 수리비",{"v":5000000,"d":"5,000,000"},0,{"$f":"'9월 지출 상세'!D82+'10월 지출 상세'!C82","v":{"v":4504080,"d":"4,504,080"}},{"v":0.900816,"d":"90.1%"},{"$f":"IF($F$4=\"보정\", 보정치!E80)","v":false}]
["   6.6 연료비 및 통신비",{"v":4000000,"d":"4,000,000"},{"v":254470,"d":"254,470"},{"$f":"'9월 지출 상세'!D83+'10월 지출 상세'!C83","v":{"v":1780420,"d":"1,780,420"}},{"$f":"D83/B83","v":{"v":0.445105,"d":"44.5%"}},{"$f":"IF($F$4=\"보정\", 보정치!E81)","v":false}]
["   6.7 악기구입 및 보수",{"v":3500000,"d":"3,500,000"},{"v":440000,"d":"440,000"},{"$f":"'9월 지출 상세'!D84+'10월 지출 상세'!C84","v":{"v":1090000,"d":"1,090,000"}},{"$f":"D84/B84","v":{"v":0.31142857142857144,"d":"31.1%"}},{"$f":"IF($F$4=\"보정\", 보정치!E82)","v":false}]
["   6.8 행정운영 예비비",0,0,{"$f":"'9월 지출 상세'!D85+'10월 지출 상세'!C85","v":0},null,{"$f":"IF($F$4=\"보정\", 보정치!E83)","v":false}]
["7. 장학금",{"$f":"SUM(B87:B91)","v":{"v":66720000,"d":"66,720,000"}},{"$f":"SUM(C87:C91)","v":{"v":26220000,"d":"26,220,000"}},{"$f":"'9월 지출 상세'!D86+'10월 지출 상세'!C86","v":{"v":48460000,"d":"48,460,000"}},{"v":0.7263189448441247,"d":"72.6%"},{"$f":"SUM(F87:F91)","v":0}]
["   7.1 교회학교 교사",{"v":21000000,"d":"21,000,000"},{"v":6000000,"d":"6,000,000"},{"$f":"'9월 지출 상세'!D87+'10월 지출 상세'!C87","v":{"v":8400000,"d":"8,400,000"}},{"v":0.4,"d":"40.0%"},{"$f":"IF($F$4=\"보정\", 보정치!E83)","v":false}]
["   7.2 신촌 대학청년부",{"v":12000000,"d":"12,000,000"},{"v":5100000,"d":"5,100,000"},{"$f":"'9월 지출 상세'!D88+'10월 지출 상세'!C88","v":{"v":10500000,"d":"10,500,000"}},{"v":0.875,"d":"87.5%"},{"$f":"IF($F$4=\"보정\", 보정치!E84)","v":false}]
["   7.3 국제 대학부",{"v":9000000,"d":"9,000,000"},{"v":3600000,"d":"3,600,000"},{"$f":"'9월 지출 상세'!D89+'10월 지출 상세'!C89","v":{"v":7200000,"d":"7,200,000"}},{"v":0.8,"d":"80.0%"},{"$f":"IF($F$4=\"보정\", 보정치!E85)","v":false}]
["   7.4 학생 솔리스트",{"v":16320000,"d":"16,320,000"},{"v":8160000,"d":"8,160,000"},{"$f":"'9월 지출 상세'!D90+'10월 지출 상세'!C90","v":{"v":15640000,"d":"15,640,000"}},{"v":0.9583333333333334,"d":"95.8%"},{"$f":"IF($F$4=\"보정\", 보정치!E86)","v":false}]
["   7.5 기숙사지원",{"v":8400000,"d":"8,400,000"},{"v":3360000,"d":"3,360,000"},{"$f":"'9월 지출 상세'!D91+'10월 지출 상세'!C91","v":{"v":6720000,"d":"6,720,000"}},{"v":0.8,"d":"80.0%"},{"$f":"IF($F$4=\"보정\", 보정치!E87)","v":false}]
["8. 예비비",{"v":32750000,"d":"32,750,000"},{"v":500000,"d":"500,000"},{"$f":"'9월 지출 상세'!D92+'10월 지출 상세'!C92","v":{"v":9035670,"d":"9,035,670"}},{"v":0.27589832061068703,"d":"27.6%"},{"$f":"IF($F$4=\"보정\", 보정치!E90)","v":false},"연세연합예배 후원금"]
["9. 이웃사랑기금적립",0,{"v":6218000,"d":"6,218,000"},{"$f":"'9월 지출 상세'!D93+'10월 지출 상세'!C93","v":{"v":36205090,"d":"36,205,090"}},{"v":0,"d":"0.0%"},{"$f":"IF($F$4=\"보정\", 보정치!E91)","v":false}]
["일반 지출 소계",{"$f":"SUM(B5,B13,B22,B38,B50,B71,B86,B92,B93)","v":{"v":633304670,"d":"633,304,670"}},{"$f":"SUM(C5,C13,C22,C38,C50,C71,C86,C92,C93)","v":{"v":70099110,"d":"70,099,110"}},{"$f":"SUM(D5,D13,D22,D38,D50,D71,D86,D92,D93)","v":{"v":405391011,"d":"405,391,011"}},{"v":0.6401200404854113,"d":"64.0%"},{"$f":"SUM(F86,F71,F50,F38,F22,F13,F5)","v":0}]
["차월이월",null,{"$f":"'10월 수입 상세'!C24-'10월 지출 상세'!C94","v":{"v":-6580110,"d":"-6,580,110"}},{"$f":"'10월 수입 상세'!D29-'10월 지출 상세'!D94","v":{"v":71562331,"d":"71,562,331"}}]
["지출부 총액",{"$f":"B94+B95","v":{"v":633304670,"d":"633,304,670"}},{"$f":"C94+C95","v":{"v":63519000,"d":"63,519,000"}},{"$f":"D94+D95","v":{"v":476953342,"d":"476,953,342"}},{"v":0.7531183087596686,"d":"75.3%"}]

{"sheet":"11월 약식","index":25,"n_rows":30,"n_cols":11,"rows_kept":30,"merged":[[0,0,0,10],[1,8,1,10],[2,0,2,4],[2,5,2,10],[3,5,3,6],[13,5,13,6],[14,5,14,6],[18,5,18,6],[19,0,19,6],[20,0,20,2],[20,5,20,8],[21,0,21,1],[22,0,22,1],[23,0,23,1],[24,0,24,1],[24,5,24,8],[25,0,25,1],[26,0,26,1]],"headers":{"header":["[첨부1]"],"footer":["","페이지"]}}
["2023년 11월 결산보고서(약식) "]
["회계년도: 2023년도",{"$nulls":7},"(2023-11-30 현재)"]
["수입의 부",{"$nulls":4},"지출의 부"]
["항 목","예산","당월 수입","수입 누계","집행률(%)","항 목",null,"예산","당월 지출","지출 누계","집행률(%)"]
["1. 주일헌금",{"$f":"'9월 수입 상세'!B5","v":{"v":160000000,"d":"160,000,000"}},{"$f":"'11월 수입 상세'!C5","v":{"v":11297000,"d":"11,297,000"}},{"$f":"VLOOKUP(A5, '11월 수입 상세'!$A$4:$F$29, 4, FALSE)","v":{"v":114371324,"d":"114,371,324"}},{"$f":"D5/B5","v":{"v":0.714820775,"d":"71.5%"}},"1. 예배운영비",null,{"$f":"'11월 지출 상세'!B5","v":{"v":22700000,"d":"22,700,000"}},{"$f":"'11월 지출 상세'!C5","v":{"v":1091550,"d":"1,091,550"}},{"$f":"VLOOKUP(F5, '11월 지출 상세'!$A$4:$G$96, 4, FALSE)","v":{"v":11765300,"d":"11,765,300"}},{"$f":"J5/H5","v":{"v":0.518295154185022,"d":"51.8%"}}]
["2. 십일조",{"$f":"'9월 수입 상세'!B6","v":{"v":105000000,"d":"105,000,000"}},{"$f":"'11월 수입 상세'!C6","v":{"v":8577000,"d":"8,577,000"}},{"$f":"VLOOKUP(A6, '11월 수입 상세'!$A$4:$F$29, 4, FALSE)","v":{"v":78728437,"d":"78,728,437"}},{"v":0.749794638095238,"d":"75.0%"},"2. 교육운영비",null,{"$f":"'11월 지출 상세'!B13","v":{"v":30500000,"d":"30,500,000"}},{"$f":"'11월 지출 상세'!C13","v":{"v":580000,"d":"580,000"}},{"$f":"VLOOKUP(F6, '11월 지출 상세'!$A$4:$G$96, 4, FALSE)","v":{"v":21713305,"d":"21,713,305"}},{"v":0.7119116393442623,"d":"71.2%"}]
["3. 월정헌금",{"$f":"'9월 수입 상세'!B7","v":{"v":145000000,"d":"145,000,000"}},{"$f":"'11월 수입 상세'!C7","v":{"v":11270000,"d":"11,270,000"}},{"$f":"VLOOKUP(A7, '11월 수입 상세'!$A$4:$F$29, 4, FALSE)","v":{"v":107605000,"d":"107,605,000"}},{"v":0.742103448275862,"d":"74.2%"},"3. 선교비",null,{"$f":"'11월 지출 상세'!B22","v":{"v":94480000,"d":"94,480,000"}},{"$f":"'11월 지출 상세'!C22","v":{"v":58317770,"d":"58,317,770"}},{"$f":"VLOOKUP(F7, '11월 지출 상세'!$A$4:$G$96, 4, FALSE)","v":{"v":103810090,"d":"103,810,090"}},{"v":1.0987520110076208,"d":"109.9%"}]
["4. 감사헌금",{"$f":"'9월 수입 상세'!B8","v":{"v":35000000,"d":"35,000,000"}},{"$f":"'11월 수입 상세'!C8","v":{"v":2792000,"d":"2,792,000"}},{"$f":"VLOOKUP(A8, '11월 수입 상세'!$A$4:$F$29, 4, FALSE)","v":{"v":27013000,"d":"27,013,000"}},{"v":0.7718,"d":"77.2%"},"4. 친교행사운영비",null,{"$f":"'11월 지출 상세'!B38","v":{"v":27600000,"d":"27,600,000"}},{"$f":"'11월 지출 상세'!C38","v":{"v":1249680,"d":"1,249,680"}},{"$f":"VLOOKUP(F8, '11월 지출 상세'!$A$4:$G$96, 4, FALSE)","v":{"v":12608500,"d":"12,608,500"}},{"v":0.4568297101449275,"d":"45.7%"}]
["5. 교육부헌금",{"$f":"'9월 수입 상세'!B9","v":{"v":22000000,"d":"22,000,000"}},{"$f":"'11월 수입 상세'!C9","v":{"v":2072500,"d":"2,072,500"}},{"$f":"VLOOKUP(A9, '11월 수입 상세'!$A$4:$F$29, 4, FALSE)","v":{"v":14517321,"d":"14,517,321"}},{"v":0.6598782272727273,"d":"66.0%"},"5. 사례비",null,{"$f":"'11월 지출 상세'!B50","v":{"v":266770000,"d":"266,770,000"}},{"$f":"'11월 지출 상세'!C50","v":{"v":18992000,"d":"18,992,000"}},{"$f":"VLOOKUP(F9, '11월 지출 상세'!$A$4:$G$96, 4, FALSE)","v":{"v":182084000,"d":"182,084,000"}},{"v":0.6825505116767253,"d":"68.3%"}]
["6. 절기헌금",{"$f":"'9월 수입 상세'!B15","v":{"v":35000000,"d":"35,000,000"}},{"$f":"'11월 수입 상세'!C15","v":{"v":700000,"d":"700,000"}},{"$f":"VLOOKUP(A10, '11월 수입 상세'!$A$4:$F$29, 4, FALSE)","v":{"v":23815000,"d":"23,815,000"}},{"v":0.6804285714285714,"d":"68.0%"},"6. 행정운영비",null,{"$f":"'11월 지출 상세'!B71","v":{"v":91784670,"d":"91,784,670"}},{"$f":"'11월 지출 상세'!C71","v":{"v":5965130,"d":"5,965,130"}},{"$f":"VLOOKUP(F10, '11월 지출 상세'!$A$4:$G$96, 4, FALSE)","v":{"v":65905186,"d":"65,905,186"}},{"v":0.7180413243300869,"d":"71.8%"}]
["7. 선교헌금",{"$f":"'9월 수입 상세'!B19","v":{"v":5000000,"d":"5,000,000"}},{"$f":"'11월 수입 상세'!C19","v":{"v":1000,"d":"1,000"}},{"$f":"VLOOKUP(A11, '11월 수입 상세'!$A$4:$F$29, 4, FALSE)","v":{"v":3871000,"d":"3,871,000"}},{"v":0.7742,"d":"77.4%"},"7. 장학금",null,{"$f":"'11월 지출 상세'!B86","v":{"v":66720000,"d":"66,720,000"}},{"$f":"'11월 지출 상세'!C86","v":{"v":840000,"d":"840,000"}},{"$f":"VLOOKUP(F11, '11월 지출 상세'!$A$4:$G$96, 4, FALSE)","v":{"v":49300000,"d":"49,300,000"}},{"v":0.7389088729016786,"d":"73.9%"}]
["8. 지정헌금",{"$f":"'9월 수입 상세'!B22","v":{"v":20000000,"d":"20,000,000"}},{"$f":"'11월 수입 상세'!C22","v":{"v":440000,"d":"440,000"}},{"$f":"VLOOKUP(A12, '11월 수입 상세'!$A$4:$F$29, 4, FALSE)","v":{"v":13140000,"d":"13,140,000"}},{"v":0.657,"d":"65.7%"},"8. 예비비",null,{"$f":"'11월 지출 상세'!B92","v":{"v":32750000,"d":"32,750,000"}},{"$f":"'11월 지출 상세'!C92","v":{"v":8000000,"d":"8,000,000"}},{"$f":"VLOOKUP(F12, '11월 지출 상세'!$A$4:$G$96, 4, FALSE)","v":{"v":17035670,"d":"17,035,670"}},{"v":0.5201731297709924,"d":"52.0%"}]
["9. 특별헌금(이웃사랑실천헌금 등)",{"$f":"'9월 수입 상세'!B23","v":{"v":13000000,"d":"13,000,000"}},{"$f":"'11월 수입 상세'!C23","v":0},{"$f":"VLOOKUP(A13, '11월 수입 상세'!$A$4:$F$29, 4, FALSE)","v":{"v":35737090,"d":"35,737,090"}},{"v":2.749006923076923,"d":"274.9%"},"9. 이웃사랑기금적립",null,{"$f":"'11월 지출 상세'!B93","v":0},{"$f":"'11월 지출 상세'!C93","v":0},{"$f":"VLOOKUP(F13, '11월 지출 상세'!$A$4:$G$96, 4, FALSE)","v":{"v":36205090,"d":"36,205,090"}}]
["헌금 수입 소계",{"$f":"SUM(B5:B13)","v":{"v":540000000,"d":"540,000,000"}},{"$f":"SUM(C5:C13)","v":{"v":37149500,"d":"37,149,500"}},{"$f":"SUM(D5:D13)","v":{"v":418798172,"d":"418,798,172"}},{"v":0.7755521703703704,"d":"77.6%"},"  일반 지출 소계",null,{"$f":"SUM(H5:H13)","v":{"v":633304670,"d":"633,304,670"}},{"$f":"SUM(I5:I13)","v":{"v":95036130,"d":"95,036,130"}},{"$f":"SUM(J5:J13)","v":{"v":500427141,"d":"500,427,141"}},{"$f":"J14/H14","v":{"v":0.7901838794272589,"d":"79.0%"}}]
["전기이월금 전입",{"$f":"'11월 수입 상세'!B25","v":{"v":40000000,"d":"40,000,000"}},{"$f":"'11월 수입 상세'!C25","v":0},{"$f":"'11월 수입 상세'!D25","v":{"v":40000000,"d":"40,000,000"}},{"v":1,"d":"100.0%"},"  차월이월",null,null,{"$f":"C14-I14","v":{"v":-57886630,"d":"-57,886,630"}},{"$f":"D19-J14","v":{"v":41675701,"d":"41,675,701"}}]
["전기이월금 추가전입",{"$f":"'11월 수입 상세'!B26","v":{"v":53304670,"d":"53,304,670"}},{"$f":"'11월 수입 상세'!C26","v":0},{"$f":"'11월 수입 상세'!D26","v":{"v":53304670,"d":"53,304,670"}}]
["헌금외 기금",null,{"$f":"'11월 수입 상세'!C27","v":{"v":28000000,"d":"28,000,000"}},{"$f":"'11월 수입 상세'!D27","v":{"v":30000000,"d":"30,000,000"}}]
["전월이월금",null,{"$f":"'11월 수입 상세'!C28","v":{"v":71562331,"d":"71,562,331"}}]
["수입부 총액",{"$f":"SUM(B14:B18)","v":{"v":633304670,"d":"633,304,670 "}},{"$f":"SUM(C14:C18)","v":{"v":136711831,"d":"136,711,831 "}},{"$f":"SUM(D14:D18)","v":{"v":542102842,"d":"542,102,842 "}},{"$f":"D19/B19","v":{"v":0.8559905961217686,"d":"85.6%"}},"  지출부 총액",null,{"$f":"SUM(H14:H18)","v":{"v":633304670,"d":"633,304,670 "}},{"$f":"SUM(I14:I18)","v":{"v":37149500,"d":"37,149,500 "}},{"$f":"SUM(J14:J18)","v":{"v":542102842,"d":"542,102,842 "}},{"$f":"J19/H19","v":{"v":0.8559905961217686,"d":"85.6%"}}]
["*지정헌금 내역(GIT 후원금_90,000원, 헌화헌금_350,000원) "]
["기금 및 이월금 현황 (2023.8.31 기준)",{"$nulls":4},"헌금 수입 및 지출 누계 비교"]
["기금명",null,"금액(이자포함)",{"$nulls":3},"2021년 11월","2022년 11월 ","2023년 11월"]
["박명윤이행자선교기금(FAA003023)",null,{"v":53656313,"d":"53,656,313"},null,null,"수입 누계",{"v":427803907,"d":"427,803,907"},{"v":403316875,"d":"403,316,875"},{"$f":"D14","v":{"v":418798172,"d":"418,798,172"}}]
["대학교회건축기금(FBA113041)",null,0,null,null,"지출 누계",{"v":359183476,"d":"359,183,476"},{"v":414815761,"d":"414,815,761"},{"$f":"J14","v":{"v":500427141,"d":"500,427,141"}}]
["국캠대학교회선교기금(FEA173001)",null,{"v":147405,"d":"147,405"}]
["이웃사랑기금(FEA183001)",null,{"v":90623173,"d":"90,623,173"}]
["유초등부발전기금(FAA213008)",null,{"v":18393529,"d":"18,393,529"}]
["기금 총액",null,{"$f":"SUM(C23:C27)","v":{"v":162820420,"d":"162,820,420 "}}]
[]
["*누적 이월금 (2023.3.1 기준 / 기금 및 전입금 제외)",null,{"v":453597137,"d":"453,597,137 "}]

{"sheet":"11월 수입 상세","index":26,"n_rows":29,"n_cols":6,"rows_kept":29,"merged":[[0,0,0,5]]}
["11월 수입 상세"]
["회계연도: 2023년도",{"$nulls":4},"(2023-11-30 현재)"]
[]
["분류항목","예산","당월","누계","집행률(%)","비고"]
["1. 주일헌금",{"v":160000000,"d":"160,000,000"},{"v":11297000,"d":"11,297,000"},{"$f":"SUM('10월 수입 상세'!D5+'11월 수입 상세'!C5)","v":{"v":114371324,"d":"114,371,324"}},{"$f":"D5/B5","v":{"v":0.714820775,"d":"71.5%"}}]
["2. 십일조",{"v":105000000,"d":"105,000,000"},{"v":8577000,"d":"8,577,000"},{"$f":"SUM('10월 수입 상세'!D6+'11월 수입 상세'!C6)","v":{"v":78728437,"d":"78,728,437"}},{"$f":"D6/B6","v":{"v":0.749794638095238,"d":"75.0%"}}]
["3. 월정헌금",{"v":145000000,"d":"145,000,000"},{"v":11270000,"d":"11,270,000"},{"$f":"SUM('10월 수입 상세'!D7+'11월 수입 상세'!C7)","v":{"v":107605000,"d":"107,605,000"}},{"v":0.742103448275862,"d":"74.2%"}]
["4. 감사헌금",{"v":35000000,"d":"35,000,000"},{"v":2792000,"d":"2,792,000"},{"$f":"SUM('10월 수입 상세'!D8+'11월 수입 상세'!C8)","v":{"v":27013000,"d":"27,013,000"}},{"v":0.7718,"d":"77.2%"}]
["5. 교육부헌금",{"$f":"SUM(B10:B14)","v":{"v":22000000,"d":"22,000,000"}},{"$f":"SUM(C10:C14)","v":{"v":2072500,"d":"2,072,500"}},{"$f":"SUM('10월 수입 상세'!D9+'11월 수입 상세'!C9)","v":{"v":14517321,"d":"14,517,321"}},{"v":0.6598782272727273,"d":"66.0%"}]
["   유치부",{"v":700000,"d":"700,000"},{"v":27000,"d":"27,000"},{"v":848049,"d":"848,049"},{"v":1.2114985714285715,"d":"121.1%"},"타 부서로 잘못 분류된 헌금 조정"]
["   초등부",{"v":1000000,"d":"1,000,000"},{"v":84500,"d":"84,500"},{"v":1205000,"d":"1,205,000"},{"v":1.205,"d":"120.5%"},"타 부서로 잘못 분류된 헌금 조정"]
["   중고등부",{"v":300000,"d":"300,000"},{"v":20000,"d":"20,000"},{"v":172722,"d":"172,722"},{"v":0.57574,"d":"57.6%"},"타 부서로 잘못 분류된 헌금 조정"]
["   대학부(신촌)",{"v":7000000,"d":"7,000,000"},{"v":1191000,"d":"1,191,000"},{"$f":"SUM('10월 수입 상세'!D13+'11월 수입 상세'!C13)","v":{"v":8309338,"d":"8,309,338"}},{"v":1.1870482857142857,"d":"118.7%"}]
["   대학부(국제)",{"v":13000000,"d":"13,000,000"},{"v":750000,"d":"750,000"},{"$f":"SUM('10월 수입 상세'!D14+'11월 수입 상세'!C14)","v":{"v":3982212,"d":"3,982,212"}},{"v":0.306324,"d":"30.6%"}]
["6. 절기헌금",{"$f":"SUM(B16:B18)","v":{"v":35000000,"d":"35,000,000"}},{"$f":"SUM(C16:C18)","v":{"v":700000,"d":"700,000"}},{"$f":"SUM('10월 수입 상세'!D15+'11월 수입 상세'!C15)","v":{"v":23815000,"d":"23,815,000"}},{"v":0.6804285714285714,"d":"68.0%"}]
["   부활절",{"v":10000000,"d":"10,000,000"},0,{"$f":"SUM('10월 수입 상세'!D16+'11월 수입 상세'!C16)","v":{"v":14256000,"d":"14,256,000"}},{"v":1.4256,"d":"142.6%"}]
["   추수감사절",{"v":10000000,"d":"10,000,000"},0,{"$f":"SUM('10월 수입 상세'!D17+'11월 수입 상세'!C17)","v":{"v":8859000,"d":"8,859,000"}},{"v":0.8859,"d":"88.6%"}]
["   성탄절",{"v":15000000,"d":"15,000,000"},{"v":700000,"d":"700,000"},{"$f":"SUM('10월 수입 상세'!D18+'11월 수입 상세'!C18)","v":{"v":700000,"d":"700,000"}},{"v":0.04666666666666667,"d":"4.7%"}]
["7. 선교헌금",{"v":5000000,"d":"5,000,000"},{"$f":"SUM(C20:C21)","v":{"v":1000,"d":"1,000"}},{"$f":"SUM('10월 수입 상세'!D19+'11월 수입 상세'!C19)","v":{"v":3871000,"d":"3,871,000"}},{"v":0.7742,"d":"77.4%"}]
["   선교헌금",{"v":2500000,"d":"2,500,000"},{"v":1000,"d":"1,000"},{"$f":"SUM('10월 수입 상세'!D20+'11월 수입 상세'!C20)","v":{"v":3871000,"d":"3,871,000"}},{"v":1.5484,"d":"154.8%"}]
["   특별선교헌금",{"v":2500000,"d":"2,500,000"},0,{"$f":"SUM('10월 수입 상세'!D21+'11월 수입 상세'!C21)","v":0},{"v":0,"d":"0.0%"}]
["8. 지정헌금",{"v":20000000,"d":"20,000,000"},{"v":440000,"d":"440,000"},{"$f":"SUM('10월 수입 상세'!D22+'11월 수입 상세'!C22)","v":{"v":13140000,"d":"13,140,000"}},{"v":0.657,"d":"65.7%"},"헌화헌금 350,000원\nGIT 후원금 90,000원"]
["9. 특별헌금(이웃사랑실천헌금 등)",{"v":13000000,"d":"13,000,000"},0,{"$f":"SUM('10월 수입 상세'!D23+'11월 수입 상세'!C23)","v":{"v":35737090,"d":"35,737,090"}},{"v":2.749006923076923,"d":"274.9%"}]
["헌금 수입 소계",{"$f":"SUM(B5,B6,B7,B8,B9,B15,B19,B22,B23)","v":{"v":540000000,"d":"540,000,000"}},{"$f":"SUM(C5,C6,C7,C8,C9,C15,C19,C22,C23)","v":{"v":37149500,"d":"37,149,500"}},{"$f":"SUM('10월 수입 상세'!D24+'11월 수입 상세'!C24)","v":{"v":418798172,"d":"418,798,172"}},{"v":0.7755521703703704,"d":"77.6%"}]
["전기이월금 전입",{"v":40000000,"d":"40,000,000"},0,{"v":40000000,"d":"40,000,000"},{"v":1,"d":"100.0%"}]
["전기이월금 추가전입",{"v":53304670,"d":"53,304,670"},0,{"v":53304670,"d":"53,304,670"}]
["헌금외 기금",null,{"v":28000000,"d":"28,000,000"},{"v":30000000,"d":"30,000,000"}]
["전월이월금",null,{"$f":"'10월 약식'!J15","v":{"v":71562331,"d":"71,562,331"}}]
["수입부 총액",{"$f":"B24+B25+B26","v":{"v":633304670,"d":"633,304,670"}},{"$f":"SUM(C24:C28)","v":{"v":136711831,"d":"136,711,831"}},{"$f":"SUM(D24:D28)","v":{"v":542102842,"d":"542,102,842"}},{"v":0.8559905961217686,"d":"85.6%"}]

{"sheet":"11월 지출 상세","index":27,"n_rows":96,"n_cols":7,"rows_kept":96,"merged":[[0,0,0,6],[1,3,1,4]]}
["11월 지출 상세"]
["회계연도: 2023년도"]
[{"$nulls":6},"(2023-11-30 현재)"]
["분류항목","예산","당월","누계","집행률(%)",null,"비고"]
["1. 예배운영비",{"$f":"SUM(B6:B9)","v":{"v":22700000,"d":"22,700,000"}},{"$f":"SUM(C6:C9)","v":{"v":1091550,"d":"1,091,550"}},{"$f":"'10월 지출 상세'!D5+'11월 지출 상세'!C5","v":{"v":11765300,"d":"11,765,300"}},{"$f":"D5/B5","v":{"v":0.518295154185022,"d":"51.8%"}},{"$f":"SUM(F6:F9)","v":0}]
["   1.1 성례예식비",{"v":1200000,"d":"1,200,000"},0,{"$f":"'10월 지출 상세'!D6+'11월 지출 상세'!C6","v":{"v":588950,"d":"588,950"}},{"$f":"D6/B6","v":{"v":0.4907916666666667,"d":"49.1%"}},{"$f":"IF($F$4=\"보정\", 보정치!E4)","v":false}]
["   1.2 주보인쇄비",{"v":4000000,"d":"4,000,000"},0,{"$f":"'10월 지출 상세'!D7+'11월 지출 상세'!C7","v":{"v":1375000,"d":"1,375,000"}},{"v":0.34375,"d":"34.4%"},{"$f":"IF($F$4=\"보정\", 보정치!E5)","v":false}]
["   1.3 강사접대비",{"v":2500000,"d":"2,500,000"},{"v":35550,"d":"35,550"},{"$f":"'10월 지출 상세'!D8+'11월 지출 상세'!C8","v":{"v":1144250,"d":"1,144,250"}},{"v":0.4577,"d":"45.8%"},{"$f":"IF($F$4=\"보정\", 보정치!E6)","v":false}]
["   1.4 예배준비비",{"$f":"SUM(B10:B12)","v":{"v":15000000,"d":"15,000,000"}},{"$f":"SUM(C10:C12)","v":{"v":1056000,"d":"1,056,000"}},{"$f":"'10월 지출 상세'!D9+'11월 지출 상세'!C9","v":{"v":8657100,"d":"8,657,100"}},{"v":0.57714,"d":"57.7%"},{"$f":"IF($F$4=\"보정\", 보정치!E7)","v":false}]
["      1.4.1 성전 꽃꽂이",{"v":10000000,"d":"10,000,000"},{"v":850000,"d":"850,000"},{"$f":"'10월 지출 상세'!D10+'11월 지출 상세'!C10","v":{"v":6200000,"d":"6,200,000"}},{"v":0.62,"d":"62.0%"},{"$f":"IF($F$4=\"보정\", 보정치!E8)","v":false}]
["      1.4.2 봉사자 식사",{"v":4000000,"d":"4,000,000"},{"v":206000,"d":"206,000"},{"$f":"'10월 지출 상세'!D11+'11월 지출 상세'!C11","v":{"v":2347300,"d":"2,347,300"}},{"v":0.586825,"d":"58.7%"},{"$f":"IF($F$4=\"보정\", 보정치!E9)","v":false}]
["      1.4.3 절기행사비",{"v":1000000,"d":"1,000,000"},0,{"$f":"'10월 지출 상세'!D12+'11월 지출 상세'!C12","v":{"v":109800,"d":"109,800"}},{"v":0.1098,"d":"11.0%"},{"$f":"IF($F$4=\"보정\", 보정치!E10)","v":false}]
["2. 교육운영비",{"$f":"SUM(B14:B21)","v":{"v":30500000,"d":"30,500,000"}},{"$f":"SUM(C14:C21)","v":{"v":580000,"d":"580,000"}},{"$f":"'10월 지출 상세'!D13+'11월 지출 상세'!C13","v":{"v":21713305,"d":"21,713,305"}},{"v":0.7119116393442623,"d":"71.2%"},{"$f":"IF($F$4=\"보정\", 보정치!E11)","v":false}]
["   2.1 주일성서연구운영비",{"v":1000000,"d":"1,000,000"},0,{"$f":"'10월 지출 상세'!D14+'11월 지출 상세'!C14","v":0},{"v":0,"d":"0.0%"},{"$f":"IF($F$4=\"보정\", 보정치!E12)","v":false}]
["   2.2 도서 및 교재",{"v":2000000,"d":"2,000,000"},0,{"$f":"'10월 지출 상세'!D15+'11월 지출 상세'!C15","v":{"v":630900,"d":"630,900"}},{"v":0.31545,"d":"31.5%"},{"$f":"IF($F$4=\"보정\", 보정치!E13)","v":false}]
["   2.3 전교인수양회 행사비",{"v":14000000,"d":"14,000,000"},0,{"$f":"'10월 지출 상세'!D16+'11월 지출 상세'!C16","v":{"v":16600990,"d":"16,600,990"}},{"v":1.185785,"d":"118.6%"},{"$f":"IF($F$4=\"보정\", 보정치!E14)","v":false}]
["   2.4 교목연수비",0,0,{"$f":"'10월 지출 상세'!D17+'11월 지출 상세'!C17","v":0},null,{"$f":"IF($F$4=\"보정\", 보정치!E15)","v":false}]
["   2.5 교역자 교육훈련비",{"v":3000000,"d":"3,000,000"},0,{"$f":"'10월 지출 상세'!D18+'11월 지출 상세'!C18","v":{"v":683140,"d":"683,140"}},{"v":0.22771333333333332,"d":"22.8%"},{"$f":"IF($F$4=\"보정\", 보정치!E16)","v":false}]
["   2.6 교사세미나/교역자workshop",{"v":3000000,"d":"3,000,000"},0,{"$f":"'10월 지출 상세'!D19+'11월 지출 상세'!C19","v":{"v":2166275,"d":"2,166,275"}},{"v":0.7220916666666667,"d":"72.2%"},{"$f":"IF($F$4=\"보정\", 보정치!E17)","v":false}]
["   2.7 교육부 운영비",{"v":7500000,"d":"7,500,000"},{"v":580000,"d":"580,000"},{"$f":"'10월 지출 상세'!D20+'11월 지출 상세'!C20","v":{"v":1632000,"d":"1,632,000"}},{"v":0.2176,"d":"21.8%"},{"$f":"IF($F$4=\"보정\", 보정치!E18)","v":false}]
["   2.8 교육운영 예비비",0,0,{"$f":"'10월 지출 상세'!D21+'11월 지출 상세'!C21","v":0},null,{"$f":"IF($F$4=\"보정\", 보정치!E19)","v":false}]
["3. 선교비",{"$f":"SUM(B23,B34,B35,B36,B37)","v":{"v":94480000,"d":"94,480,000"}},{"$f":"SUM(C23,C34:C37)","v":{"v":58317770,"d":"58,317,770"}},{"$f":"'10월 지출 상세'!D22+'11월 지출 상세'!C22","v":{"v":103810090,"d":"103,810,090"}},{"v":1.0987520110076208,"d":"109.9%"},{"$f":"SUM(F23,F32,F33,F34,F35)","v":0}]
["   3.1 학원선교",{"$f":"SUM(B24:B33)","v":{"v":50960000,"d":"50,960,000"}},{"$f":"SUM(C24:C33)","v":{"v":28528680,"d":"28,528,680"}},{"$f":"'10월 지출 상세'!D23+'11월 지출 상세'!C23","v":{"v":43000000,"d":"43,000,000"}},{"v":0.8437990580847724,"d":"84.4%"},{"$f":"SUM(F24:F31)","v":0}]
["      3.1.1 간식나눔행사(신촌)",{"v":2000000,"d":"2,000,000"},{"v":528680,"d":"528,680"},{"$f":"'10월 지출 상세'!D24+'11월 지출 상세'!C24","v":{"v":2000000,"d":"2,000,000"}},{"v":1,"d":"100.0%"},{"$f":"IF($F$4=\"보정\", 보정치!E22)","v":false}]
["      3.1.2 간식나눔행사(국제)",{"v":1000000,"d":"1,000,000"},0,{"$f":"'10월 지출 상세'!D25+'11월 지출 상세'!C25","v":0},{"v":0,"d":"0.0%"},{"$f":"IF($F$4=\"보정\", 보정치!E23)","v":false}]
["      3.1.3 교목실 점심나눔 후원",{"v":27000000,"d":"27,000,000"},{"v":27000000,"d":"27,000,000"},{"$f":"'10월 지출 상세'!D26+'11월 지출 상세'!C26","v":{"v":27000000,"d":"27,000,000"}},{"v":1,"d":"100.0%"},{"$f":"IF($F$4=\"보정\", 보정치!E24)","v":false}]
["      3.1.4 연세기독학생연합회 지원",{"v":3600000,"d":"3,600,000"},{"v":300000,"d":"300,000"},{"$f":"'10월 지출 상세'!D27+'11월 지출 상세'!C27","v":{"v":2700000,"d":"2,700,000"}},{"v":0.75,"d":"75.0%"},{"$f":"IF($F$4=\"보정\", 보정치!E25)","v":false}]
["      3.1.5 연세기독학생회찬양팀 후원",{"v":2400000,"d":"2,400,000"},{"v":200000,"d":"200,000"},{"$f":"'10월 지출 상세'!D28+'11월 지출 상세'!C28","v":{"v":1800000,"d":"1,800,000"}},{"v":0.75,"d":"75.0%"},{"$f":"IF($F$4=\"보정\", 보정치!E26)","v":false}]
["      3.1.6 YMK 후원",{"v":3600000,"d":"3,600,000"},{"v":300000,"d":"300,000"},{"$f":"'10월 지출 상세'!D29+'11월 지출 상세'!C29","v":{"v":2700000,"d":"2,700,000"}},{"v":0.75,"d":"75.0%"},{"$f":"IF($F$4=\"보정\", 보정치!E27)","v":false}]
["      3.1.7 통일한마당",{"v":2400000,"d":"2,400,000"},{"v":200000,"d":"200,000"},{"$f":"'10월 지출 상세'!D30+'11월 지출 상세'!C30","v":{"v":1800000,"d":"1,800,000"}},{"v":0.75,"d":"75.0%"},{"$f":"IF($F$4=\"보정\", 보정치!E28)","v":false}]
["      3.1.8 리틀언더우드 후원",{"v":5000000,"d":"5,000,000"},0,{"$f":"'10월 지출 상세'!D31+'11월 지출 상세'!C31","v":{"v":5000000,"d":"5,000,000"}},{"v":1,"d":"100.0%"},0]
["      3.1.9 멘토멘티프로그램",{"v":3960000,"d":"3,960,000"},0,{"$f":"'10월 지출 상세'!D32+'11월 지출 상세'!C32","v":0},{"v":0,"d":"0.0%"},0]
["      3.1.10 학원선교 기타",0,0,{"$f":"'10월 지출 상세'!D33+'11월 지출 상세'!C33","v":0},null,{"$f":"IF($F$4=\"보정\", 보정치!E31)","v":false}]
["   3.2 국외선교",{"v":4800000,"d":"4,800,000"},{"v":400000,"d":"400,000"},{"$f":"'10월 지출 상세'!D34+'11월 지출 상세'!C34","v":{"v":3600000,"d":"3,600,000"}},{"v":0.75,"d":"75.0%"},{"$f":"IF($F$4=\"보정\", 보정치!E32)","v":false},"함정희, 노규래 "]
["   3.3 이웃사랑 실천헌금",{"v":9000000,"d":"9,000,000"},0,{"$f":"'10월 지출 상세'!D35+'11월 지출 상세'!C35","v":0},{"v":0,"d":"0.0%"},{"$f":"IF($F$4=\"보정\", 보정치!E33)","v":false}]
["   3.4 지정헌금",{"v":29720000,"d":"29,720,000"},{"v":29389090,"d":"29,389,090"},{"$f":"'10월 지출 상세'!D36+'11월 지출 상세'!C36","v":{"v":57210090,"d":"57,210,090"}},{"v":1.9249693808882906,"d":"192.5%"},{"$f":"IF($F$4=\"보정\", 보정치!E34)","v":false},"점심나눔후원 23,000,000원\n수해복구후원 5,000,000원\n아미음악학교 1,000,000원\nGIT나눔의날 389,090원"]
["   3.5 선교예비금",0,0,{"$f":"'10월 지출 상세'!D37+'11월 지출 상세'!C37","v":0},null,{"$f":"IF($F$4=\"보정\", 보정치!E35)","v":false}]
["4. 친교행사운영비",{"$f":"SUM(B39:B49)-B47","v":{"v":27600000,"d":"27,600,000"}},{"$f":"SUM(C39:C46,C48:C49)","v":{"v":1249680,"d":"1,249,680"}},{"$f":"'10월 지출 상세'!D38+'11월 지출 상세'!C38","v":{"v":12608500,"d":"12,608,500"}},{"v":0.4568297101449275,"d":"45.7%"},{"$f":"SUM(F39:F49)-F47","v":0}]
["   4.1 주일공동식사",{"v":7000000,"d":"7,000,000"},{"v":521200,"d":"521,200"},{"$f":"'10월 지출 상세'!D39+'11월 지출 상세'!C39","v":{"v":4429400,"d":"4,429,400"}},{"v":0.6327714285714285,"d":"63.3%"},{"$f":"IF($F$4=\"보정\", 보정치!E37)","v":false}]
["   4.2 야외예배 행사비",0,0,{"$f":"'10월 지출 상세'!D40+'11월 지출 상세'!C40","v":0},null,{"$f":"IF($F$4=\"보정\", 보정치!E38)","v":false}]
["   4.3 경로행사비",{"v":1500000,"d":"1,500,000"},0,{"$f":"'10월 지출 상세'!D41+'11월 지출 상세'!C41","v":{"v":1500000,"d":"1,500,000"}},{"v":1,"d":"100.0%"},{"$f":"IF($F$4=\"보정\", 보정치!E39)","v":false}]
["   4.4 성탄행사비",{"v":2100000,"d":"2,100,000"},0,{"$f":"'10월 지출 상세'!D42+'11월 지출 상세'!C42","v":0},{"v":0,"d":"0.0%"},{"$f":"IF($F$4=\"보정\", 보정치!E40)","v":false}]
["   4.5 주일다과비",{"v":5000000,"d":"5,000,000"},{"v":133480,"d":"133,480"},{"$f":"'10월 지출 상세'!D43+'11월 지출 상세'!C43","v":{"v":845870,"d":"845,870"}},{"v":0.169174,"d":"16.9%"},{"$f":"IF($F$4=\"보정\", 보정치!E41)","v":false}]
["   4.6 경조비",{"v":4000000,"d":"4,000,000"},{"v":380000,"d":"380,000"},{"$f":"'10월 지출 상세'!D44+'11월 지출 상세'!C44","v":{"v":2777000,"d":"2,777,000"}},{"v":0.69425,"d":"69.4%"},{"$f":"IF($F$4=\"보정\", 보정치!E42)","v":false}]
["   4.7 교우친교비",{"v":2000000,"d":"2,000,000"},{"v":215000,"d":"215,000"},{"$f":"'10월 지출 상세'!D45+'11월 지출 상세'!C45","v":{"v":1096440,"d":"1,096,440"}},{"v":0.54822,"d":"54.8%"},{"$f":"IF($F$4=\"보정\", 보정치!E43)","v":false}]
["   4.8 홍보출판비",{"v":4000000,"d":"4,000,000"},0,{"$f":"'10월 지출 상세'!D46+'11월 지출 상세'!C46","v":{"v":1000000,"d":"1,000,000"}},{"v":0.25,"d":"25.0%"},{"$f":"IF($F$4=\"보정\", 보정치!E44)","v":false}]
["      4.8.1 대학교회 회지",{"v":4000000,"d":"4,000,000"},0,{"$f":"'10월 지출 상세'!D47+'11월 지출 상세'!C47","v":{"v":1000000,"d":"1,000,000"}},{"v":0.25,"d":"25.0%"},{"$f":"IF($F$4=\"보정\", 보정치!E45)","v":false}]
["   4.9 교회봉사자 선물",{"v":2000000,"d":"2,000,000"},0,{"$f":"'10월 지출 상세'!D48+'11월 지출 상세'!C48","v":{"v":959790,"d":"959,790"}},{"v":0.479895,"d":"48.0%"},{"$f":"IF($F$4=\"보정\", 보정치!E46)","v":false}]
["   4.10 친교행사 예비비",0,0,{"$f":"'10월 지출 상세'!D49+'11월 지출 상세'!C49","v":0},null,{"$f":"IF($F$4=\"보정\", 보정치!E47)","v":false}]
["5. 사례비",{"$f":"SUM(B51:B66,B69,B70)","v":{"v":266770000,"d":"266,770,000"}},{"$f":"SUM(C51:C66,C69:C70)","v":{"v":18992000,"d":"18,992,000"}},{"$f":"'10월 지출 상세'!D50+'11월 지출 상세'!C50","v":{"v":182084000,"d":"182,084,000"}},{"v":0.6825505116767253,"d":"68.3%"},{"$f":"SUM(F51:F70)","v":0}]
["   5.1 외부강사 설교 사례",{"v":12000000,"d":"12,000,000"},{"v":600000,"d":"600,000"},{"$f":"'10월 지출 상세'!D51+'11월 지출 상세'!C51","v":{"v":9300000,"d":"9,300,000"}},{"v":0.775,"d":"77.5%"},{"$f":"IF($F$4=\"보정\", 보정치!E47)","v":false}]
["   5.2 외부강사 설교 사례(대학부-국제)",{"v":2400000,"d":"2,400,000"},0,{"$f":"'10월 지출 상세'!D52+'11월 지출 상세'!C52","v":0},{"v":0,"d":"0.0%"},{"$f":"IF($F$4=\"보정\", 보정치!E48)","v":false}]
["   5.3 절기 예배 연주자",{"v":800000,"d":"800,000"},0,{"$f":"'10월 지출 상세'!D53+'11월 지출 상세'!C53","v":0},{"v":0,"d":"0.0%"},{"$f":"IF($F$4=\"보정\", 보정치!E49)","v":false}]
["   5.4 국악 예배 연주자",{"v":1800000,"d":"1,800,000"},0,{"$f":"'10월 지출 상세'!D54+'11월 지출 상세'!C54","v":{"v":1800000,"d":"1,800,000"}},{"v":1,"d":"100.0%"},{"$f":"IF($F$4=\"보정\", 보정치!E50)","v":false}]
["   5.5 봉헌송 사례",{"v":450000,"d":"450,000"},0,{"$f":"'10월 지출 상세'!D55+'11월 지출 상세'!C55","v":{"v":300000,"d":"300,000"}},{"v":0.6666666666666666,"d":"66.7%"},{"$f":"IF($F$4=\"보정\", 보정치!E51)","v":false}]
["   5.6 주일성서연구 강사사례",{"v":4000000,"d":"4,000,000"},0,{"$f":"'10월 지출 상세'!D56+'11월 지출 상세'!C56","v":{"v":3000000,"d":"3,000,000"}},{"v":0.75,"d":"75.0%"},{"$f":"IF($F$4=\"보정\", 보정치!E52)","v":false}]
["   5.8 담임목사 ",{"v":14400000,"d":"14,400,000"},{"v":1200000,"d":"1,200,000"},{"$f":"'10월 지출 상세'!D57+'11월 지출 상세'!C57","v":{"v":10800000,"d":"10,800,000"}},{"v":0.75,"d":"75.0%"},{"$f":"IF($F$4=\"보정\", 보정치!E53)","v":false}]
["   5.9 동역목사",{"v":12000000,"d":"12,000,000"},{"v":600000,"d":"600,000"},{"$f":"'10월 지출 상세'!D58+'11월 지출 상세'!C58","v":{"v":3800000,"d":"3,800,000"}},{"v":0.31666666666666665,"d":"31.7%"},{"$f":"IF($F$4=\"보정\", 보정치!E54)","v":false}]
["   5.10 전임교역자",{"v":100000000,"d":"100,000,000"},{"v":7500000,"d":"7,500,000"},{"$f":"'10월 지출 상세'!D59+'11월 지출 상세'!C59","v":{"v":69900000,"d":"69,900,000"}},{"v":0.699,"d":"69.9%"},{"$f":"IF($F$4=\"보정\", 보정치!E55)","v":false}]
["   5.11 성가대지휘자",{"v":12000000,"d":"12,000,000"},{"v":1000000,"d":"1,000,000"},{"$f":"'10월 지출 상세'!D60+'11월 지출 상세'!C60","v":{"v":9000000,"d":"9,000,000"}},{"v":0.75,"d":"75.0%"},{"$f":"IF($F$4=\"보정\", 보정치!E56)","v":false}]
["   5.12 오르가니스트",{"v":12000000,"d":"12,000,000"},{"v":1000000,"d":"1,000,000"},{"$f":"'10월 지출 상세'!D61+'11월 지출 상세'!C61","v":{"v":9000000,"d":"9,000,000"}},{"v":0.75,"d":"75.0%"},{"$f":"IF($F$4=\"보정\", 보정치!E57)","v":false}]
["   5.13 교육부서 담당교역자",{"v":38400000,"d":"38,400,000"},{"v":3200000,"d":"3,200,000"},{"$f":"'10월 지출 상세'!D62+'11월 지출 상세'!C62","v":{"v":26400000,"d":"26,400,000"}},{"v":0.6875,"d":"68.8%"},{"$f":"IF($F$4=\"보정\", 보정치!E58)","v":false}]
["   5.14 성인 솔리스트",{"v":23520000,"d":"23,520,000"},{"v":1960000,"d":"1,960,000"},{"$f":"'10월 지출 상세'!D63+'11월 지출 상세'!C63","v":{"v":17300000,"d":"17,300,000"}},{"v":0.7355442176870748,"d":"73.6%"},{"$f":"IF($F$4=\"보정\", 보정치!E59)","v":false}]
["   5.15 통역자",{"v":4000000,"d":"4,000,000"},{"v":300000,"d":"300,000"},{"$f":"'10월 지출 상세'!D64+'11월 지출 상세'!C64","v":{"v":2925000,"d":"2,925,000"}},{"v":0.73125,"d":"73.1%"},{"$f":"IF($F$4=\"보정\", 보정치!E60)","v":false}]
["   5.16 방송담당",{"v":12000000,"d":"12,000,000"},{"v":900000,"d":"900,000"},{"$f":"'10월 지출 상세'!D65+'11월 지출 상세'!C65","v":{"v":8775000,"d":"8,775,000"}},{"v":0.73125,"d":"73.1%"},{"$f":"IF($F$4=\"보정\", 보정치!E61)","v":false}]
["   5.17 용원 사례비 ",{"$f":"SUM(B67:B68)","v":{"v":11000000,"d":"11,000,000"}},{"$f":"SUM(C67:C68)","v":{"v":732000,"d":"732,000"}},{"$f":"'10월 지출 상세'!D66+'11월 지출 상세'!C66","v":{"v":7584000,"d":"7,584,000"}},{"v":0.6894545454545454,"d":"68.9%"},{"$f":"IF($F$4=\"보정\", 보정치!E62)","v":false}]
["      5.17.1 관리실 여사",{"v":6000000,"d":"6,000,000"},{"v":408000,"d":"408,000"},{"$f":"'10월 지출 상세'!D67+'11월 지출 상세'!C67","v":{"v":4506000,"d":"4,506,000"}},{"v":0.751,"d":"75.1%"},{"$f":"IF($F$4=\"보정\", 보정치!E63)","v":false}]
["      5.17.2 관리실 반장",{"v":5000000,"d":"5,000,000"},{"v":324000,"d":"324,000"},{"$f":"'10월 지출 상세'!D68+'11월 지출 상세'!C68","v":{"v":3078000,"d":"3,078,000"}},{"v":0.6156,"d":"61.6%"},{"$f":"IF($F$4=\"보정\", 보정치!E64)","v":false}]
["   5.18 퇴직위로금",{"v":3000000,"d":"3,000,000"},0,{"$f":"'10월 지출 상세'!D69+'11월 지출 상세'!C69","v":0},{"v":0,"d":"0.0%"},{"$f":"IF($F$4=\"보정\", 보정치!E65)","v":false}]
["   5.19 기타(교역자휴가 및 기타인건비)",{"v":3000000,"d":"3,000,000"},0,{"$f":"'10월 지출 상세'!D70+'11월 지출 상세'!C70","v":{"v":2200000,"d":"2,200,000"}},{"v":0.7333333333333333,"d":"73.3%"},{"$f":"IF($F$4=\"보정\", 보정치!E66)","v":false}]
["6. 행정운영비",{"$f":"SUM(B72:B74,B81,B82,B83,B84,B85)","v":{"v":91784670,"d":"91,784,670"}},{"$f":"SUM(C72:C74,C81:C85)","v":{"v":5965130,"d":"5,965,130"}},{"$f":"'10월 지출 상세'!D71+'11월 지출 상세'!C71","v":{"v":65905186,"d":"65,905,186"}},{"v":0.7180413243300869,"d":"71.8%"},{"$f":"SUM(F72:F74,F81,F82,F83,F84,F85)","v":0}]
["   6.1 회의 및 교회위원회",{"v":6131500,"d":"6,131,500"},{"v":211100,"d":"211,100"},{"$f":"'10월 지출 상세'!D72+'11월 지출 상세'!C72","v":{"v":3981950,"d":"3,981,950"}},{"v":0.64942509989399,"d":"64.9%"},{"$f":"IF($F$4=\"보정\", 보정치!E70)","v":false}]
["   6.2 사무운영비",{"v":13377270,"d":"13,377,270"},{"v":746400,"d":"746,400"},{"$f":"'10월 지출 상세'!D73+'11월 지출 상세'!C73","v":{"v":7237486,"d":"7,237,486"}},{"$f":"D73/B73","v":{"v":0.5410286254220779,"d":"54.1%"}},{"$f":"IF($F$4=\"보정\", 보정치!E71)","v":false}]
["   6.3 부서운영비",{"$f":"SUM(B75:B80)","v":{"v":52204200,"d":"52,204,200"}},{"$f":"SUM(C75:C80)","v":{"v":4586100,"d":"4,586,100"}},{"$f":"'10월 지출 상세'!D74+'11월 지출 상세'!C74","v":{"v":41259680,"d":"41,259,680"}},{"v":0.7903517341516583,"d":"79.0%"},{"$f":"IF($F$4=\"보정\", 보정치!E72)","v":false}]
["      6.3.1 성가대",{"v":14504200,"d":"14,504,200"},{"v":1100000,"d":"1,100,000"},{"$f":"'10월 지출 상세'!D75+'11월 지출 상세'!C75","v":{"v":11438200,"d":"11,438,200"}},{"v":0.7886129534893341,"d":"78.9%"},{"$f":"IF($F$4=\"보정\", 보정치!E73)","v":false}]
["      6.3.2 유치부",{"v":4500000,"d":"4,500,000"},{"v":400000,"d":"400,000"},{"$f":"'10월 지출 상세'!D76+'11월 지출 상세'!C76","v":{"v":3700000,"d":"3,700,000"}},{"v":0.8222222222222222,"d":"82.2%"},{"$f":"IF($F$4=\"보정\", 보정치!E74)","v":false}]
["      6.3.3 초등부",{"v":7100000,"d":"7,100,000"},{"v":600000,"d":"600,000"},{"$f":"'10월 지출 상세'!D77+'11월 지출 상세'!C77","v":{"v":5900000,"d":"5,900,000"}},{"v":0.8309859154929577,"d":"83.1%"},{"$f":"IF($F$4=\"보정\", 보정치!E75)","v":false}]
["      6.3.4 중고등부",{"v":5100000,"d":"5,100,000"},{"v":500000,"d":"500,000"},{"$f":"'10월 지출 상세'!D78+'11월 지출 상세'!C78","v":{"v":4600000,"d":"4,600,000"}},{"v":0.9019607843137255,"d":"90.2%"},{"$f":"IF($F$4=\"보정\", 보정치!E76)","v":false}]
["      6.3.5 대학부(신촌)",{"v":12000000,"d":"12,000,000"},{"v":1086100,"d":"1,086,100"},{"$f":"'10월 지출 상세'!D79+'11월 지출 상세'!C79","v":{"v":8421480,"d":"8,421,480"}},{"v":0.70179,"d":"70.2%"},{"$f":"IF($F$4=\"보정\", 보정치!E77)","v":false}]
["      6.3.6 대학부(국제)",{"v":9000000,"d":"9,000,000"},{"v":900000,"d":"900,000"},{"$f":"'10월 지출 상세'!D80+'11월 지출 상세'!C80","v":{"v":7200000,"d":"7,200,000"}},{"v":0.8,"d":"80.0%"},{"$f":"IF($F$4=\"보정\", 보정치!E78)","v":false}]
["   6.4 목회활동비",{"v":7571700,"d":"7,571,700"},{"v":153100,"d":"153,100"},{"$f":"'10월 지출 상세'!D81+'11월 지출 상세'!C81","v":{"v":5783140,"d":"5,783,140"}},{"v":0.7637835624760622,"d":"76.4%"},{"$f":"IF($F$4=\"보정\", 보정치!E79)","v":false}]
["   6.5 용품 및 수리비",{"v":5000000,"d":"5,000,000"},{"v":17300,"d":"17,300"},{"$f":"'10월 지출 상세'!D82+'11월 지출 상세'!C82","v":{"v":4521380,"d":"4,521,380"}},{"v":0.904276,"d":"90.4%"},{"$f":"IF($F$4=\"보정\", 보정치!E80)","v":false}]
["   6.6 연료비 및 통신비",{"v":4000000,"d":"4,000,000"},{"v":251130,"d":"251,130"},{"$f":"'10월 지출 상세'!D83+'11월 지출 상세'!C83","v":{"v":2031550,"d":"2,031,550"}},{"$f":"D83/B83","v":{"v":0.5078875,"d":"50.8%"}},{"$f":"IF($F$4=\"보정\", 보정치!E81)","v":false}]
["   6.7 악기구입 및 보수",{"v":3500000,"d":"3,500,000"},0,{"$f":"'10월 지출 상세'!D84+'11월 지출 상세'!C84","v":{"v":1090000,"d":"1,090,000"}},{"$f":"D84/B84","v":{"v":0.31142857142857144,"d":"31.1%"}},{"$f":"IF($F$4=\"보정\", 보정치!E82)","v":false}]
["   6.8 행정운영 예비비",0,0,{"$f":"'10월 지출 상세'!D85+'11월 지출 상세'!C85","v":0},null,{"$f":"IF($F$4=\"보정\", 보정치!E83)","v":false}]
["7. 장학금",{"$f":"SUM(B87:B91)","v":{"v":66720000,"d":"66,720,000"}},{"$f":"SUM(C87:C91)","v":{"v":840000,"d":"840,000"}},{"$f":"'10월 지출 상세'!D86+'11월 지출 상세'!C86","v":{"v":49300000,"d":"49,300,000"}},{"v":0.7389088729016786,"d":"73.9%"},{"$f":"SUM(F87:F91)","v":0}]
["   7.1 교회학교 교사",{"v":21000000,"d":"21,000,000"},0,{"$f":"'10월 지출 상세'!D87+'11월 지출 상세'!C87","v":{"v":8400000,"d":"8,400,000"}},{"v":0.4,"d":"40.0%"},{"$f":"IF($F$4=\"보정\", 보정치!E83)","v":false}]
["   7.2 신촌 대학청년부",{"v":12000000,"d":"12,000,000"},0,{"$f":"'10월 지출 상세'!D88+'11월 지출 상세'!C88","v":{"v":10500000,"d":"10,500,000"}},{"v":0.875,"d":"87.5%"},{"$f":"IF($F$4=\"보정\", 보정치!E84)","v":false}]
["   7.3 국제 대학부",{"v":9000000,"d":"9,000,000"},0,{"$f":"'10월 지출 상세'!D89+'11월 지출 상세'!C89","v":{"v":7200000,"d":"7,200,000"}},{"v":0.8,"d":"80.0%"},{"$f":"IF($F$4=\"보정\", 보정치!E85)","v":false}]
["   7.4 학생 솔리스트",{"v":16320000,"d":"16,320,000"},0,{"$f":"'10월 지출 상세'!D90+'11월 지출 상세'!C90","v":{"v":15640000,"d":"15,640,000"}},{"v":0.9583333333333334,"d":"95.8%"},{"$f":"IF($F$4=\"보정\", 보정치!E86)","v":false}]
["   7.5 기숙사지원",{"v":8400000,"d":"8,400,000"},{"v":840000,"d":"840,000"},{"$f":"'10월 지출 상세'!D91+'11월 지출 상세'!C91","v":{"v":7560000,"d":"7,560,000"}},{"v":0.9,"d":"90.0%"},{"$f":"IF($F$4=\"보정\", 보정치!E87)","v":false}]
["8. 예비비",{"v":32750000,"d":"32,750,000"},{"v":8000000,"d":"8,000,000"},{"$f":"'10월 지출 상세'!D92+'11월 지출 상세'!C92","v":{"v":17035670,"d":"17,035,670"}},{"v":0.5201731297709924,"d":"52.0%"},{"$f":"IF($F$4=\"보정\", 보정치!E90)","v":false},"수해복구후원금 500만 원\n유동식 아카이브 후원 300만 원"]
["9. 이웃사랑기금적립",0,0,{"$f":"'10월 지출 상세'!D93+'11월 지출 상세'!C93","v":{"v":36205090,"d":"36,205,090"}},{"v":0,"d":"0.0%"},{"$f":"IF($F$4=\"보정\", 보정치!E91)","v":false}]
["일반 지출 소계",{"$f":"SUM(B5,B13,B22,B38,B50,B71,B86,B92,B93)","v":{"v":633304670,"d":"633,304,670"}},{"$f":"SUM(C5,C13,C22,C38,C50,C71,C86,C92,C93)","v":{"v":95036130,"d":"95,036,130"}},{"$f":"'10월 지출 상세'!D94+'11월 지출 상세'!C94","v":{"v":500427141,"d":"500,427,141"}},{"v":0.7901838794272589,"d":"79.0%"},{"$f":"SUM(F86,F71,F50,F38,F22,F13,F5)","v":0}]
["차월이월",null,{"$f":"'11월 수입 상세'!C24-'11월 지출 상세'!C94","v":{"v":-57886630,"d":"-57,886,630"}},{"$f":"'11월 수입 상세'!D29-'11월 지출 상세'!D94","v":{"v":41675701,"d":"41,675,701"}}]
["지출부 총액",{"$f":"B94+B95","v":{"v":633304670,"d":"633,304,670"}},{"$f":"C94+C95","v":{"v":37149500,"d":"37,149,500"}},{"$f":"D94+D95","v":{"v":542102842,"d":"542,102,842"}},{"v":0.8559905961217686,"d":"85.6%"}]

{"sheet":"12월 약식","index":28,"n_rows":30,"n_cols":11,"rows_kept":30,"merged":[[0,0,0,10],[1,8,1,10],[2,0,2,4],[2,5,2,10],[3,5,3,6],[13,5,13,6],[14,5,14,6],[18,5,18,6],[19,0,19,6],[20,0,20,2],[20,5,20,8],[21,0,21,1],[22,0,22,1],[23,0,23,1],[24,0,24,1],[24,5,24,8],[25,0,25,1],[26,0,26,1]],"headers":{"header":["[첨부1]"],"footer":["","페이지"]}}
["2023년 12월 결산보고서(약식) "]
["회계년도: 2023년도",{"$nulls":7},"(2023-12-31 현재)"]
["수입의 부",{"$nulls":4},"지출의 부"]
["항 목","예산","당월 수입","수입 누계","집행률(%)","항 목",null,"예산","당월 지출","지출 누계","집행률(%)"]
["1. 주일헌금",{"$f":"'9월 수입 상세'!B5","v":{"v":160000000,"d":"160,000,000"}},{"$f":"'12월 수입 상세'!C5","v":{"v":15603000,"d":"15,603,000"}},{"$f":"VLOOKUP(A5, '12월 수입 상세'!$A$4:$F$29, 4, FALSE)","v":{"v":129974324,"d":"129,974,324"}},{"$f":"D5/B5","v":{"v":0.812339525,"d":"81.2%"}},"1. 예배운영비",null,{"$f":"'12월 지출 상세'!B5","v":{"v":22700000,"d":"22,700,000"}},{"$f":"'12월 지출 상세'!C5","v":{"v":1293300,"d":"1,293,300"}},{"$f":"VLOOKUP(F5, '12월 지출 상세'!$A$4:$G$96, 4, FALSE)","v":{"v":13058600,"d":"13,058,600"}},{"$f":"J5/H5","v":{"v":0.5752687224669604,"d":"57.5%"}}]
["2. 십일조",{"$f":"'9월 수입 상세'!B6","v":{"v":105000000,"d":"105,000,000"}},{"$f":"'12월 수입 상세'!C6","v":{"v":26185000,"d":"26,185,000"}},{"$f":"VLOOKUP(A6, '12월 수입 상세'!$A$4:$F$29, 4, FALSE)","v":{"v":104913437,"d":"104,913,437"}},{"v":0.9991755904761904,"d":"99.9%"},"2. 교육운영비",null,{"$f":"'12월 지출 상세'!B13","v":{"v":30500000,"d":"30,500,000"}},{"$f":"'12월 지출 상세'!C13","v":{"v":1068300,"d":"1,068,300"}},{"$f":"VLOOKUP(F6, '12월 지출 상세'!$A$4:$G$96, 4, FALSE)","v":{"v":22781605,"d":"22,781,605"}},{"v":0.746937868852459,"d":"74.7%"}]
["3. 월정헌금",{"$f":"'9월 수입 상세'!B7","v":{"v":145000000,"d":"145,000,000"}},{"$f":"'12월 수입 상세'!C7","v":{"v":16020000,"d":"16,020,000"}},{"$f":"VLOOKUP(A7, '12월 수입 상세'!$A$4:$F$29, 4, FALSE)","v":{"v":123625000,"d":"123,625,000"}},{"v":0.8525862068965517,"d":"85.3%"},"3. 선교비",null,{"$f":"'12월 지출 상세'!B22","v":{"v":94480000,"d":"94,480,000"}},{"$f":"'12월 지출 상세'!C22","v":{"v":1400000,"d":"1,400,000"}},{"$f":"VLOOKUP(F7, '12월 지출 상세'!$A$4:$G$96, 4, FALSE)","v":{"v":105210090,"d":"105,210,090"}},{"v":1.1135699618966977,"d":"111.4%"}]
["4. 감사헌금",{"$f":"'9월 수입 상세'!B8","v":{"v":35000000,"d":"35,000,000"}},{"$f":"'12월 수입 상세'!C8","v":{"v":8664000,"d":"8,664,000"}},{"$f":"VLOOKUP(A8, '12월 수입 상세'!$A$4:$F$29, 4, FALSE)","v":{"v":35677000,"d":"35,677,000"}},{"v":1.019342857142857,"d":"101.9%"},"4. 친교행사운영비",null,{"$f":"'12월 지출 상세'!B38","v":{"v":27600000,"d":"27,600,000"}},{"$f":"'12월 지출 상세'!C38","v":{"v":1697520,"d":"1,697,520"}},{"$f":"VLOOKUP(F8, '12월 지출 상세'!$A$4:$G$96, 4, FALSE)","v":{"v":14306020,"d":"14,306,020"}},{"v":0.5183340579710145,"d":"51.8%"}]
["5. 교육부헌금",{"$f":"'9월 수입 상세'!B9","v":{"v":22000000,"d":"22,000,000"}},{"$f":"'12월 수입 상세'!C9","v":{"v":2585000,"d":"2,585,000"}},{"$f":"VLOOKUP(A9, '12월 수입 상세'!$A$4:$F$29, 4, FALSE)","v":{"v":17102321,"d":"17,102,321"}},{"v":0.7773782272727273,"d":"77.7%"},"5. 사례비",null,{"$f":"'12월 지출 상세'!B50","v":{"v":266770000,"d":"266,770,000"}},{"$f":"'12월 지출 상세'!C50","v":{"v":23075000,"d":"23,075,000"}},{"$f":"VLOOKUP(F9, '12월 지출 상세'!$A$4:$G$96, 4, FALSE)","v":{"v":205159000,"d":"205,159,000"}},{"v":0.7690482438055254,"d":"76.9%"}]
["6. 절기헌금",{"$f":"'9월 수입 상세'!B15","v":{"v":35000000,"d":"35,000,000"}},{"$f":"'12월 수입 상세'!C15","v":{"v":9103000,"d":"9,103,000"}},{"$f":"VLOOKUP(A10, '12월 수입 상세'!$A$4:$F$29, 4, FALSE)","v":{"v":32918000,"d":"32,918,000"}},{"v":0.9405142857142857,"d":"94.1%"},"6. 행정운영비",null,{"$f":"'12월 지출 상세'!B71","v":{"v":91784670,"d":"91,784,670"}},{"$f":"'12월 지출 상세'!C71","v":{"v":7482000,"d":"7,482,000"}},{"$f":"VLOOKUP(F10, '12월 지출 상세'!$A$4:$G$96, 4, FALSE)","v":{"v":73387186,"d":"73,387,186"}},{"v":0.79955820509024,"d":"80.0%"}]
["7. 선교헌금",{"$f":"'9월 수입 상세'!B19","v":{"v":5000000,"d":"5,000,000"}},{"$f":"'12월 수입 상세'!C19","v":{"v":102050,"d":"102,050"}},{"$f":"VLOOKUP(A11, '12월 수입 상세'!$A$4:$F$29, 4, FALSE)","v":{"v":3973050,"d":"3,973,050"}},{"v":0.79461,"d":"79.5%"},"7. 장학금",null,{"$f":"'12월 지출 상세'!B86","v":{"v":66720000,"d":"66,720,000"}},{"$f":"'12월 지출 상세'!C86","v":0},{"$f":"VLOOKUP(F11, '12월 지출 상세'!$A$4:$G$96, 4, FALSE)","v":{"v":49300000,"d":"49,300,000"}},{"v":0.7389088729016786,"d":"73.9%"}]
["8. 지정헌금",{"$f":"'9월 수입 상세'!B22","v":{"v":20000000,"d":"20,000,000"}},{"$f":"'12월 수입 상세'!C22","v":{"v":994000,"d":"994,000"}},{"$f":"VLOOKUP(A12, '12월 수입 상세'!$A$4:$F$29, 4, FALSE)","v":{"v":14134000,"d":"14,134,000"}},{"v":0.7067,"d":"70.7%"},"8. 예비비",null,{"$f":"'12월 지출 상세'!B92","v":{"v":32750000,"d":"32,750,000"}},{"$f":"'12월 지출 상세'!C92","v":0},{"$f":"VLOOKUP(F12, '12월 지출 상세'!$A$4:$G$96, 4, FALSE)","v":{"v":17035670,"d":"17,035,670"}},{"v":0.5201731297709924,"d":"52.0%"}]
["9. 특별헌금(이웃사랑실천헌금 등)",{"$f":"'9월 수입 상세'!B23","v":{"v":13000000,"d":"13,000,000"}},{"$f":"'12월 수입 상세'!C23","v":0},{"$f":"VLOOKUP(A13, '12월 수입 상세'!$A$4:$F$29, 4, FALSE)","v":{"v":35737090,"d":"35,737,090"}},{"v":2.749006923076923,"d":"274.9%"},"9. 이웃사랑기금적립",null,{"$f":"'12월 지출 상세'!B93","v":0},{"$f":"'12월 지출 상세'!C93","v":0},{"$f":"VLOOKUP(F13, '12월 지출 상세'!$A$4:$G$96, 4, FALSE)","v":{"v":36205090,"d":"36,205,090"}}]
["헌금 수입 소계",{"$f":"SUM(B5:B13)","v":{"v":540000000,"d":"540,000,000"}},{"$f":"SUM(C5:C13)","v":{"v":79256050,"d":"79,256,050"}},{"$f":"SUM(D5:D13)","v":{"v":498054222,"d":"498,054,222"}},{"v":0.9223226333333333,"d":"92.2%"},"  일반 지출 소계",null,{"$f":"SUM(H5:H13)","v":{"v":633304670,"d":"633,304,670"}},{"$f":"SUM(I5:I13)","v":{"v":36016120,"d":"36,016,120"}},{"$f":"SUM(J5:J13)","v":{"v":536443261,"d":"536,443,261"}},{"$f":"J14/H14","v":{"v":0.8470540111444307,"d":"84.7%"}}]
["전기이월금 전입",{"$f":"'12월 수입 상세'!B25","v":{"v":40000000,"d":"40,000,000"}},{"$f":"'12월 수입 상세'!C25","v":0},{"$f":"'12월 수입 상세'!D25","v":{"v":40000000,"d":"40,000,000"}},{"v":1,"d":"100.0%"},"  차월이월",null,null,{"$f":"C14-I14","v":{"v":43239930,"d":"43,239,930"}},{"$f":"D19-J14","v":{"v":84915631,"d":"84,915,631"}}]
["전기이월금 추가전입",{"$f":"'12월 수입 상세'!B26","v":{"v":53304670,"d":"53,304,670"}},{"$f":"'12월 수입 상세'!C26","v":0},{"$f":"'12월 수입 상세'!D26","v":{"v":53304670,"d":"53,304,670"}}]
["헌금외 기금",null,{"$f":"'12월 수입 상세'!C27","v":{"v":28000000,"d":"28,000,000"}},{"$f":"'12월 수입 상세'!D27","v":{"v":30000000,"d":"30,000,000"}}]
["전월이월금",null,{"$f":"'12월 수입 상세'!C28","v":{"v":41675701,"d":"41,675,701"}}]
["수입부 총액",{"$f":"SUM(B14:B18)","v":{"v":633304670,"d":"633,304,670 "}},{"$f":"SUM(C14:C18)","v":{"v":148931751,"d":"148,931,751 "}},{"$f":"SUM(D14:D18)","v":{"v":621358892,"d":"621,358,892 "}},{"$f":"D19/B19","v":{"v":0.9811373915812116,"d":"98.1%"}},"  지출부 총액",null,{"$f":"SUM(H14:H18)","v":{"v":633304670,"d":"633,304,670 "}},{"$f":"SUM(I14:I18)","v":{"v":79256050,"d":"79,256,050 "}},{"$f":"SUM(J14:J18)","v":{"v":621358892,"d":"621,358,892 "}},{"$f":"J19/H19","v":{"v":0.9811373915812116,"d":"98.1%"}}]
["*지정헌금 내역(헌화헌금_840,000원, 대림절묵상집_154,000원) "]
["기금 및 이월금 현황 (2023.8.31 기준)",{"$nulls":4},"헌금 수입 및 지출 누계 비교"]
["기금명",null,"금액(이자포함)",{"$nulls":3},"2021년 12월","2022년 12월 ","2023년 12월"]
["박명윤이행자선교기금(FAA003023)",null,{"v":53656313,"d":"53,656,313"},null,null,"수입 누계",{"v":487256908,"d":"487,256,908"},{"v":468106475,"d":"468,106,475"},{"$f":"D14","v":{"v":498054222,"d":"498,054,222"}}]
["대학교회건축기금(FBA113041)",null,0,null,null,"지출 누계",{"v":407345130,"d":"407,345,130"},{"v":467156289,"d":"467,156,289"},{"$f":"J14","v":{"v":536443261,"d":"536,443,261"}}]
["국캠대학교회선교기금(FEA173001)",null,{"v":147405,"d":"147,405"}]
["이웃사랑기금(FEA183001)",null,{"v":90623173,"d":"90,623,173"}]
["유초등부발전기금(FAA213008)",null,{"v":18393529,"d":"18,393,529"}]
["기금 총액",null,{"$f":"SUM(C23:C27)","v":{"v":162820420,"d":"162,820,420 "}}]
[]
["*누적 이월금 (2023.3.1 기준 / 기금 및 전입금 제외)",null,{"v":453597137,"d":"453,597,137 "}]

{"sheet":"12월 수입 상세","index":29,"n_rows":29,"n_cols":6,"rows_kept":29,"merged":[[0,0,0,5]]}
["12월 수입 상세"]
["회계연도: 2023년도",{"$nulls":4},"(2023-12-31 현재)"]
[]
["분류항목","예산","당월","누계","집행률(%)","비고"]
["1. 주일헌금",{"v":160000000,"d":"160,000,000"},{"v":15603000,"d":"15,603,000"},{"$f":"SUM('11월 수입 상세'!D5+'12월 수입 상세'!C5)","v":{"v":129974324,"d":"129,974,324"}},{"$f":"D5/B5","v":{"v":0.812339525,"d":"81.2%"}}]
["2. 십일조",{"v":105000000,"d":"105,000,000"},{"v":26185000,"d":"26,185,000"},{"$f":"SUM('11월 수입 상세'!D6+'12월 수입 상세'!C6)","v":{"v":104913437,"d":"104,913,437"}},{"$f":"D6/B6","v":{"v":0.9991755904761904,"d":"99.9%"}}]
["3. 월정헌금",{"v":145000000,"d":"145,000,000"},{"v":16020000,"d":"16,020,000"},{"$f":"SUM('11월 수입 상세'!D7+'12월 수입 상세'!C7)","v":{"v":123625000,"d":"123,625,000"}},{"v":0.8525862068965517,"d":"85.3%"}]
["4. 감사헌금",{"v":35000000,"d":"35,000,000"},{"v":8664000,"d":"8,664,000"},{"$f":"SUM('11월 수입 상세'!D8+'12월 수입 상세'!C8)","v":{"v":35677000,"d":"35,677,000"}},{"v":1.019342857142857,"d":"101.9%"}]
["5. 교육부헌금",{"$f":"SUM(B10:B14)","v":{"v":22000000,"d":"22,000,000"}},{"$f":"SUM(C10:C14)","v":{"v":2585000,"d":"2,585,000"}},{"$f":"SUM('11월 수입 상세'!D9+'12월 수입 상세'!C9)","v":{"v":17102321,"d":"17,102,321"}},{"v":0.7773782272727273,"d":"77.7%"}]
["   유치부",{"v":700000,"d":"700,000"},{"v":75000,"d":"75,000"},{"$f":"SUM('11월 수입 상세'!D10+'12월 수입 상세'!C10)","v":{"v":923049,"d":"923,049"}},{"v":1.3186414285714285,"d":"131.9%"}]
["   초등부",{"v":1000000,"d":"1,000,000"},{"v":118000,"d":"118,000"},{"$f":"SUM('11월 수입 상세'!D11+'12월 수입 상세'!C11)","v":{"v":1323000,"d":"1,323,000"}},{"v":1.323,"d":"132.3%"}]
["   중고등부",{"v":300000,"d":"300,000"},{"v":30000,"d":"30,000"},{"$f":"SUM('11월 수입 상세'!D12+'12월 수입 상세'!C12)","v":{"v":202722,"d":"202,722"}},{"v":0.67574,"d":"67.6%"}]
["   대학부(신촌)",{"v":7000000,"d":"7,000,000"},{"v":1954000,"d":"1,954,000"},{"$f":"SUM('11월 수입 상세'!D13+'12월 수입 상세'!C13)","v":{"v":10263338,"d":"10,263,338"}},{"v":1.4661911428571428,"d":"146.6%"}]
["   대학부(국제)",{"v":13000000,"d":"13,000,000"},{"v":408000,"d":"408,000"},{"$f":"SUM('11월 수입 상세'!D14+'12월 수입 상세'!C14)","v":{"v":4390212,"d":"4,390,212"}},{"v":0.3377086153846154,"d":"33.8%"}]
["6. 절기헌금",{"$f":"SUM(B16:B18)","v":{"v":35000000,"d":"35,000,000"}},{"$f":"SUM(C16:C18)","v":{"v":9103000,"d":"9,103,000"}},{"$f":"SUM('11월 수입 상세'!D15+'12월 수입 상세'!C15)","v":{"v":32918000,"d":"32,918,000"}},{"v":0.9405142857142857,"d":"94.1%"}]
["   부활절",{"v":10000000,"d":"10,000,000"},0,{"$f":"SUM('11월 수입 상세'!D16+'12월 수입 상세'!C16)","v":{"v":14256000,"d":"14,256,000"}},{"v":1.4256,"d":"142.6%"}]
["   추수감사절",{"v":10000000,"d":"10,000,000"},0,{"$f":"SUM('11월 수입 상세'!D17+'12월 수입 상세'!C17)","v":{"v":8859000,"d":"8,859,000"}},{"v":0.8859,"d":"88.6%"}]
["   성탄절",{"v":15000000,"d":"15,000,000"},{"v":9103000,"d":"9,103,000"},{"$f":"SUM('11월 수입 상세'!D18+'12월 수입 상세'!C18)","v":{"v":9803000,"d":"9,803,000"}},{"v":0.6535333333333333,"d":"65.4%"}]
["7. 선교헌금",{"v":5000000,"d":"5,000,000"},{"$f":"SUM(C20:C21)","v":{"v":102050,"d":"102,050"}},{"$f":"SUM('11월 수입 상세'!D19+'12월 수입 상세'!C19)","v":{"v":3973050,"d":"3,973,050"}},{"v":0.79461,"d":"79.5%"}]
["   선교헌금",{"v":2500000,"d":"2,500,000"},{"v":102050,"d":"102,050"},{"$f":"SUM('11월 수입 상세'!D20+'12월 수입 상세'!C20)","v":{"v":3973050,"d":"3,973,050"}},{"v":1.58922,"d":"158.9%"}]
["   특별선교헌금",{"v":2500000,"d":"2,500,000"},0,{"$f":"SUM('11월 수입 상세'!D21+'12월 수입 상세'!C21)","v":0},{"v":0,"d":"0.0%"}]
["8. 지정헌금",{"v":20000000,"d":"20,000,000"},{"v":994000,"d":"994,000"},{"$f":"SUM('11월 수입 상세'!D22+'12월 수입 상세'!C22)","v":{"v":14134000,"d":"14,134,000"}},{"v":0.7067,"d":"70.7%"},"헌화헌금 840,000원\n대림절 묵상집 154,000원"]
["9. 특별헌금(이웃사랑실천헌금 등)",{"v":13000000,"d":"13,000,000"},0,{"$f":"SUM('11월 수입 상세'!D23+'12월 수입 상세'!C23)","v":{"v":35737090,"d":"35,737,090"}},{"v":2.749006923076923,"d":"274.9%"}]
["헌금 수입 소계",{"$f":"SUM(B5,B6,B7,B8,B9,B15,B19,B22,B23)","v":{"v":540000000,"d":"540,000,000"}},{"$f":"SUM(C5,C6,C7,C8,C9,C15,C19,C22,C23)","v":{"v":79256050,"d":"79,256,050"}},{"$f":"SUM('11월 수입 상세'!D24+'12월 수입 상세'!C24)","v":{"v":498054222,"d":"498,054,222"}},{"v":0.9223226333333333,"d":"92.2%"}]
["전기이월금 전입",{"v":40000000,"d":"40,000,000"},0,{"v":40000000,"d":"40,000,000"},{"v":1,"d":"100.0%"}]
["전기이월금 추가전입",{"v":53304670,"d":"53,304,670"},0,{"v":53304670,"d":"53,304,670"}]
["헌금외 기금",null,{"v":28000000,"d":"28,000,000"},{"v":30000000,"d":"30,000,000"}]
["전월이월금",null,{"$f":"'11월 약식'!J15","v":{"v":41675701,"d":"41,675,701"}}]
["수입부 총액",{"$f":"B24+B25+B26","v":{"v":633304670,"d":"633,304,670"}},{"$f":"SUM(C24:C28)","v":{"v":148931751,"d":"148,931,751"}},{"$f":"SUM(D24:D28)","v":{"v":621358892,"d":"621,358,892"}},{"v":0.9811373915812116,"d":"98.1%"}]

{"sheet":"12월 지출 상세","index":30,"n_rows":96,"n_cols":7,"rows_kept":96,"merged":[[0,0,0,6],[1,3,1,4]]}
["12월 지출 상세"]
["회계연도: 2023년도"]
[{"$nulls":6},"(2023-12-31 현재)"]
["분류항목","예산","당월","누계","집행률(%)",null,"비고"]
["1. 예배운영비",{"$f":"SUM(B6:B9)","v":{"v":22700000,"d":"22,700,000"}},{"$f":"SUM(C6:C9)","v":{"v":1293300,"d":"1,293,300"}},{"$f":"'11월 지출 상세'!D5+'12월 지출 상세'!C5","v":{"v":13058600,"d":"13,058,600"}},{"$f":"D5/B5","v":{"v":0.5752687224669604,"d":"57.5%"}},{"$f":"SUM(F6:F9)","v":0}]
["   1.1 성례예식비",{"v":1200000,"d":"1,200,000"},0,{"$f":"'11월 지출 상세'!D6+'12월 지출 상세'!C6","v":{"v":588950,"d":"588,950"}},{"$f":"D6/B6","v":{"v":0.4907916666666667,"d":"49.1%"}},{"$f":"IF($F$4=\"보정\", 보정치!E4)","v":false}]
["   1.2 주보인쇄비",{"v":4000000,"d":"4,000,000"},{"v":315000,"d":"315,000"},{"$f":"'11월 지출 상세'!D7+'12월 지출 상세'!C7","v":{"v":1690000,"d":"1,690,000"}},{"v":0.4225,"d":"42.3%"},{"$f":"IF($F$4=\"보정\", 보정치!E5)","v":false}]
["   1.3 강사접대비",{"v":2500000,"d":"2,500,000"},{"v":34650,"d":"34,650"},{"$f":"'11월 지출 상세'!D8+'12월 지출 상세'!C8","v":{"v":1178900,"d":"1,178,900"}},{"v":0.47156,"d":"47.2%"},{"$f":"IF($F$4=\"보정\", 보정치!E6)","v":false}]
["   1.4 예배준비비",{"$f":"SUM(B10:B12)","v":{"v":15000000,"d":"15,000,000"}},{"$f":"SUM(C10:C12)","v":{"v":943650,"d":"943,650"}},{"$f":"'11월 지출 상세'!D9+'12월 지출 상세'!C9","v":{"v":9600750,"d":"9,600,750"}},{"v":0.64005,"d":"64.0%"},{"$f":"IF($F$4=\"보정\", 보정치!E7)","v":false}]
["      1.4.1 성전 꽃꽂이",{"v":10000000,"d":"10,000,000"},{"v":600000,"d":"600,000"},{"$f":"'11월 지출 상세'!D10+'12월 지출 상세'!C10","v":{"v":6800000,"d":"6,800,000"}},{"v":0.68,"d":"68.0%"},{"$f":"IF($F$4=\"보정\", 보정치!E8)","v":false}]
["      1.4.2 봉사자 식사",{"v":4000000,"d":"4,000,000"},{"v":343650,"d":"343,650"},{"$f":"'11월 지출 상세'!D11+'12월 지출 상세'!C11","v":{"v":2690950,"d":"2,690,950"}},{"v":0.6727375,"d":"67.3%"},{"$f":"IF($F$4=\"보정\", 보정치!E9)","v":false}]
["      1.4.3 절기행사비",{"v":1000000,"d":"1,000,000"},0,{"$f":"'11월 지출 상세'!D12+'12월 지출 상세'!C12","v":{"v":109800,"d":"109,800"}},{"v":0.1098,"d":"11.0%"},{"$f":"IF($F$4=\"보정\", 보정치!E10)","v":false}]
["2. 교육운영비",{"$f":"SUM(B14:B21)","v":{"v":30500000,"d":"30,500,000"}},{"$f":"SUM(C14:C21)","v":{"v":1068300,"d":"1,068,300"}},{"$f":"'11월 지출 상세'!D13+'12월 지출 상세'!C13","v":{"v":22781605,"d":"22,781,605"}},{"v":0.746937868852459,"d":"74.7%"},{"$f":"IF($F$4=\"보정\", 보정치!E11)","v":false}]
["   2.1 주일성서연구운영비",{"v":1000000,"d":"1,000,000"},0,{"$f":"'11월 지출 상세'!D14+'12월 지출 상세'!C14","v":0},{"v":0,"d":"0.0%"},{"$f":"IF($F$4=\"보정\", 보정치!E12)","v":false}]
["   2.2 도서 및 교재",{"v":2000000,"d":"2,000,000"},{"v":1068300,"d":"1,068,300"},{"$f":"'11월 지출 상세'!D15+'12월 지출 상세'!C15","v":{"v":1699200,"d":"1,699,200"}},{"v":0.8496,"d":"85.0%"},{"$f":"IF($F$4=\"보정\", 보정치!E13)","v":false},"대림절 묵상집, 다락방 구독료"]
["   2.3 전교인수양회 행사비",{"v":14000000,"d":"14,000,000"},0,{"$f":"'11월 지출 상세'!D16+'12월 지출 상세'!C16","v":{"v":16600990,"d":"16,600,990"}},{"v":1.185785,"d":"118.6%"},{"$f":"IF($F$4=\"보정\", 보정치!E14)","v":false}]
["   2.4 교목연수비",0,0,{"$f":"'11월 지출 상세'!D17+'12월 지출 상세'!C17","v":0},null,{"$f":"IF($F$4=\"보정\", 보정치!E15)","v":false}]
["   2.5 교역자 교육훈련비",{"v":3000000,"d":"3,000,000"},0,{"$f":"'11월 지출 상세'!D18+'12월 지출 상세'!C18","v":{"v":683140,"d":"683,140"}},{"v":0.22771333333333332,"d":"22.8%"},{"$f":"IF($F$4=\"보정\", 보정치!E16)","v":false}]
["   2.6 교사세미나/교역자workshop",{"v":3000000,"d":"3,000,000"},0,{"$f":"'11월 지출 상세'!D19+'12월 지출 상세'!C19","v":{"v":2166275,"d":"2,166,275"}},{"v":0.7220916666666667,"d":"72.2%"},{"$f":"IF($F$4=\"보정\", 보정치!E17)","v":false}]
["   2.7 교육부 운영비",{"v":7500000,"d":"7,500,000"},0,{"$f":"'11월 지출 상세'!D20+'12월 지출 상세'!C20","v":{"v":1632000,"d":"1,632,000"}},{"v":0.2176,"d":"21.8%"},{"$f":"IF($F$4=\"보정\", 보정치!E18)","v":false}]
["   2.8 교육운영 예비비",0,0,{"$f":"'11월 지출 상세'!D21+'12월 지출 상세'!C21","v":0},null,{"$f":"IF($F$4=\"보정\", 보정치!E19)","v":false}]
["3. 선교비",{"$f":"SUM(B23,B34,B35,B36,B37)","v":{"v":94480000,"d":"94,480,000"}},{"$f":"SUM(C23,C34:C37)","v":{"v":1400000,"d":"1,400,000"}},{"$f":"'11월 지출 상세'!D22+'12월 지출 상세'!C22","v":{"v":105210090,"d":"105,210,090"}},{"v":1.1135699618966977,"d":"111.4%"},{"$f":"SUM(F23,F32,F33,F34,F35)","v":0}]
["   3.1 학원선교",{"$f":"SUM(B24:B33)","v":{"v":50960000,"d":"50,960,000"}},{"$f":"SUM(C24:C33)","v":{"v":1000000,"d":"1,000,000"}},{"$f":"'11월 지출 상세'!D23+'12월 지출 상세'!C23","v":{"v":44000000,"d":"44,000,000"}},{"v":0.8634222919937206,"d":"86.3%"},{"$f":"SUM(F24:F31)","v":0}]
["      3.1.1 간식나눔행사(신촌)",{"v":2000000,"d":"2,000,000"},0,{"$f":"'11월 지출 상세'!D24+'12월 지출 상세'!C24","v":{"v":2000000,"d":"2,000,000"}},{"v":1,"d":"100.0%"},{"$f":"IF($F$4=\"보정\", 보정치!E22)","v":false}]
["      3.1.2 간식나눔행사(국제)",{"v":1000000,"d":"1,000,000"},0,{"$f":"'11월 지출 상세'!D25+'12월 지출 상세'!C25","v":0},{"v":0,"d":"0.0%"},{"$f":"IF($F$4=\"보정\", 보정치!E23)","v":false}]
["      3.1.3 교목실 점심나눔 후원",{"v":27000000,"d":"27,000,000"},0,{"$f":"'11월 지출 상세'!D26+'12월 지출 상세'!C26","v":{"v":27000000,"d":"27,000,000"}},{"v":1,"d":"100.0%"},{"$f":"IF($F$4=\"보정\", 보정치!E24)","v":false}]
["      3.1.4 연세기독학생연합회 지원",{"v":3600000,"d":"3,600,000"},{"v":300000,"d":"300,000"},{"$f":"'11월 지출 상세'!D27+'12월 지출 상세'!C27","v":{"v":3000000,"d":"3,000,000"}},{"v":0.8333333333333334,"d":"83.3%"},{"$f":"IF($F$4=\"보정\", 보정치!E25)","v":false}]
["      3.1.5 연세기독학생회찬양팀 후원",{"v":2400000,"d":"2,400,000"},{"v":200000,"d":"200,000"},{"$f":"'11월 지출 상세'!D28+'12월 지출 상세'!C28","v":{"v":2000000,"d":"2,000,000"}},{"v":0.8333333333333334,"d":"83.3%"},{"$f":"IF($F$4=\"보정\", 보정치!E26)","v":false}]
["      3.1.6 YMK 후원",{"v":3600000,"d":"3,600,000"},{"v":300000,"d":"300,000"},{"$f":"'11월 지출 상세'!D29+'12월 지출 상세'!C29","v":{"v":3000000,"d":"3,000,000"}},{"v":0.8333333333333334,"d":"83.3%"},{"$f":"IF($F$4=\"보정\", 보정치!E27)","v":false}]
["      3.1.7 통일한마당",{"v":2400000,"d":"2,400,000"},{"v":200000,"d":"200,000"},{"$f":"'11월 지출 상세'!D30+'12월 지출 상세'!C30","v":{"v":2000000,"d":"2,000,000"}},{"v":0.8333333333333334,"d":"83.3%"},{"$f":"IF($F$4=\"보정\", 보정치!E28)","v":false}]
["      3.1.8 리틀언더우드 후원",{"v":5000000,"d":"5,000,000"},0,{"$f":"'11월 지출 상세'!D31+'12월 지출 상세'!C31","v":{"v":5000000,"d":"5,000,000"}},{"v":1,"d":"100.0%"},0]
["      3.1.9 멘토멘티프로그램",{"v":3960000,"d":"3,960,000"},0,{"$f":"'11월 지출 상세'!D32+'12월 지출 상세'!C32","v":0},{"v":0,"d":"0.0%"},0]
["      3.1.10 학원선교 기타",0,0,{"$f":"'11월 지출 상세'!D33+'12월 지출 상세'!C33","v":0},null,{"$f":"IF($F$4=\"보정\", 보정치!E31)","v":false}]
["   3.2 국외선교",{"v":4800000,"d":"4,800,000"},{"v":400000,"d":"400,000"},{"$f":"'11월 지출 상세'!D34+'12월 지출 상세'!C34","v":{"v":4000000,"d":"4,000,000"}},{"v":0.8333333333333334,"d":"83.3%"},{"$f":"IF($F$4=\"보정\", 보정치!E32)","v":false},"함정희, 노규래 "]
["   3.3 이웃사랑 실천헌금",{"v":9000000,"d":"9,000,000"},0,{"$f":"'11월 지출 상세'!D35+'12월 지출 상세'!C35","v":0},{"v":0,"d":"0.0%"},{"$f":"IF($F$4=\"보정\", 보정치!E33)","v":false}]
["   3.4 지정헌금",{"v":29720000,"d":"29,720,000"},0,{"$f":"'11월 지출 상세'!D36+'12월 지출 상세'!C36","v":{"v":57210090,"d":"57,210,090"}},{"v":1.9249693808882906,"d":"192.5%"},{"$f":"IF($F$4=\"보정\", 보정치!E34)","v":false}]
["   3.5 선교예비금",0,0,{"$f":"'11월 지출 상세'!D37+'12월 지출 상세'!C37","v":0},null,{"$f":"IF($F$4=\"보정\", 보정치!E35)","v":false}]
["4. 친교행사운영비",{"$f":"SUM(B39:B49)-B47","v":{"v":27600000,"d":"27,600,000"}},{"$f":"SUM(C39:C46,C48:C49)","v":{"v":1697520,"d":"1,697,520"}},{"$f":"'11월 지출 상세'!D38+'12월 지출 상세'!C38","v":{"v":14306020,"d":"14,306,020"}},{"v":0.5183340579710145,"d":"51.8%"},{"$f":"SUM(F39:F49)-F47","v":0}]
["   4.1 주일공동식사",{"v":7000000,"d":"7,000,000"},0,{"$f":"'11월 지출 상세'!D39+'12월 지출 상세'!C39","v":{"v":4429400,"d":"4,429,400"}},{"v":0.6327714285714285,"d":"63.3%"},{"$f":"IF($F$4=\"보정\", 보정치!E37)","v":false}]
["   4.2 야외예배 행사비",0,0,{"$f":"'11월 지출 상세'!D40+'12월 지출 상세'!C40","v":0},null,{"$f":"IF($F$4=\"보정\", 보정치!E38)","v":false}]
["   4.3 경로행사비",{"v":1500000,"d":"1,500,000"},0,{"$f":"'11월 지출 상세'!D41+'12월 지출 상세'!C41","v":{"v":1500000,"d":"1,500,000"}},{"v":1,"d":"100.0%"},{"$f":"IF($F$4=\"보정\", 보정치!E39)","v":false}]
["   4.4 성탄행사비",{"v":2100000,"d":"2,100,000"},{"v":125000,"d":"125,000"},{"$f":"'11월 지출 상세'!D42+'12월 지출 상세'!C42","v":{"v":125000,"d":"125,000"}},{"v":0.05952380952380952,"d":"6.0%"},{"$f":"IF($F$4=\"보정\", 보정치!E40)","v":false},"성탄음악회 악보구입비"]
["   4.5 주일다과비",{"v":5000000,"d":"5,000,000"},{"v":75420,"d":"75,420"},{"$f":"'11월 지출 상세'!D43+'12월 지출 상세'!C43","v":{"v":921290,"d":"921,290"}},{"v":0.184258,"d":"18.4%"},{"$f":"IF($F$4=\"보정\", 보정치!E41)","v":false}]
["   4.6 경조비",{"v":4000000,"d":"4,000,000"},{"v":497100,"d":"497,100"},{"$f":"'11월 지출 상세'!D44+'12월 지출 상세'!C44","v":{"v":3274100,"d":"3,274,100"}},{"v":0.818525,"d":"81.9%"},{"$f":"IF($F$4=\"보정\", 보정치!E42)","v":false}]
["   4.7 교우친교비",{"v":2000000,"d":"2,000,000"},0,{"$f":"'11월 지출 상세'!D45+'12월 지출 상세'!C45","v":{"v":1096440,"d":"1,096,440"}},{"v":0.54822,"d":"54.8%"},{"$f":"IF($F$4=\"보정\", 보정치!E43)","v":false}]
["   4.8 홍보출판비",{"v":4000000,"d":"4,000,000"},{"$f":"C47","v":{"v":1000000,"d":"1,000,000"}},{"$f":"'11월 지출 상세'!D46+'12월 지출 상세'!C46","v":{"v":2000000,"d":"2,000,000"}},{"v":0.5,"d":"50.0%"},{"$f":"IF($F$4=\"보정\", 보정치!E44)","v":false}]
["      4.8.1 대학교회 회지",{"v":4000000,"d":"4,000,000"},{"v":1000000,"d":"1,000,000"},{"$f":"'11월 지출 상세'!D47+'12월 지출 상세'!C47","v":{"v":2000000,"d":"2,000,000"}},{"v":0.5,"d":"50.0%"},{"$f":"IF($F$4=\"보정\", 보정치!E45)","v":false}]
["   4.9 교회봉사자 선물",{"v":2000000,"d":"2,000,000"},0,{"$f":"'11월 지출 상세'!D48+'12월 지출 상세'!C48","v":{"v":959790,"d":"959,790"}},{"v":0.479895,"d":"48.0%"},{"$f":"IF($F$4=\"보정\", 보정치!E46)","v":false}]
["   4.10 친교행사 예비비",0,0,{"$f":"'11월 지출 상세'!D49+'12월 지출 상세'!C49","v":0},null,{"$f":"IF($F$4=\"보정\", 보정치!E47)","v":false}]
["5. 사례비",{"$f":"SUM(B51:B66,B69,B70)","v":{"v":266770000,"d":"266,770,000"}},{"$f":"SUM(C51:C66,C69:C70)","v":{"v":23075000,"d":"23,075,000"}},{"$f":"'11월 지출 상세'!D50+'12월 지출 상세'!C50","v":{"v":205159000,"d":"205,159,000"}},{"v":0.7690482438055254,"d":"76.9%"},{"$f":"SUM(F51:F70)","v":0}]
["   5.1 외부강사 설교 사례",{"v":12000000,"d":"12,000,000"},{"v":1500000,"d":"1,500,000"},{"$f":"'11월 지출 상세'!D51+'12월 지출 상세'!C51","v":{"v":10800000,"d":"10,800,000"}},{"v":0.9,"d":"90.0%"},{"$f":"IF($F$4=\"보정\", 보정치!E47)","v":false}]
["   5.2 외부강사 설교 사례(대학부-국제)",{"v":2400000,"d":"2,400,000"},{"v":200000,"d":"200,000"},{"$f":"'11월 지출 상세'!D52+'12월 지출 상세'!C52","v":{"v":200000,"d":"200,000"}},{"v":0.08333333333333333,"d":"8.3%"},{"$f":"IF($F$4=\"보정\", 보정치!E48)","v":false}]
["   5.3 절기 예배 연주자",{"v":800000,"d":"800,000"},0,{"$f":"'11월 지출 상세'!D53+'12월 지출 상세'!C53","v":0},{"v":0,"d":"0.0%"},{"$f":"IF($F$4=\"보정\", 보정치!E49)","v":false}]
["   5.4 국악 예배 연주자",{"v":1800000,"d":"1,800,000"},0,{"$f":"'11월 지출 상세'!D54+'12월 지출 상세'!C54","v":{"v":1800000,"d":"1,800,000"}},{"v":1,"d":"100.0%"},{"$f":"IF($F$4=\"보정\", 보정치!E50)","v":false}]
["   5.5 봉헌송 사례",{"v":450000,"d":"450,000"},0,{"$f":"'11월 지출 상세'!D55+'12월 지출 상세'!C55","v":{"v":300000,"d":"300,000"}},{"v":0.6666666666666666,"d":"66.7%"},{"$f":"IF($F$4=\"보정\", 보정치!E51)","v":false}]
["   5.6 주일성서연구 강사사례",{"v":4000000,"d":"4,000,000"},{"v":1000000,"d":"1,000,000"},{"$f":"'11월 지출 상세'!D56+'12월 지출 상세'!C56","v":{"v":4000000,"d":"4,000,000"}},{"v":1,"d":"100.0%"},{"$f":"IF($F$4=\"보정\", 보정치!E52)","v":false}]
["   5.8 담임목사 ",{"v":14400000,"d":"14,400,000"},{"v":1200000,"d":"1,200,000"},{"$f":"'11월 지출 상세'!D57+'12월 지출 상세'!C57","v":{"v":12000000,"d":"12,000,000"}},{"v":0.8333333333333334,"d":"83.3%"},{"$f":"IF($F$4=\"보정\", 보정치!E53)","v":false}]
["   5.9 동역목사",{"v":12000000,"d":"12,000,000"},{"v":400000,"d":"400,000"},{"$f":"'11월 지출 상세'!D58+'12월 지출 상세'!C58","v":{"v":4200000,"d":"4,200,000"}},{"v":0.35,"d":"35.0%"},{"$f":"IF($F$4=\"보정\", 보정치!E54)","v":false}]
["   5.10 전임교역자",{"v":100000000,"d":"100,000,000"},{"v":10000000,"d":"10,000,000"},{"$f":"'11월 지출 상세'!D59+'12월 지출 상세'!C59","v":{"v":79900000,"d":"79,900,000"}},{"v":0.799,"d":"79.9%"},{"$f":"IF($F$4=\"보정\", 보정치!E55)","v":false},"전임교역자 퇴직금 정산"]
["   5.11 성가대지휘자",{"v":12000000,"d":"12,000,000"},{"v":1000000,"d":"1,000,000"},{"$f":"'11월 지출 상세'!D60+'12월 지출 상세'!C60","v":{"v":10000000,"d":"10,000,000"}},{"v":0.8333333333333334,"d":"83.3%"},{"$f":"IF($F$4=\"보정\", 보정치!E56)","v":false}]
["   5.12 오르가니스트",{"v":12000000,"d":"12,000,000"},{"v":1000000,"d":"1,000,000"},{"$f":"'11월 지출 상세'!D61+'12월 지출 상세'!C61","v":{"v":10000000,"d":"10,000,000"}},{"v":0.8333333333333334,"d":"83.3%"},{"$f":"IF($F$4=\"보정\", 보정치!E57)","v":false}]
["   5.13 교육부서 담당교역자",{"v":38400000,"d":"38,400,000"},{"v":2400000,"d":"2,400,000"},{"$f":"'11월 지출 상세'!D62+'12월 지출 상세'!C62","v":{"v":28800000,"d":"28,800,000"}},{"v":0.75,"d":"75.0%"},{"$f":"IF($F$4=\"보정\", 보정치!E58)","v":false}]
["   5.14 성인 솔리스트",{"v":23520000,"d":"23,520,000"},{"v":1960000,"d":"1,960,000"},{"$f":"'11월 지출 상세'!D63+'12월 지출 상세'!C63","v":{"v":19260000,"d":"19,260,000"}},{"v":0.8188775510204082,"d":"81.9%"},{"$f":"IF($F$4=\"보정\", 보정치!E59)","v":false}]
["   5.15 통역자",{"v":4000000,"d":"4,000,000"},{"v":375000,"d":"375,000"},{"$f":"'11월 지출 상세'!D64+'12월 지출 상세'!C64","v":{"v":3300000,"d":"3,300,000"}},{"v":0.825,"d":"82.5%"},{"$f":"IF($F$4=\"보정\", 보정치!E60)","v":false}]
["   5.16 방송담당",{"v":12000000,"d":"12,000,000"},{"v":1125000,"d":"1,125,000"},{"$f":"'11월 지출 상세'!D65+'12월 지출 상세'!C65","v":{"v":9900000,"d":"9,900,000"}},{"v":0.825,"d":"82.5%"},{"$f":"IF($F$4=\"보정\", 보정치!E61)","v":false}]
["   5.17 용원 사례비 ",{"$f":"SUM(B67:B68)","v":{"v":11000000,"d":"11,000,000"}},{"$f":"SUM(C67:C68)","v":{"v":915000,"d":"915,000"}},{"$f":"'11월 지출 상세'!D66+'12월 지출 상세'!C66","v":{"v":8499000,"d":"8,499,000"}},{"v":0.7726363636363637,"d":"77.3%"},{"$f":"IF($F$4=\"보정\", 보정치!E62)","v":false}]
["      5.17.1 관리실 여사",{"v":6000000,"d":"6,000,000"},{"v":510000,"d":"510,000"},{"$f":"'11월 지출 상세'!D67+'12월 지출 상세'!C67","v":{"v":5016000,"d":"5,016,000"}},{"v":0.836,"d":"83.6%"},{"$f":"IF($F$4=\"보정\", 보정치!E63)","v":false}]
["      5.17.2 관리실 반장",{"v":5000000,"d":"5,000,000"},{"v":405000,"d":"405,000"},{"$f":"'11월 지출 상세'!D68+'12월 지출 상세'!C68","v":{"v":3483000,"d":"3,483,000"}},{"v":0.6966,"d":"69.7%"},{"$f":"IF($F$4=\"보정\", 보정치!E64)","v":false}]
["   5.18 퇴직위로금",{"v":3000000,"d":"3,000,000"},0,{"$f":"'11월 지출 상세'!D69+'12월 지출 상세'!C69","v":0},{"v":0,"d":"0.0%"},{"$f":"IF($F$4=\"보정\", 보정치!E65)","v":false}]
["   5.19 기타(교역자휴가 및 기타인건비)",{"v":3000000,"d":"3,000,000"},0,{"$f":"'11월 지출 상세'!D70+'12월 지출 상세'!C70","v":{"v":2200000,"d":"2,200,000"}},{"v":0.7333333333333333,"d":"73.3%"},{"$f":"IF($F$4=\"보정\", 보정치!E66)","v":false}]
["6. 행정운영비",{"$f":"SUM(B72:B74,B81,B82,B83,B84,B85)","v":{"v":91784670,"d":"91,784,670"}},{"$f":"SUM(C72:C74,C81:C85)","v":{"v":7482000,"d":"7,482,000"}},{"$f":"'11월 지출 상세'!D71+'12월 지출 상세'!C71","v":{"v":73387186,"d":"73,387,186"}},{"v":0.79955820509024,"d":"80.0%"},{"$f":"SUM(F72:F74,F81,F82,F83,F84,F85)","v":0}]
["   6.1 회의 및 교회위원회",{"v":6131500,"d":"6,131,500"},{"v":670160,"d":"670,160"},{"$f":"'11월 지출 상세'!D72+'12월 지출 상세'!C72","v":{"v":4652110,"d":"4,652,110"}},{"v":0.758722987849629,"d":"75.9%"},{"$f":"IF($F$4=\"보정\", 보정치!E70)","v":false}]
["   6.2 사무운영비",{"v":13377270,"d":"13,377,270"},{"v":651830,"d":"651,830"},{"$f":"'11월 지출 상세'!D73+'12월 지출 상세'!C73","v":{"v":7889316,"d":"7,889,316"}},{"$f":"D73/B73","v":{"v":0.5897553088186155,"d":"59.0%"}},{"$f":"IF($F$4=\"보정\", 보정치!E71)","v":false}]
["   6.3 부서운영비",{"$f":"SUM(B75:B80)","v":{"v":52204200,"d":"52,204,200"}},{"$f":"SUM(C75:C80)","v":{"v":4985500,"d":"4,985,500"}},{"$f":"'11월 지출 상세'!D74+'12월 지출 상세'!C74","v":{"v":46245180,"d":"46,245,180"}},{"v":0.8858517130805568,"d":"88.6%"},{"$f":"IF($F$4=\"보정\", 보정치!E72)","v":false}]
["      6.3.1 성가대",{"v":14504200,"d":"14,504,200"},{"v":1375000,"d":"1,375,000"},{"$f":"'11월 지출 상세'!D75+'12월 지출 상세'!C75","v":{"v":12813200,"d":"12,813,200"}},{"v":0.8834130803491402,"d":"88.3%"},{"$f":"IF($F$4=\"보정\", 보정치!E73)","v":false}]
["      6.3.2 유치부",{"v":4500000,"d":"4,500,000"},{"v":400000,"d":"400,000"},{"$f":"'11월 지출 상세'!D76+'12월 지출 상세'!C76","v":{"v":4100000,"d":"4,100,000"}},{"v":0.9111111111111111,"d":"91.1%"},{"$f":"IF($F$4=\"보정\", 보정치!E74)","v":false}]
["      6.3.3 초등부",{"v":7100000,"d":"7,100,000"},{"v":600000,"d":"600,000"},{"$f":"'11월 지출 상세'!D77+'12월 지출 상세'!C77","v":{"v":6500000,"d":"6,500,000"}},{"v":0.9154929577464789,"d":"91.5%"},{"$f":"IF($F$4=\"보정\", 보정치!E75)","v":false}]
["      6.3.4 중고등부",{"v":5100000,"d":"5,100,000"},{"v":500000,"d":"500,000"},{"$f":"'11월 지출 상세'!D78+'12월 지출 상세'!C78","v":{"v":5100000,"d":"5,100,000"}},{"v":1,"d":"100.0%"},{"$f":"IF($F$4=\"보정\", 보정치!E76)","v":false}]
["      6.3.5 대학부(신촌)",{"v":12000000,"d":"12,000,000"},{"v":1210500,"d":"1,210,500"},{"$f":"'11월 지출 상세'!D79+'12월 지출 상세'!C79","v":{"v":9631980,"d":"9,631,980"}},{"v":0.802665,"d":"80.3%"},{"$f":"IF($F$4=\"보정\", 보정치!E77)","v":false}]
["      6.3.6 대학부(국제)",{"v":9000000,"d":"9,000,000"},{"v":900000,"d":"900,000"},{"$f":"'11월 지출 상세'!D80+'12월 지출 상세'!C80","v":{"v":8100000,"d":"8,100,000"}},{"v":0.9,"d":"90.0%"},{"$f":"IF($F$4=\"보정\", 보정치!E78)","v":false}]
["   6.4 목회활동비",{"v":7571700,"d":"7,571,700"},{"v":409900,"d":"409,900"},{"$f":"'11월 지출 상세'!D81+'12월 지출 상세'!C81","v":{"v":6193040,"d":"6,193,040"}},{"v":0.8179193576079348,"d":"81.8%"},{"$f":"IF($F$4=\"보정\", 보정치!E79)","v":false}]
["   6.5 용품 및 수리비",{"v":5000000,"d":"5,000,000"},{"v":100900,"d":"100,900"},{"$f":"'11월 지출 상세'!D82+'12월 지출 상세'!C82","v":{"v":4622280,"d":"4,622,280"}},{"v":0.924456,"d":"92.4%"},{"$f":"IF($F$4=\"보정\", 보정치!E80)","v":false}]
["   6.6 연료비 및 통신비",{"v":4000000,"d":"4,000,000"},{"v":663710,"d":"663,710"},{"$f":"'11월 지출 상세'!D83+'12월 지출 상세'!C83","v":{"v":2695260,"d":"2,695,260"}},{"$f":"D83/B83","v":{"v":0.673815,"d":"67.4%"}},{"$f":"IF($F$4=\"보정\", 보정치!E81)","v":false}]
["   6.7 악기구입 및 보수",{"v":3500000,"d":"3,500,000"},0,{"$f":"'11월 지출 상세'!D84+'12월 지출 상세'!C84","v":{"v":1090000,"d":"1,090,000"}},{"$f":"D84/B84","v":{"v":0.31142857142857144,"d":"31.1%"}},{"$f":"IF($F$4=\"보정\", 보정치!E82)","v":false}]
["   6.8 행정운영 예비비",0,0,{"$f":"'11월 지출 상세'!D85+'12월 지출 상세'!C85","v":0},null,{"$f":"IF($F$4=\"보정\", 보정치!E83)","v":false}]
["7. 장학금",{"$f":"SUM(B87:B91)","v":{"v":66720000,"d":"66,720,000"}},{"$f":"SUM(C87:C91)","v":0},{"$f":"'11월 지출 상세'!D86+'12월 지출 상세'!C86","v":{"v":49300000,"d":"49,300,000"}},{"v":0.7389088729016786,"d":"73.9%"},{"$f":"SUM(F87:F91)","v":0}]
["   7.1 교회학교 교사",{"v":21000000,"d":"21,000,000"},0,{"$f":"'11월 지출 상세'!D87+'12월 지출 상세'!C87","v":{"v":8400000,"d":"8,400,000"}},{"v":0.4,"d":"40.0%"},{"$f":"IF($F$4=\"보정\", 보정치!E83)","v":false}]
["   7.2 신촌 대학청년부",{"v":12000000,"d":"12,000,000"},0,{"$f":"'11월 지출 상세'!D88+'12월 지출 상세'!C88","v":{"v":10500000,"d":"10,500,000"}},{"v":0.875,"d":"87.5%"},{"$f":"IF($F$4=\"보정\", 보정치!E84)","v":false}]
["   7.3 국제 대학부",{"v":9000000,"d":"9,000,000"},0,{"$f":"'11월 지출 상세'!D89+'12월 지출 상세'!C89","v":{"v":7200000,"d":"7,200,000"}},{"v":0.8,"d":"80.0%"},{"$f":"IF($F$4=\"보정\", 보정치!E85)","v":false}]
["   7.4 학생 솔리스트",{"v":16320000,"d":"16,320,000"},0,{"$f":"'11월 지출 상세'!D90+'12월 지출 상세'!C90","v":{"v":15640000,"d":"15,640,000"}},{"v":0.9583333333333334,"d":"95.8%"},{"$f":"IF($F$4=\"보정\", 보정치!E86)","v":false}]
["   7.5 기숙사지원",{"v":8400000,"d":"8,400,000"},0,{"$f":"'11월 지출 상세'!D91+'12월 지출 상세'!C91","v":{"v":7560000,"d":"7,560,000"}},{"v":0.9,"d":"90.0%"},{"$f":"IF($F$4=\"보정\", 보정치!E87)","v":false}]
["8. 예비비",{"v":32750000,"d":"32,750,000"},0,{"$f":"'11월 지출 상세'!D92+'12월 지출 상세'!C92","v":{"v":17035670,"d":"17,035,670"}},{"v":0.5201731297709924,"d":"52.0%"},{"$f":"IF($F$4=\"보정\", 보정치!E90)","v":false}]
["9. 이웃사랑기금적립",0,0,{"$f":"'11월 지출 상세'!D93+'12월 지출 상세'!C93","v":{"v":36205090,"d":"36,205,090"}},{"v":0,"d":"0.0%"},{"$f":"IF($F$4=\"보정\", 보정치!E91)","v":false}]
["일반 지출 소계",{"$f":"SUM(B5,B13,B22,B38,B50,B71,B86,B92,B93)","v":{"v":633304670,"d":"633,304,670"}},{"$f":"SUM(C5,C13,C22,C38,C50,C71,C86,C92,C93)","v":{"v":36016120,"d":"36,016,120"}},{"$f":"'11월 지출 상세'!D94+'12월 지출 상세'!C94","v":{"v":536443261,"d":"536,443,261"}},{"v":0.8470540111444307,"d":"84.7%"},{"$f":"SUM(F86,F71,F50,F38,F22,F13,F5)","v":0}]
["차월이월",null,{"$f":"'12월 수입 상세'!C24-'12월 지출 상세'!C94","v":{"v":43239930,"d":"43,239,930"}},{"$f":"'12월 수입 상세'!D29-'12월 지출 상세'!D94","v":{"v":84915631,"d":"84,915,631"}}]
["지출부 총액",{"$f":"B94+B95","v":{"v":633304670,"d":"633,304,670"}},{"$f":"C94+C95","v":{"v":79256050,"d":"79,256,050"}},{"$f":"D94+D95","v":{"v":621358892,"d":"621,358,892"}},{"v":0.9811373915812116,"d":"98.1%"}]

{"sheet":"1월 약식","index":31,"n_rows":30,"n_cols":11,"rows_kept":30,"merged":[[0,0,0,10],[1,8,1,10],[2,0,2,4],[2,5,2,10],[3,5,3,6],[13,5,13,6],[14,5,14,6],[18,5,18,6],[19,0,19,6],[20,0,20,2],[20,5,20,8],[21,0,21,1],[22,0,22,1],[23,0,23,1],[24,0,24,1],[24,5,24,8],[25,0,25,1],[26,0,26,1]],"headers":{"header":["[첨부1]"],"footer":["","페이지"]}}
["2023년 1월 결산보고서(약식) "]
["회계년도: 2023년도",{"$nulls":7},"(2023-1-31 현재)"]
["수입의 부",{"$nulls":4},"지출의 부"]
["항 목","예산","당월 수입","수입 누계","집행률(%)","항 목",null,"예산","당월 지출","지출 누계","집행률(%)"]
["1. 주일헌금",{"$f":"'9월 수입 상세'!B5","v":{"v":160000000,"d":"160,000,000"}},{"$f":"'1월 수입 상세'!C5","v":{"v":9769900,"d":"9,769,900"}},{"$f":"VLOOKUP(A5, '1월 수입 상세'!$A$4:$F$29, 4, FALSE)","v":{"v":139744224,"d":"139,744,224"}},{"$f":"D5/B5","v":{"v":0.8734014,"d":"87.3%"}},"1. 예배운영비",null,{"$f":"'1월 지출 상세'!B5","v":{"v":22700000,"d":"22,700,000"}},{"$f":"'1월 지출 상세'!C5","v":{"v":2486150,"d":"2,486,150"}},{"$f":"VLOOKUP(F5, '1월 지출 상세'!$A$4:$G$96, 4, FALSE)","v":{"v":15544750,"d":"15,544,750"}},{"$f":"J5/H5","v":{"v":0.6847907488986784,"d":"68.5%"}}]
["2. 십일조",{"$f":"'9월 수입 상세'!B6","v":{"v":105000000,"d":"105,000,000"}},{"$f":"'1월 수입 상세'!C6","v":{"v":8532000,"d":"8,532,000"}},{"$f":"VLOOKUP(A6, '1월 수입 상세'!$A$4:$F$29, 4, FALSE)","v":{"v":113445437,"d":"113,445,437"}},{"v":1.0804327333333332,"d":"108.0%"},"2. 교육운영비",null,{"$f":"'1월 지출 상세'!B13","v":{"v":30500000,"d":"30,500,000"}},{"$f":"'1월 지출 상세'!C13","v":{"v":520000,"d":"520,000"}},{"$f":"VLOOKUP(F6, '1월 지출 상세'!$A$4:$G$96, 4, FALSE)","v":{"v":23301605,"d":"23,301,605"}},{"v":0.7639870491803279,"d":"76.4%"}]
["3. 월정헌금",{"$f":"'9월 수입 상세'!B7","v":{"v":145000000,"d":"145,000,000"}},{"$f":"'1월 수입 상세'!C7","v":{"v":9850000,"d":"9,850,000"}},{"$f":"VLOOKUP(A7, '1월 수입 상세'!$A$4:$F$29, 4, FALSE)","v":{"v":133475000,"d":"133,475,000"}},{"v":0.9205172413793103,"d":"92.1%"},"3. 선교비",null,{"$f":"'1월 지출 상세'!B22","v":{"v":94480000,"d":"94,480,000"}},{"$f":"'1월 지출 상세'!C22","v":{"v":1868300,"d":"1,868,300"}},{"$f":"VLOOKUP(F7, '1월 지출 상세'!$A$4:$G$96, 4, FALSE)","v":{"v":107078390,"d":"107,078,390"}},{"v":1.133344517358171,"d":"113.3%"}]
["4. 감사헌금",{"$f":"'9월 수입 상세'!B8","v":{"v":35000000,"d":"35,000,000"}},{"$f":"'1월 수입 상세'!C8","v":{"v":3691000,"d":"3,691,000"}},{"$f":"VLOOKUP(A8, '1월 수입 상세'!$A$4:$F$29, 4, FALSE)","v":{"v":39368000,"d":"39,368,000"}},{"v":1.1248,"d":"112.5%"},"4. 친교행사운영비",null,{"$f":"'1월 지출 상세'!B38","v":{"v":27600000,"d":"27,600,000"}},{"$f":"'1월 지출 상세'!C38","v":{"v":3721350,"d":"3,721,350"}},{"$f":"VLOOKUP(F8, '1월 지출 상세'!$A$4:$G$96, 4, FALSE)","v":{"v":18027370,"d":"18,027,370"}},{"v":0.6531655797101449,"d":"65.3%"}]
["5. 교육부헌금",{"$f":"'9월 수입 상세'!B9","v":{"v":22000000,"d":"22,000,000"}},{"$f":"'1월 수입 상세'!C9","v":{"v":1943000,"d":"1,943,000"}},{"$f":"VLOOKUP(A9, '1월 수입 상세'!$A$4:$F$29, 4, FALSE)","v":{"v":19045321,"d":"19,045,321"}},{"v":0.8656964090909091,"d":"86.6%"},"5. 사례비",null,{"$f":"'1월 지출 상세'!B50","v":{"v":266770000,"d":"266,770,000"}},{"$f":"'1월 지출 상세'!C50","v":{"v":22106000,"d":"22,106,000"}},{"$f":"VLOOKUP(F9, '1월 지출 상세'!$A$4:$G$96, 4, FALSE)","v":{"v":227265000,"d":"227,265,000"}},{"v":0.8519136334670315,"d":"85.2%"}]
["6. 절기헌금",{"$f":"'9월 수입 상세'!B15","v":{"v":35000000,"d":"35,000,000"}},{"$f":"'1월 수입 상세'!C15","v":0},{"$f":"VLOOKUP(A10, '1월 수입 상세'!$A$4:$F$29, 4, FALSE)","v":{"v":32918000,"d":"32,918,000"}},{"v":0.9405142857142857,"d":"94.1%"},"6. 행정운영비",null,{"$f":"'1월 지출 상세'!B71","v":{"v":91784670,"d":"91,784,670"}},{"$f":"'1월 지출 상세'!C71","v":{"v":7365100,"d":"7,365,100"}},{"$f":"VLOOKUP(F10, '1월 지출 상세'!$A$4:$G$96, 4, FALSE)","v":{"v":80752286,"d":"80,752,286"}},{"v":0.8798014526826756,"d":"88.0%"}]
["7. 선교헌금",{"$f":"'9월 수입 상세'!B19","v":{"v":5000000,"d":"5,000,000"}},{"$f":"'1월 수입 상세'!C19","v":0},{"$f":"VLOOKUP(A11, '1월 수입 상세'!$A$4:$F$29, 4, FALSE)","v":{"v":3973050,"d":"3,973,050"}},{"v":0.79461,"d":"79.5%"},"7. 장학금",null,{"$f":"'1월 지출 상세'!B86","v":{"v":66720000,"d":"66,720,000"}},{"$f":"'1월 지출 상세'!C86","v":0},{"$f":"VLOOKUP(F11, '1월 지출 상세'!$A$4:$G$96, 4, FALSE)","v":{"v":49300000,"d":"49,300,000"}},{"v":0.7389088729016786,"d":"73.9%"}]
["8. 지정헌금",{"$f":"'9월 수입 상세'!B22","v":{"v":20000000,"d":"20,000,000"}},{"$f":"'1월 수입 상세'!C22","v":{"v":3570000,"d":"3,570,000"}},{"$f":"VLOOKUP(A12, '1월 수입 상세'!$A$4:$F$29, 4, FALSE)","v":{"v":17704000,"d":"17,704,000"}},{"v":0.8852,"d":"88.5%"},"8. 예비비",null,{"$f":"'1월 지출 상세'!B92","v":{"v":32750000,"d":"32,750,000"}},{"$f":"'1월 지출 상세'!C92","v":{"v":10000000,"d":"10,000,000"}},{"$f":"VLOOKUP(F12, '1월 지출 상세'!$A$4:$G$96, 4, FALSE)","v":{"v":27035670,"d":"27,035,670"}},{"v":0.825516641221374,"d":"82.6%"}]
["9. 특별헌금(이웃사랑실천헌금 등)",{"$f":"'9월 수입 상세'!B23","v":{"v":13000000,"d":"13,000,000"}},{"$f":"'1월 수입 상세'!C23","v":0},{"$f":"VLOOKUP(A13, '1월 수입 상세'!$A$4:$F$29, 4, FALSE)","v":{"v":35737090,"d":"35,737,090"}},{"v":2.749006923076923,"d":"274.9%"},"9. 이웃사랑기금적립",null,{"$f":"'1월 지출 상세'!B93","v":0},{"$f":"'1월 지출 상세'!C93","v":0},{"$f":"VLOOKUP(F13, '1월 지출 상세'!$A$4:$G$96, 4, FALSE)","v":{"v":36205090,"d":"36,205,090"}}]
["헌금 수입 소계",{"$f":"SUM(B5:B13)","v":{"v":540000000,"d":"540,000,000"}},{"$f":"SUM(C5:C13)","v":{"v":37355900,"d":"37,355,900"}},{"$f":"SUM(D5:D13)","v":{"v":535410122,"d":"535,410,122"}},{"v":0.9915002259259259,"d":"99.2%"},"  일반 지출 소계",null,{"$f":"SUM(H5:H13)","v":{"v":633304670,"d":"633,304,670"}},{"$f":"SUM(I5:I13)","v":{"v":48066900,"d":"48,066,900"}},{"$f":"SUM(J5:J13)","v":{"v":584510161,"d":"584,510,161"}},{"$f":"J14/H14","v":{"v":0.9229525514157348,"d":"92.3%"}}]
["전기이월금 전입",{"$f":"'1월 수입 상세'!B25","v":{"v":40000000,"d":"40,000,000"}},{"$f":"'1월 수입 상세'!C25","v":0},{"$f":"'1월 수입 상세'!D25","v":{"v":40000000,"d":"40,000,000"}},{"v":1,"d":"100.0%"},"  차월이월",null,null,{"$f":"C14-I14","v":{"v":-10711000,"d":"-10,711,000"}},{"$f":"D19-J14","v":{"v":74204631,"d":"74,204,631"}}]
["전기이월금 추가전입",{"$f":"'1월 수입 상세'!B26","v":{"v":53304670,"d":"53,304,670"}},{"$f":"'1월 수입 상세'!C26","v":0},{"$f":"'1월 수입 상세'!D26","v":{"v":53304670,"d":"53,304,670"}}]
["헌금외 기금",null,{"$f":"'1월 수입 상세'!C27","v":0},{"$f":"'1월 수입 상세'!D27","v":{"v":30000000,"d":"30,000,000"}}]
["전월이월금",null,{"$f":"'1월 수입 상세'!C28","v":{"v":84915631,"d":"84,915,631"}}]
["수입부 총액",{"$f":"SUM(B14:B18)","v":{"v":633304670,"d":"633,304,670 "}},{"$f":"SUM(C14:C18)","v":{"v":122271531,"d":"122,271,531 "}},{"$f":"SUM(D14:D18)","v":{"v":658714792,"d":"658,714,792 "}},{"$f":"D19/B19","v":{"v":1.0401230611484358,"d":"104.0%"}},"  지출부 총액",null,{"$f":"SUM(H14:H18)","v":{"v":633304670,"d":"633,304,670 "}},{"$f":"SUM(I14:I18)","v":{"v":37355900,"d":"37,355,900 "}},{"$f":"SUM(J14:J18)","v":{"v":658714792,"d":"658,714,792 "}},{"$f":"J19/H19","v":{"v":1.0401230611484358,"d":"104.0%"}}]
["*지정헌금 내역(헌화헌금_3,570,000원)"]
["기금 및 이월금 현황 (2023.8.31 기준)",{"$nulls":4},"헌금 수입 및 지출 누계 비교"]
["기금명",null,"금액(이자포함)",{"$nulls":3},"2022년 1월","2023년 1월 ","2024년 1월"]
["박명윤이행자선교기금(FAA003023)",null,{"v":53656313,"d":"53,656,313"},null,null,"수입 누계",{"v":524601108,"d":"524,601,108"},{"v":530848475,"d":"530,848,475"},{"$f":"D14","v":{"v":535410122,"d":"535,410,122"}}]
["대학교회건축기금(FBA113041)",null,0,null,null,"지출 누계",{"v":440038131,"d":"440,038,131"},{"v":505404958,"d":"505,404,958"},{"$f":"J14","v":{"v":584510161,"d":"584,510,161"}}]
["국캠대학교회선교기금(FEA173001)",null,{"v":147405,"d":"147,405"}]
["이웃사랑기금(FEA183001)",null,{"v":90623173,"d":"90,623,173"}]
["유초등부발전기금(FAA213008)",null,{"v":18393529,"d":"18,393,529"}]
["기금 총액",null,{"$f":"SUM(C23:C27)","v":{"v":162820420,"d":"162,820,420 "}}]
[]
["*누적 이월금 (2023.3.1 기준 / 기금 및 전입금 제외)",null,{"v":453597137,"d":"453,597,137 "}]

{"sheet":"1월 수입 상세","index":32,"n_rows":29,"n_cols":6,"rows_kept":29,"merged":[[0,0,0,5]]}
["1월 수입 상세"]
["회계연도: 2023년도",{"$nulls":4},"(2023-1-31 현재)"]
[]
["분류항목","예산","당월","누계","집행률(%)","비고"]
["1. 주일헌금",{"v":160000000,"d":"160,000,000"},{"v":9769900,"d":"9,769,900"},{"$f":"SUM('12월 수입 상세'!D5+'1월 수입 상세'!C5)","v":{"v":139744224,"d":"139,744,224"}},{"$f":"D5/B5","v":{"v":0.8734014,"d":"87.3%"}}]
["2. 십일조",{"v":105000000,"d":"105,000,000"},{"v":8532000,"d":"8,532,000"},{"$f":"SUM('12월 수입 상세'!D6+'1월 수입 상세'!C6)","v":{"v":113445437,"d":"113,445,437"}},{"$f":"D6/B6","v":{"v":1.0804327333333332,"d":"108.0%"}}]
["3. 월정헌금",{"v":145000000,"d":"145,000,000"},{"v":9850000,"d":"9,850,000"},{"$f":"SUM('12월 수입 상세'!D7+'1월 수입 상세'!C7)","v":{"v":133475000,"d":"133,475,000"}},{"v":0.9205172413793103,"d":"92.1%"}]
["4. 감사헌금",{"v":35000000,"d":"35,000,000"},{"v":3691000,"d":"3,691,000"},{"$f":"SUM('12월 수입 상세'!D8+'1월 수입 상세'!C8)","v":{"v":39368000,"d":"39,368,000"}},{"v":1.1248,"d":"112.5%"}]
["5. 교육부헌금",{"$f":"SUM(B10:B14)","v":{"v":22000000,"d":"22,000,000"}},{"$f":"SUM(C10:C14)","v":{"v":1943000,"d":"1,943,000"}},{"$f":"SUM('12월 수입 상세'!D9+'1월 수입 상세'!C9)","v":{"v":19045321,"d":"19,045,321"}},{"v":0.8656964090909091,"d":"86.6%"}]
["   유치부",{"v":700000,"d":"700,000"},{"v":39000,"d":"39,000"},{"$f":"SUM('12월 수입 상세'!D10+'1월 수입 상세'!C10)","v":{"v":962049,"d":"962,049"}},{"v":1.3743557142857143,"d":"137.4%"}]
["   초등부",{"v":1000000,"d":"1,000,000"},{"v":146000,"d":"146,000"},{"$f":"SUM('12월 수입 상세'!D11+'1월 수입 상세'!C11)","v":{"v":1469000,"d":"1,469,000"}},{"v":1.469,"d":"146.9%"}]
["   중고등부",{"v":300000,"d":"300,000"},{"v":20000,"d":"20,000"},{"$f":"SUM('12월 수입 상세'!D12+'1월 수입 상세'!C12)","v":{"v":222722,"d":"222,722"}},{"v":0.7424066666666667,"d":"74.2%"}]
["   대학부(신촌)",{"v":7000000,"d":"7,000,000"},{"v":1619000,"d":"1,619,000"},{"$f":"SUM('12월 수입 상세'!D13+'1월 수입 상세'!C13)","v":{"v":11882338,"d":"11,882,338"}},{"v":1.6974768571428571,"d":"169.7%"}]
["   대학부(국제)",{"v":13000000,"d":"13,000,000"},{"v":119000,"d":"119,000"},{"$f":"SUM('12월 수입 상세'!D14+'1월 수입 상세'!C14)","v":{"v":4509212,"d":"4,509,212"}},{"v":0.34686246153846156,"d":"34.7%"}]
["6. 절기헌금",{"$f":"SUM(B16:B18)","v":{"v":35000000,"d":"35,000,000"}},{"$f":"SUM(C16:C18)","v":0},{"$f":"SUM('12월 수입 상세'!D15+'1월 수입 상세'!C15)","v":{"v":32918000,"d":"32,918,000"}},{"v":0.9405142857142857,"d":"94.1%"}]
["   부활절",{"v":10000000,"d":"10,000,000"},0,{"$f":"SUM('12월 수입 상세'!D16+'1월 수입 상세'!C16)","v":{"v":14256000,"d":"14,256,000"}},{"v":1.4256,"d":"142.6%"}]
["   추수감사절",{"v":10000000,"d":"10,000,000"},0,{"$f":"SUM('12월 수입 상세'!D17+'1월 수입 상세'!C17)","v":{"v":8859000,"d":"8,859,000"}},{"v":0.8859,"d":"88.6%"}]
["   성탄절",{"v":15000000,"d":"15,000,000"},0,{"$f":"SUM('12월 수입 상세'!D18+'1월 수입 상세'!C18)","v":{"v":9803000,"d":"9,803,000"}},{"v":0.6535333333333333,"d":"65.4%"}]
["7. 선교헌금",{"v":5000000,"d":"5,000,000"},{"$f":"SUM(C20:C21)","v":0},{"$f":"SUM('12월 수입 상세'!D19+'1월 수입 상세'!C19)","v":{"v":3973050,"d":"3,973,050"}},{"v":0.79461,"d":"79.5%"}]
["   선교헌금",{"v":2500000,"d":"2,500,000"},0,{"$f":"SUM('12월 수입 상세'!D20+'1월 수입 상세'!C20)","v":{"v":3973050,"d":"3,973,050"}},{"v":1.58922,"d":"158.9%"}]
["   특별선교헌금",{"v":2500000,"d":"2,500,000"},0,{"$f":"SUM('12월 수입 상세'!D21+'1월 수입 상세'!C21)","v":0},{"v":0,"d":"0.0%"}]
["8. 지정헌금",{"v":20000000,"d":"20,000,000"},{"v":3570000,"d":"3,570,000"},{"$f":"SUM('12월 수입 상세'!D22+'1월 수입 상세'!C22)","v":{"v":17704000,"d":"17,704,000"}},{"v":0.8852,"d":"88.5%"},"헌화헌금 3,570,000원"]
["9. 특별헌금(이웃사랑실천헌금 등)",{"v":13000000,"d":"13,000,000"},0,{"$f":"SUM('12월 수입 상세'!D23+'1월 수입 상세'!C23)","v":{"v":35737090,"d":"35,737,090"}},{"v":2.749006923076923,"d":"274.9%"}]
["헌금 수입 소계",{"$f":"SUM(B5,B6,B7,B8,B9,B15,B19,B22,B23)","v":{"v":540000000,"d":"540,000,000"}},{"$f":"SUM(C5,C6,C7,C8,C9,C15,C19,C22,C23)","v":{"v":37355900,"d":"37,355,900"}},{"$f":"SUM('12월 수입 상세'!D24+'1월 수입 상세'!C24)","v":{"v":535410122,"d":"535,410,122"}},{"v":0.9915002259259259,"d":"99.2%"}]
["전기이월금 전입",{"v":40000000,"d":"40,000,000"},0,{"v":40000000,"d":"40,000,000"},{"v":1,"d":"100.0%"}]
["전기이월금 추가전입",{"v":53304670,"d":"53,304,670"},0,{"v":53304670,"d":"53,304,670"}]
["헌금외 기금",null,0,{"v":30000000,"d":"30,000,000"}]
["전월이월금",null,{"$f":"'12월 약식'!J15","v":{"v":84915631,"d":"84,915,631"}}]
["수입부 총액",{"$f":"B24+B25+B26","v":{"v":633304670,"d":"633,304,670"}},{"$f":"SUM(C24:C28)","v":{"v":122271531,"d":"122,271,531"}},{"$f":"SUM(D24:D28)","v":{"v":658714792,"d":"658,714,792"}},{"v":1.0401230611484358,"d":"104.0%"}]

{"sheet":"1월 지출 상세","index":33,"n_rows":96,"n_cols":7,"rows_kept":96,"merged":[[0,0,0,6],[1,3,1,4]]}
["1월 지출 상세"]
["회계연도: 2023년도"]
[{"$nulls":6},"(2023-1-31 현재)"]
["분류항목","예산","당월","누계","집행률(%)",null,"비고"]
["1. 예배운영비",{"$f":"SUM(B6:B9)","v":{"v":22700000,"d":"22,700,000"}},{"$f":"SUM(C6:C9)","v":{"v":2486150,"d":"2,486,150"}},{"$f":"'12월 지출 상세'!D5+'1월 지출 상세'!C5","v":{"v":15544750,"d":"15,544,750"}},{"$f":"D5/B5","v":{"v":0.6847907488986784,"d":"68.5%"}},{"$f":"SUM(F6:F9)","v":0}]
["   1.1 성례예식비",{"v":1200000,"d":"1,200,000"},{"v":336400,"d":"336,400"},{"$f":"'12월 지출 상세'!D6+'1월 지출 상세'!C6","v":{"v":925350,"d":"925,350"}},{"$f":"D6/B6","v":{"v":0.771125,"d":"77.1%"}},{"$f":"IF($F$4=\"보정\", 보정치!E4)","v":false}]
["   1.2 주보인쇄비",{"v":4000000,"d":"4,000,000"},{"v":185200,"d":"185,200"},{"$f":"'12월 지출 상세'!D7+'1월 지출 상세'!C7","v":{"v":1875200,"d":"1,875,200"}},{"v":0.4688,"d":"46.9%"},{"$f":"IF($F$4=\"보정\", 보정치!E5)","v":false}]
["   1.3 강사접대비",{"v":2500000,"d":"2,500,000"},{"v":210700,"d":"210,700"},{"$f":"'12월 지출 상세'!D8+'1월 지출 상세'!C8","v":{"v":1389600,"d":"1,389,600"}},{"v":0.55584,"d":"55.6%"},{"$f":"IF($F$4=\"보정\", 보정치!E6)","v":false}]
["   1.4 예배준비비",{"$f":"SUM(B10:B12)","v":{"v":15000000,"d":"15,000,000"}},{"$f":"SUM(C10:C12)","v":{"v":1753850,"d":"1,753,850"}},{"$f":"'12월 지출 상세'!D9+'1월 지출 상세'!C9","v":{"v":11354600,"d":"11,354,600"}},{"v":0.7569733333333334,"d":"75.7%"},{"$f":"IF($F$4=\"보정\", 보정치!E7)","v":false}]
["      1.4.1 성전 꽃꽂이",{"v":10000000,"d":"10,000,000"},{"v":1240000,"d":"1,240,000"},{"$f":"'12월 지출 상세'!D10+'1월 지출 상세'!C10","v":{"v":8040000,"d":"8,040,000"}},{"v":0.804,"d":"80.4%"},{"$f":"IF($F$4=\"보정\", 보정치!E8)","v":false}]
["      1.4.2 봉사자 식사",{"v":4000000,"d":"4,000,000"},{"v":484350,"d":"484,350"},{"$f":"'12월 지출 상세'!D11+'1월 지출 상세'!C11","v":{"v":3175300,"d":"3,175,300"}},{"v":0.793825,"d":"79.4%"},{"$f":"IF($F$4=\"보정\", 보정치!E9)","v":false}]
["      1.4.3 절기행사비",{"v":1000000,"d":"1,000,000"},{"v":29500,"d":"29,500"},{"$f":"'12월 지출 상세'!D12+'1월 지출 상세'!C12","v":{"v":139300,"d":"139,300"}},{"v":0.1393,"d":"13.9%"},{"$f":"IF($F$4=\"보정\", 보정치!E10)","v":false}]
["2. 교육운영비",{"$f":"SUM(B14:B21)","v":{"v":30500000,"d":"30,500,000"}},{"$f":"SUM(C14:C21)","v":{"v":520000,"d":"520,000"}},{"$f":"'12월 지출 상세'!D13+'1월 지출 상세'!C13","v":{"v":23301605,"d":"23,301,605"}},{"v":0.7639870491803279,"d":"76.4%"},{"$f":"IF($F$4=\"보정\", 보정치!E11)","v":false}]
["   2.1 주일성서연구운영비",{"v":1000000,"d":"1,000,000"},0,{"$f":"'12월 지출 상세'!D14+'1월 지출 상세'!C14","v":0},{"v":0,"d":"0.0%"},{"$f":"IF($F$4=\"보정\", 보정치!E12)","v":false}]
["   2.2 도서 및 교재",{"v":2000000,"d":"2,000,000"},0,{"$f":"'12월 지출 상세'!D15+'1월 지출 상세'!C15","v":{"v":1699200,"d":"1,699,200"}},{"v":0.8496,"d":"85.0%"},{"$f":"IF($F$4=\"보정\", 보정치!E13)","v":false}]
["   2.3 전교인수양회 행사비",{"v":14000000,"d":"14,000,000"},0,{"$f":"'12월 지출 상세'!D16+'1월 지출 상세'!C16","v":{"v":16600990,"d":"16,600,990"}},{"v":1.185785,"d":"118.6%"},{"$f":"IF($F$4=\"보정\", 보정치!E14)","v":false}]
["   2.4 교목연수비",0,0,{"$f":"'12월 지출 상세'!D17+'1월 지출 상세'!C17","v":0},null,{"$f":"IF($F$4=\"보정\", 보정치!E15)","v":false}]
["   2.5 교역자 교육훈련비",{"v":3000000,"d":"3,000,000"},{"v":41400,"d":"41,400"},{"$f":"'12월 지출 상세'!D18+'1월 지출 상세'!C18","v":{"v":724540,"d":"724,540"}},{"v":0.24151333333333333,"d":"24.2%"},{"$f":"IF($F$4=\"보정\", 보정치!E16)","v":false}]
["   2.6 교사세미나/교역자workshop",{"v":3000000,"d":"3,000,000"},0,{"$f":"'12월 지출 상세'!D19+'1월 지출 상세'!C19","v":{"v":2166275,"d":"2,166,275"}},{"v":0.7220916666666667,"d":"72.2%"},{"$f":"IF($F$4=\"보정\", 보정치!E17)","v":false}]
["   2.7 교육부 운영비",{"v":7500000,"d":"7,500,000"},{"v":478600,"d":"478,600"},{"$f":"'12월 지출 상세'!D20+'1월 지출 상세'!C20","v":{"v":2110600,"d":"2,110,600"}},{"v":0.28141333333333335,"d":"28.1%"},{"$f":"IF($F$4=\"보정\", 보정치!E18)","v":false}]
["   2.8 교육운영 예비비",0,0,{"$f":"'12월 지출 상세'!D21+'1월 지출 상세'!C21","v":0},null,{"$f":"IF($F$4=\"보정\", 보정치!E19)","v":false}]
["3. 선교비",{"$f":"SUM(B23,B34,B35,B36,B37)","v":{"v":94480000,"d":"94,480,000"}},{"$f":"SUM(C23,C34:C37)","v":{"v":1868300,"d":"1,868,300"}},{"$f":"'12월 지출 상세'!D22+'1월 지출 상세'!C22","v":{"v":107078390,"d":"107,078,390"}},{"v":1.133344517358171,"d":"113.3%"},{"$f":"SUM(F23,F32,F33,F34,F35)","v":0}]
["   3.1 학원선교",{"$f":"SUM(B24:B33)","v":{"v":50960000,"d":"50,960,000"}},{"$f":"SUM(C24:C33)","v":{"v":1468300,"d":"1,468,300"}},{"$f":"'12월 지출 상세'!D23+'1월 지출 상세'!C23","v":{"v":45468300,"d":"45,468,300"}},{"v":0.8922350863422291,"d":"89.2%"},{"$f":"SUM(F24:F31)","v":0}]
["      3.1.1 간식나눔행사(신촌)",{"v":2000000,"d":"2,000,000"},0,{"$f":"'12월 지출 상세'!D24+'1월 지출 상세'!C24","v":{"v":2000000,"d":"2,000,000"}},{"v":1,"d":"100.0%"},{"$f":"IF($F$4=\"보정\", 보정치!E22)","v":false}]
["      3.1.2 간식나눔행사(국제)",{"v":1000000,"d":"1,000,000"},{"v":668300,"d":"668,300"},{"$f":"'12월 지출 상세'!D25+'1월 지출 상세'!C25","v":{"v":668300,"d":"668,300"}},{"v":0.6683,"d":"66.8%"},{"$f":"IF($F$4=\"보정\", 보정치!E23)","v":false}]
["      3.1.3 교목실 점심나눔 후원",{"v":27000000,"d":"27,000,000"},0,{"$f":"'12월 지출 상세'!D26+'1월 지출 상세'!C26","v":{"v":27000000,"d":"27,000,000"}},{"v":1,"d":"100.0%"},{"$f":"IF($F$4=\"보정\", 보정치!E24)","v":false}]
["      3.1.4 연세기독학생연합회 지원",{"v":3600000,"d":"3,600,000"},{"v":300000,"d":"300,000"},{"$f":"'12월 지출 상세'!D27+'1월 지출 상세'!C27","v":{"v":3300000,"d":"3,300,000"}},{"v":0.9166666666666666,"d":"91.7%"},{"$f":"IF($F$4=\"보정\", 보정치!E25)","v":false}]
["      3.1.5 연세기독학생회찬양팀 후원",{"v":2400000,"d":"2,400,000"},{"v":200000,"d":"200,000"},{"$f":"'12월 지출 상세'!D28+'1월 지출 상세'!C28","v":{"v":2200000,"d":"2,200,000"}},{"v":0.9166666666666666,"d":"91.7%"},{"$f":"IF($F$4=\"보정\", 보정치!E26)","v":false}]
["      3.1.6 YMK 후원",{"v":3600000,"d":"3,600,000"},{"v":300000,"d":"300,000"},{"$f":"'12월 지출 상세'!D29+'1월 지출 상세'!C29","v":{"v":3300000,"d":"3,300,000"}},{"v":0.9166666666666666,"d":"91.7%"},{"$f":"IF($F$4=\"보정\", 보정치!E27)","v":false}]
["      3.1.7 통일한마당",{"v":2400000,"d":"2,400,000"},0,{"$f":"'12월 지출 상세'!D30+'1월 지출 상세'!C30","v":{"v":2000000,"d":"2,000,000"}},{"v":0.8333333333333334,"d":"83.3%"},{"$f":"IF($F$4=\"보정\", 보정치!E28)","v":false}]
["      3.1.8 리틀언더우드 후원",{"v":5000000,"d":"5,000,000"},0,{"$f":"'12월 지출 상세'!D31+'1월 지출 상세'!C31","v":{"v":5000000,"d":"5,000,000"}},{"v":1,"d":"100.0%"},0]
["      3.1.9 멘토멘티프로그램",{"v":3960000,"d":"3,960,000"},0,{"$f":"'12월 지출 상세'!D32+'1월 지출 상세'!C32","v":0},{"v":0,"d":"0.0%"},0]
["      3.1.10 학원선교 기타",0,0,{"$f":"'12월 지출 상세'!D33+'1월 지출 상세'!C33","v":0},null,{"$f":"IF($F$4=\"보정\", 보정치!E31)","v":false}]
["   3.2 국외선교",{"v":4800000,"d":"4,800,000"},{"v":400000,"d":"400,000"},{"$f":"'12월 지출 상세'!D34+'1월 지출 상세'!C34","v":{"v":4400000,"d":"4,400,000"}},{"v":0.9166666666666666,"d":"91.7%"},{"$f":"IF($F$4=\"보정\", 보정치!E32)","v":false},"함정희, 노규래 "]
["   3.3 이웃사랑 실천헌금",{"v":9000000,"d":"9,000,000"},0,{"$f":"'12월 지출 상세'!D35+'1월 지출 상세'!C35","v":0},{"v":0,"d":"0.0%"},{"$f":"IF($F$4=\"보정\", 보정치!E33)","v":false}]
["   3.4 지정헌금",{"v":29720000,"d":"29,720,000"},0,{"$f":"'12월 지출 상세'!D36+'1월 지출 상세'!C36","v":{"v":57210090,"d":"57,210,090"}},{"v":1.9249693808882906,"d":"192.5%"},{"$f":"IF($F$4=\"보정\", 보정치!E34)","v":false}]
["   3.5 선교예비금",0,0,{"$f":"'12월 지출 상세'!D37+'1월 지출 상세'!C37","v":0},null,{"$f":"IF($F$4=\"보정\", 보정치!E35)","v":false}]
["4. 친교행사운영비",{"$f":"SUM(B39:B49)-B47","v":{"v":27600000,"d":"27,600,000"}},{"$f":"SUM(C39:C46,C48:C49)","v":{"v":3721350,"d":"3,721,350"}},{"$f":"'12월 지출 상세'!D38+'1월 지출 상세'!C38","v":{"v":18027370,"d":"18,027,370"}},{"v":0.6531655797101449,"d":"65.3%"},{"$f":"SUM(F39:F49)-F47","v":0}]
["   4.1 주일공동식사",{"v":7000000,"d":"7,000,000"},{"v":814200,"d":"814,200"},{"$f":"'12월 지출 상세'!D39+'1월 지출 상세'!C39","v":{"v":5243600,"d":"5,243,600"}},{"v":0.7490857142857142,"d":"74.9%"},{"$f":"IF($F$4=\"보정\", 보정치!E37)","v":false}]
["   4.2 야외예배 행사비",0,0,{"$f":"'12월 지출 상세'!D40+'1월 지출 상세'!C40","v":0},null,{"$f":"IF($F$4=\"보정\", 보정치!E38)","v":false}]
["   4.3 경로행사비",{"v":1500000,"d":"1,500,000"},0,{"$f":"'12월 지출 상세'!D41+'1월 지출 상세'!C41","v":{"v":1500000,"d":"1,500,000"}},{"v":1,"d":"100.0%"},{"$f":"IF($F$4=\"보정\", 보정치!E39)","v":false}]
["   4.4 성탄행사비",{"v":2100000,"d":"2,100,000"},{"v":1961650,"d":"1,961,650"},{"$f":"'12월 지출 상세'!D42+'1월 지출 상세'!C42","v":{"v":2086650,"d":"2,086,650"}},{"v":0.9936428571428572,"d":"99.4%"},{"$f":"IF($F$4=\"보정\", 보정치!E40)","v":false}]
["   4.5 주일다과비",{"v":5000000,"d":"5,000,000"},{"v":865500,"d":"865,500"},{"$f":"'12월 지출 상세'!D43+'1월 지출 상세'!C43","v":{"v":1786790,"d":"1,786,790"}},{"v":0.357358,"d":"35.7%"},{"$f":"IF($F$4=\"보정\", 보정치!E41)","v":false}]
["   4.6 경조비",{"v":4000000,"d":"4,000,000"},{"v":80000,"d":"80,000"},{"$f":"'12월 지출 상세'!D44+'1월 지출 상세'!C44","v":{"v":3354100,"d":"3,354,100"}},{"v":0.838525,"d":"83.9%"},{"$f":"IF($F$4=\"보정\", 보정치!E42)","v":false}]
["   4.7 교우친교비",{"v":2000000,"d":"2,000,000"},0,{"$f":"'12월 지출 상세'!D45+'1월 지출 상세'!C45","v":{"v":1096440,"d":"1,096,440"}},{"v":0.54822,"d":"54.8%"},{"$f":"IF($F$4=\"보정\", 보정치!E43)","v":false}]
["   4.8 홍보출판비",{"v":4000000,"d":"4,000,000"},{"$f":"C47","v":0},{"$f":"'12월 지출 상세'!D46+'1월 지출 상세'!C46","v":{"v":2000000,"d":"2,000,000"}},{"v":0.5,"d":"50.0%"},{"$f":"IF($F$4=\"보정\", 보정치!E44)","v":false}]
["      4.8.1 대학교회 회지",{"v":4000000,"d":"4,000,000"},0,{"$f":"'12월 지출 상세'!D47+'1월 지출 상세'!C47","v":{"v":2000000,"d":"2,000,000"}},{"v":0.5,"d":"50.0%"},{"$f":"IF($F$4=\"보정\", 보정치!E45)","v":false}]
["   4.9 교회봉사자 선물",{"v":2000000,"d":"2,000,000"},0,{"$f":"'12월 지출 상세'!D48+'1월 지출 상세'!C48","v":{"v":959790,"d":"959,790"}},{"v":0.479895,"d":"48.0%"},{"$f":"IF($F$4=\"보정\", 보정치!E46)","v":false}]
["   4.10 친교행사 예비비",0,0,{"$f":"'12월 지출 상세'!D49+'1월 지출 상세'!C49","v":0},null,{"$f":"IF($F$4=\"보정\", 보정치!E47)","v":false}]
["5. 사례비",{"$f":"SUM(B51:B66,B69,B70)","v":{"v":266770000,"d":"266,770,000"}},{"$f":"SUM(C51:C66,C69:C70)","v":{"v":22106000,"d":"22,106,000"}},{"$f":"'12월 지출 상세'!D50+'1월 지출 상세'!C50","v":{"v":227265000,"d":"227,265,000"}},{"v":0.8519136334670315,"d":"85.2%"},{"$f":"SUM(F51:F70)","v":0}]
["   5.1 외부강사 설교 사례",{"v":12000000,"d":"12,000,000"},{"v":900000,"d":"900,000"},{"$f":"'12월 지출 상세'!D51+'1월 지출 상세'!C51","v":{"v":11700000,"d":"11,700,000"}},{"v":0.975,"d":"97.5%"},{"$f":"IF($F$4=\"보정\", 보정치!E47)","v":false}]
["   5.2 외부강사 설교 사례(대학부-국제)",{"v":2400000,"d":"2,400,000"},{"v":300000,"d":"300,000"},{"$f":"'12월 지출 상세'!D52+'1월 지출 상세'!C52","v":{"v":500000,"d":"500,000"}},{"v":0.20833333333333334,"d":"20.8%"},{"$f":"IF($F$4=\"보정\", 보정치!E48)","v":false}]
["   5.3 절기 예배 연주자",{"v":800000,"d":"800,000"},0,{"$f":"'12월 지출 상세'!D53+'1월 지출 상세'!C53","v":0},{"v":0,"d":"0.0%"},{"$f":"IF($F$4=\"보정\", 보정치!E49)","v":false}]
["   5.4 국악 예배 연주자",{"v":1800000,"d":"1,800,000"},0,{"$f":"'12월 지출 상세'!D54+'1월 지출 상세'!C54","v":{"v":1800000,"d":"1,800,000"}},{"v":1,"d":"100.0%"},{"$f":"IF($F$4=\"보정\", 보정치!E50)","v":false}]
["   5.5 봉헌송 사례",{"v":450000,"d":"450,000"},0,{"$f":"'12월 지출 상세'!D55+'1월 지출 상세'!C55","v":{"v":300000,"d":"300,000"}},{"v":0.6666666666666666,"d":"66.7%"},{"$f":"IF($F$4=\"보정\", 보정치!E51)","v":false}]
["   5.6 주일성서연구 강사사례",{"v":4000000,"d":"4,000,000"},0,{"$f":"'12월 지출 상세'!D56+'1월 지출 상세'!C56","v":{"v":4000000,"d":"4,000,000"}},{"v":1,"d":"100.0%"},{"$f":"IF($F$4=\"보정\", 보정치!E52)","v":false}]
["   5.8 담임목사 ",{"v":14400000,"d":"14,400,000"},{"v":1200000,"d":"1,200,000"},{"$f":"'12월 지출 상세'!D57+'1월 지출 상세'!C57","v":{"v":13200000,"d":"13,200,000"}},{"v":0.9166666666666666,"d":"91.7%"},{"$f":"IF($F$4=\"보정\", 보정치!E53)","v":false}]
["   5.9 동역목사",{"v":12000000,"d":"12,000,000"},{"v":200000,"d":"200,000"},{"$f":"'12월 지출 상세'!D58+'1월 지출 상세'!C58","v":{"v":4400000,"d":"4,400,000"}},{"v":0.36666666666666664,"d":"36.7%"},{"$f":"IF($F$4=\"보정\", 보정치!E54)","v":false}]
["   5.10 전임교역자",{"v":100000000,"d":"100,000,000"},{"v":10000000,"d":"10,000,000"},{"$f":"'12월 지출 상세'!D59+'1월 지출 상세'!C59","v":{"v":89900000,"d":"89,900,000"}},{"v":0.899,"d":"89.9%"},{"$f":"IF($F$4=\"보정\", 보정치!E55)","v":false},"전임교역자 퇴직금 정산"]
["   5.11 성가대지휘자",{"v":12000000,"d":"12,000,000"},{"v":1000000,"d":"1,000,000"},{"$f":"'12월 지출 상세'!D60+'1월 지출 상세'!C60","v":{"v":11000000,"d":"11,000,000"}},{"v":0.9166666666666666,"d":"91.7%"},{"$f":"IF($F$4=\"보정\", 보정치!E56)","v":false}]
["   5.12 오르가니스트",{"v":12000000,"d":"12,000,000"},{"v":1000000,"d":"1,000,000"},{"$f":"'12월 지출 상세'!D61+'1월 지출 상세'!C61","v":{"v":11000000,"d":"11,000,000"}},{"v":0.9166666666666666,"d":"91.7%"},{"$f":"IF($F$4=\"보정\", 보정치!E57)","v":false}]
["   5.13 교육부서 담당교역자",{"v":38400000,"d":"38,400,000"},{"v":3200000,"d":"3,200,000"},{"$f":"'12월 지출 상세'!D62+'1월 지출 상세'!C62","v":{"v":32000000,"d":"32,000,000"}},{"v":0.8333333333333334,"d":"83.3%"},{"$f":"IF($F$4=\"보정\", 보정치!E58)","v":false}]
["   5.14 성인 솔리스트",{"v":23520000,"d":"23,520,000"},{"v":1960000,"d":"1,960,000"},{"$f":"'12월 지출 상세'!D63+'1월 지출 상세'!C63","v":{"v":21220000,"d":"21,220,000"}},{"v":0.9022108843537415,"d":"90.2%"},{"$f":"IF($F$4=\"보정\", 보정치!E59)","v":false}]
["   5.15 통역자",{"v":4000000,"d":"4,000,000"},{"v":300000,"d":"300,000"},{"$f":"'12월 지출 상세'!D64+'1월 지출 상세'!C64","v":{"v":3600000,"d":"3,600,000"}},{"v":0.9,"d":"90.0%"},{"$f":"IF($F$4=\"보정\", 보정치!E60)","v":false}]
["   5.16 방송담당",{"v":12000000,"d":"12,000,000"},{"v":1050000,"d":"1,050,000"},{"$f":"'12월 지출 상세'!D65+'1월 지출 상세'!C65","v":{"v":10950000,"d":"10,950,000"}},{"v":0.9125,"d":"91.3%"},{"$f":"IF($F$4=\"보정\", 보정치!E61)","v":false}]
["   5.17 용원 사례비 ",{"$f":"SUM(B67:B68)","v":{"v":11000000,"d":"11,000,000"}},{"$f":"SUM(C67:C68)","v":{"v":996000,"d":"996,000"}},{"$f":"'12월 지출 상세'!D66+'1월 지출 상세'!C66","v":{"v":9495000,"d":"9,495,000"}},{"v":0.8631818181818182,"d":"86.3%"},{"$f":"IF($F$4=\"보정\", 보정치!E62)","v":false}]
["      5.17.1 관리실 여사",{"v":6000000,"d":"6,000,000"},{"v":510000,"d":"510,000"},{"$f":"'12월 지출 상세'!D67+'1월 지출 상세'!C67","v":{"v":5526000,"d":"5,526,000"}},{"v":0.921,"d":"92.1%"},{"$f":"IF($F$4=\"보정\", 보정치!E63)","v":false}]
["      5.17.2 관리실 반장",{"v":5000000,"d":"5,000,000"},{"v":486000,"d":"486,000"},{"$f":"'12월 지출 상세'!D68+'1월 지출 상세'!C68","v":{"v":3969000,"d":"3,969,000"}},{"v":0.7938,"d":"79.4%"},{"$f":"IF($F$4=\"보정\", 보정치!E64)","v":false}]
["   5.18 퇴직위로금",{"v":3000000,"d":"3,000,000"},0,{"$f":"'12월 지출 상세'!D69+'1월 지출 상세'!C69","v":0},{"v":0,"d":"0.0%"},{"$f":"IF($F$4=\"보정\", 보정치!E65)","v":false}]
["   5.19 기타(교역자휴가 및 기타인건비)",{"v":3000000,"d":"3,000,000"},0,{"$f":"'12월 지출 상세'!D70+'1월 지출 상세'!C70","v":{"v":2200000,"d":"2,200,000"}},{"v":0.7333333333333333,"d":"73.3%"},{"$f":"IF($F$4=\"보정\", 보정치!E66)","v":false}]
["6. 행정운영비",{"$f":"SUM(B72:B74,B81,B82,B83,B84,B85)","v":{"v":91784670,"d":"91,784,670"}},{"$f":"SUM(C72:C74,C81:C85)","v":{"v":7365100,"d":"7,365,100"}},{"$f":"'12월 지출 상세'!D71+'1월 지출 상세'!C71","v":{"v":80752286,"d":"80,752,286"}},{"v":0.8798014526826756,"d":"88.0%"},{"$f":"SUM(F72:F74,F81,F82,F83,F84,F85)","v":0}]
["   6.1 회의 및 교회위원회",{"v":6131500,"d":"6,131,500"},{"v":1135030,"d":"1,135,030"},{"$f":"'12월 지출 상세'!D72+'1월 지출 상세'!C72","v":{"v":5787140,"d":"5,787,140"}},{"v":0.9438375601402593,"d":"94.4%"},{"$f":"IF($F$4=\"보정\", 보정치!E70)","v":false}]
["   6.2 사무운영비",{"v":13377270,"d":"13,377,270"},{"v":1401430,"d":"1,401,430"},{"$f":"'12월 지출 상세'!D73+'1월 지출 상세'!C73","v":{"v":9290746,"d":"9,290,746"}},{"$f":"D73/B73","v":{"v":0.6945173417296653,"d":"69.5%"}},{"$f":"IF($F$4=\"보정\", 보정치!E71)","v":false}]
["   6.3 부서운영비",{"$f":"SUM(B75:B80)","v":{"v":52204200,"d":"52,204,200"}},{"$f":"SUM(C75:C80)","v":{"v":3807000,"d":"3,807,000"}},{"$f":"'12월 지출 상세'!D74+'1월 지출 상세'!C74","v":{"v":50052180,"d":"50,052,180"}},{"v":0.9587768800211477,"d":"95.9%"},{"$f":"IF($F$4=\"보정\", 보정치!E72)","v":false}]
["      6.3.1 성가대",{"v":14504200,"d":"14,504,200"},{"v":1100000,"d":"1,100,000"},{"$f":"'12월 지출 상세'!D75+'1월 지출 상세'!C75","v":{"v":13913200,"d":"13,913,200"}},{"v":0.9592531818369852,"d":"95.9%"},{"$f":"IF($F$4=\"보정\", 보정치!E73)","v":false}]
["      6.3.2 유치부",{"v":4500000,"d":"4,500,000"},{"v":400000,"d":"400,000"},{"$f":"'12월 지출 상세'!D76+'1월 지출 상세'!C76","v":{"v":4500000,"d":"4,500,000"}},{"v":1,"d":"100.0%"},{"$f":"IF($F$4=\"보정\", 보정치!E74)","v":false}]
["      6.3.3 초등부",{"v":7100000,"d":"7,100,000"},{"v":600000,"d":"600,000"},{"$f":"'12월 지출 상세'!D77+'1월 지출 상세'!C77","v":{"v":7100000,"d":"7,100,000"}},{"v":1,"d":"100.0%"},{"$f":"IF($F$4=\"보정\", 보정치!E75)","v":false}]
["      6.3.4 중고등부",{"v":5100000,"d":"5,100,000"},0,{"$f":"'12월 지출 상세'!D78+'1월 지출 상세'!C78","v":{"v":5100000,"d":"5,100,000"}},{"v":1,"d":"100.0%"},{"$f":"IF($F$4=\"보정\", 보정치!E76)","v":false}]
["      6.3.5 대학부(신촌)",{"v":12000000,"d":"12,000,000"},{"v":1257000,"d":"1,257,000"},{"$f":"'12월 지출 상세'!D79+'1월 지출 상세'!C79","v":{"v":10888980,"d":"10,888,980"}},{"v":0.907415,"d":"90.7%"},{"$f":"IF($F$4=\"보정\", 보정치!E77)","v":false}]
["      6.3.6 대학부(국제)",{"v":9000000,"d":"9,000,000"},{"v":450000,"d":"450,000"},{"$f":"'12월 지출 상세'!D80+'1월 지출 상세'!C80","v":{"v":8550000,"d":"8,550,000"}},{"v":0.95,"d":"95.0%"},{"$f":"IF($F$4=\"보정\", 보정치!E78)","v":false}]
["   6.4 목회활동비",{"v":7571700,"d":"7,571,700"},{"v":806400,"d":"806,400"},{"$f":"'12월 지출 상세'!D81+'1월 지출 상세'!C81","v":{"v":6999440,"d":"6,999,440"}},{"v":0.9244211999947172,"d":"92.4%"},{"$f":"IF($F$4=\"보정\", 보정치!E79)","v":false}]
["   6.5 용품 및 수리비",{"v":5000000,"d":"5,000,000"},{"v":202400,"d":"202,400"},{"$f":"'12월 지출 상세'!D82+'1월 지출 상세'!C82","v":{"v":4824680,"d":"4,824,680"}},{"v":0.964936,"d":"96.5%"},{"$f":"IF($F$4=\"보정\", 보정치!E80)","v":false}]
["   6.6 연료비 및 통신비",{"v":4000000,"d":"4,000,000"},{"v":12840,"d":"12,840"},{"$f":"'12월 지출 상세'!D83+'1월 지출 상세'!C83","v":{"v":2708100,"d":"2,708,100"}},{"$f":"D83/B83","v":{"v":0.677025,"d":"67.7%"}},{"$f":"IF($F$4=\"보정\", 보정치!E81)","v":false}]
["   6.7 악기구입 및 보수",{"v":3500000,"d":"3,500,000"},0,{"$f":"'12월 지출 상세'!D84+'1월 지출 상세'!C84","v":{"v":1090000,"d":"1,090,000"}},{"$f":"D84/B84","v":{"v":0.31142857142857144,"d":"31.1%"}},{"$f":"IF($F$4=\"보정\", 보정치!E82)","v":false}]
["   6.8 행정운영 예비비",0,0,{"$f":"'12월 지출 상세'!D85+'1월 지출 상세'!C85","v":0},null,{"$f":"IF($F$4=\"보정\", 보정치!E83)","v":false}]
["7. 장학금",{"$f":"SUM(B87:B91)","v":{"v":66720000,"d":"66,720,000"}},{"$f":"SUM(C87:C91)","v":0},{"$f":"'12월 지출 상세'!D86+'1월 지출 상세'!C86","v":{"v":49300000,"d":"49,300,000"}},{"v":0.7389088729016786,"d":"73.9%"},{"$f":"SUM(F87:F91)","v":0}]
["   7.1 교회학교 교사",{"v":21000000,"d":"21,000,000"},0,{"$f":"'12월 지출 상세'!D87+'1월 지출 상세'!C87","v":{"v":8400000,"d":"8,400,000"}},{"v":0.4,"d":"40.0%"},{"$f":"IF($F$4=\"보정\", 보정치!E83)","v":false}]
["   7.2 신촌 대학청년부",{"v":12000000,"d":"12,000,000"},0,{"$f":"'12월 지출 상세'!D88+'1월 지출 상세'!C88","v":{"v":10500000,"d":"10,500,000"}},{"v":0.875,"d":"87.5%"},{"$f":"IF($F$4=\"보정\", 보정치!E84)","v":false}]
["   7.3 국제 대학부",{"v":9000000,"d":"9,000,000"},0,{"$f":"'12월 지출 상세'!D89+'1월 지출 상세'!C89","v":{"v":7200000,"d":"7,200,000"}},{"v":0.8,"d":"80.0%"},{"$f":"IF($F$4=\"보정\", 보정치!E85)","v":false}]
["   7.4 학생 솔리스트",{"v":16320000,"d":"16,320,000"},0,{"$f":"'12월 지출 상세'!D90+'1월 지출 상세'!C90","v":{"v":15640000,"d":"15,640,000"}},{"v":0.9583333333333334,"d":"95.8%"},{"$f":"IF($F$4=\"보정\", 보정치!E86)","v":false}]
["   7.5 기숙사지원",{"v":8400000,"d":"8,400,000"},0,{"$f":"'12월 지출 상세'!D91+'1월 지출 상세'!C91","v":{"v":7560000,"d":"7,560,000"}},{"v":0.9,"d":"90.0%"},{"$f":"IF($F$4=\"보정\", 보정치!E87)","v":false}]
["8. 예비비",{"v":32750000,"d":"32,750,000"},{"v":10000000,"d":"10,000,000"},{"$f":"'12월 지출 상세'!D92+'1월 지출 상세'!C92","v":{"v":27035670,"d":"27,035,670"}},{"v":0.825516641221374,"d":"82.6%"},{"$f":"IF($F$4=\"보정\", 보정치!E90)","v":false},"성탄헌금 구제후원"]
["9. 이웃사랑기금적립",0,0,{"$f":"'12월 지출 상세'!D93+'1월 지출 상세'!C93","v":{"v":36205090,"d":"36,205,090"}},null,{"$f":"IF($F$4=\"보정\", 보정치!E91)","v":false}]
["일반 지출 소계",{"$f":"SUM(B5,B13,B22,B38,B50,B71,B86,B92,B93)","v":{"v":633304670,"d":"633,304,670"}},{"$f":"SUM(C5,C13,C22,C38,C50,C71,C86,C92,C93)","v":{"v":48066900,"d":"48,066,900"}},{"$f":"'12월 지출 상세'!D94+'1월 지출 상세'!C94","v":{"v":584510161,"d":"584,510,161"}},{"v":0.9229525514157348,"d":"92.3%"},{"$f":"SUM(F86,F71,F50,F38,F22,F13,F5)","v":0}]
["차월이월",null,{"$f":"'1월 수입 상세'!C24-'1월 지출 상세'!C94","v":{"v":-10711000,"d":"-10,711,000"}},{"$f":"'1월 수입 상세'!D29-'1월 지출 상세'!D94","v":{"v":74204631,"d":"74,204,631"}}]
["지출부 총액",{"$f":"B94+B95","v":{"v":633304670,"d":"633,304,670"}},{"$f":"C94+C95","v":{"v":37355900,"d":"37,355,900"}},{"$f":"D94+D95","v":{"v":658714792,"d":"658,714,792"}},{"v":1.0401230611484358,"d":"104.0%"}]